{"text_format":"1","workbook":"xlsx","n_sheets":7,"sheets":["Interfaz","Poblacion","etapas y mredes","Etapas de Vida","Piramide Poblacional","Demografia","Pobla_EESS"],"not_rendered":{"charts":7,"images":19,"macros":1,"external_links":1,"defined_names":42,"comments":1,"pivot_tables":0},"unopened":[],"bounds":{"document_bytes":16777216,"sheet_cells":100000,"rows_first":2000,"rows_last":500,"rows_between":2000,"halvings":0,"cell_chars":16384,"cell_head_chars":4096},"cells_cut":0,"cells_raw":0,"read":"whole","date_system":"1900"}

{"sheet":"Interfaz","index":0,"n_rows":27,"n_cols":18,"rows_kept":27,"cut":false,"hidden":false,"merged":[[4,2,7,11],[9,2,11,11]]}
[]
[]
[]
[]
[null,null,"POBLACIÓN ASIGNADA 2025 SEGÚN CENSOS INEI - RENIEC - PN - CNV"]
[]
[]
[]
[]
[null,null,"RED INTEGRADA DE SALUD HUAURA OYÓN"]
[]
[]
[]
[]
[]
[]
[]
[]
[]
[]
[]
[null,null,"Elaboración: Área de Estadística - RIS Huaura Oyón."]
[null,null,"NOTA: LA POBLACION ESTIMADA DE EDADES  SIMPLES Y GRUPOS DE EDAD DE DISTRITOS, CORRESPONDEN A CIFRAS REFERENCIALES HASTA OBTENER LAS CIFRAS DE LAS PROYECCIONES DEL INEI"]
[null,null,"FUENTE: CENSO NACIONAL XI DE POBLACION Y VI DE VIVIENDA 2017/- BOLETIN DEMOGRAFICO Nº 26,37, 39 / RENIEC / Padrón Nominal / CNV"]
[null,null,"La población de 0-5 años corresponden a una proyección de la poblacion del Padrón Nominal (cifras preliminares) /corte al mes de Diciembre 2021."]
[null,null,"OFICINA DE GESTION DE LA INFORMACIÓN - MINISTERIO DE SALUD"]
[null,null,null,null,null,null,null,null,null,null,null,null,null,null,null,null,null,"Versión1.021"]

{"sheet":"Poblacion","index":1,"n_rows":94,"n_cols":127,"rows_kept":94,"cut":false,"hidden":false,"merged":[[4,74,4,75],[5,74,5,75],[5,78,5,79],[4,84,6,84],[4,119,5,120],[4,121,5,122],[4,123,5,124],[4,125,5,126],[3,117,3,126],[4,118,6,118],[4,117,6,117],[5,104,6,104],[4,104,4,109],[4,111,4,115],[5,111,5,112],[5,113,6,113],[5,114,6,114],[5,115,6,115],[5,109,6,109],[5,108,6,108],[5,107,6,107],[5,106,6,106],[5,105,6,105],[5,76,5,77],[2,91,2,98],[4,98,6,98],[4,97,6,97],[4,96,6,96],[4,91,6,91],[4,92,6,92],[4,93,6,93],[4,95,6,95],[4,94,6,94],[4,100,6,100],[4,101,6,101],[4,102,6,102],[4,85,6,85],[4,86,5,88],[4,89,6,89],[4,79,4,83],[5,80,5,81],[5,82,5,83],[4,76,4,77],[5,72,5,73],[5,62,5,63],[4,64,4,65],[5,64,5,65],[4,66,4,67],[5,60,5,61],[5,44,5,45],[5,46,5,47],[5,48,5,49],[5,50,5,51],[4,50,4,51],[4,48,4,49],[4,58,4,59],[5,66,5,67],[5,58,5,59],[4,56,4,57],[5,56,5,57],[4,72,4,73],[4,60,4,61],[4,62,4,63],[4,68,4,69],[5,68,5,69],[4,70,4,71],[5,70,5,71],[5,36,5,37],[4,52,4,53],[4,54,4,55],[5,52,5,53],[5,54,5,55],[1,18,1,43],[2,18,2,43],[4,36,4,37],[4,26,4,27],[3,18,3,43],[4,24,4,25],[5,24,5,25],[4,34,4,35],[4,16,4,17],[4,18,4,19],[5,16,5,17],[5,18,5,19],[4,20,4,21],[5,20,5,21],[4,22,4,23],[5,22,5,23],[4,28,4,29],[4,5,6,5],[4,44,4,45],[4,46,4,47],[4,7,6,7],[4,8,6,8],[5,28,5,29],[4,30,4,31],[5,30,5,31],[4,32,4,33],[5,32,5,33],[4,38,4,39],[5,38,5,39],[4,40,4,41],[5,40,5,41],[4,42,4,43],[5,42,5,43],[5,26,5,27],[5,34,5,35],[4,10,4,11],[5,10,5,11],[4,12,4,13],[5,12,5,13],[4,14,4,15],[5,14,5,15]]}
[null,null,1,2,3,4,5,6,7,8,9,10,11,12,13,14,15,16,17,18,19,20,21,22,23,24,25,26,27,28,29,30,31,32,33,34,35,36,37,38,39,40,41,42,43,44,45,46,47,48,49,50,51,52,53,54,55,56,57,58,59,60,61,62,63,64,65,66,67,68,69,70,71,72,73,74,75,76,77,78,79,80,81,82,83,84,85,86,87,88,89,90,91,92,93,94,95,96,97,98,99,100,101,102,103,104,105,106,107,108,109,110,111,112,113,114,115,116,117,118,119,120,121,122,123,124,125]
[null,null,null,null,null,null,null,null,null,null,null,null,null,null,null,null,null,null,"POBLACIÓN ESTIMADA POR GRUPOS DE EDAD, SEGÚN PROVINCIAS DISTRITOS Y ESTABLECIMIENTOS DE SALUD"]
[null,null,null,null,null,null,null,null,null,null,null,null,null,null,null,null,null,null,"RED INTEGRADA DE SALUD HUAURA OYON   -   AÑO  2025",null,null,null,null,null,null,null,null,null,null,null,null,null,null,null,null,null,null,null,null,null,null,null,null,null,null,null,null,null,null,null,null,null,null,null,null,null,null,null,null,null,null,null,null,null,null,null,null,null,null,null,null,null,null,null,null,null,null,null,null,null,null,null,null,null,null,null,null,null,null,null,null,"MAS GRUPOS DE EDAD"]
[null,null,null,null,null,null,null,null,null,null,null,null,null,null,null,null,null,null,"EDADES PUNTUALES Y GRUPOS DE EDAD",null,null,null,null,null,null,null,null,null,null,null,null,null,null,null,null,null,null,null,null,null,null,null,null,null,null,null,null,null,null,null,null,null,null,null,null,null,null,null,null,null,null,null,null,null,null,null,null,null,null,null,null,null,null,null,null,null,null,null,null,null,null,null,null,null,null,null,null,null,null,null,null,null,null,null,null,null,null,null,null,null,null,null,null,null,null,null,null,null,null,null,null,null,null,null,null,null,null,"Varones"]
[null,null,"N°",null,"DIRECCION DE SALUD","TOTAL GENERAL",null,"TOTAL MASCULINO","TOTAL FEMENINO",null,"EDAD",null,"EDAD",null,"EDAD",null,"EDAD",null,"EDAD",null,"EDAD",null,"EDAD",null,"EDAD",null,"EDAD",null,"EDAD",null,"EDAD",null,"EDAD",null,"EDAD",null,"EDAD",null,"EDAD",null,"EDAD",null,"EDAD",null,"EDAD",null,"EDAD",null,"EDAD",null,"EDAD",null,"EDAD",null,"EDAD",null,"EDAD",null,"EDAD",null,"EDAD",null,"EDAD",null,"EDAD",null,"EDAD",null,"EDAD",null,"EDAD",null,"EDAD",null,"EDAD",null,"EDAD",null,null,"EDADES ESPECIALES",null,null,null,null,"NACIMIENTOS","POBLACION FEMENINA TOTAL","POBLACION FEMENINA",null,null,"GESTANTES  ESPERADAS",null,"menor de 1 Año","Pre escolar         (1-4)","Niño             (0 - 11)","Escolar               (05 - 17)","Adolescente (12 - 17)","Adulto Joven (18 - 29)","Adulto            (30-59)","Adu.Mayor (60 a MAS)",null,"Escolar\n (05 - 09)","Adolescente (10 - 19)","Adulto \n(20-59)",null,"Poblacion: PADRON NOMINAL al 31_12_2023",null,null,null,null,null,null,"OTROS GRUPOS ESPECIALES (CONVENIO)",null,null,null,null,null,"Población Hombres Adolescentes               (14 -17 años)","Población Hombres (18 - 59 años)","(0 -13 años)",null,"(14 -17 años)",null,"(18 -59 años)",null,"(60 años a màs)"]
["UBIGEO",null,null,null,"PROVINCIA",null,null,null,null,null,0,null,1,null,2,null,3,null,4,null,5,null,6,null,7,null,8,null,9,null,10,null,11,null,12,null,13,null,14,null,15,null,16,null,17,null,18,null,19,null,"20 - 24 ",null,"25 - 29 ",null,"30 - 34 ",null,"35 - 39 ",null,"40 - 44 ",null,"45 - 49 ",null,"50 - 54 ",null,"55 - 59",null,"60 - 64 ",null,"65 - 69",null,"70 - 74",null,"75 - 79 ",null,"80 - 84",null,"85 y ++",null,"28 DIAS",null,"0-5 MESES",null,"6-11 MESES",null,null,null,null,null,null,null,null,null,null,null,null,null,null,null,null,null,null,null,null,null,"0A","1A","2A","3A","4A","5A",null,"25 - 64 (Cancer)",null,"50 - 64 (PAP)","30 - 49 (IVVA)","15 - 49 (MEF)"]
[null,"Microredes",null,"RENAES","DISTRITO",null,null,null,null,null,"M","F","M","F","M","F","M","F","M","F","M","F","M","F","M","F","M","F","M","F","M","F","M","F","M","F","M","F","M","F","M","F","M","F","M","F","M","F","M","F","M","F","M","F","M","F","M","F","M","F","M","F","M","F","M","F","M","F","M","F","M","F","M","F","M","F","M","F","M","F","M","F","M","F",null,null," 10 - 14","15 - 19","20 - 49",null,null,null,null,null,null,null,null,null,null,null,null,null,null,null,null,null,null,null,null,null,null,"M","F",null,null,null,null,null,null,"M","F","M","F","M","F","M","F"]
[150000,null,1,null,"HUAURA - OYON",{"$f":"SUM(H8:I8)","v":292417},null,{"$f":"K8+M8+O8+Q8+S8+U8+W8+Y8+AA8+AC8+AE8+AG8+AI8+AK8+AM8+AO8+AQ8+AS8+AU8+AW8+AY8+BA8+BC8+BE8+BG8+BI8+BK8+BM8+BO8+BQ8+BS8+BU8+BW8+BY8","v":140430},151987,null,1806,1837,1687,1737,1801,1839,1905,1778,2067,1954,2078,2012,2116,2117,2183,2094,2130,2150,1815,1651,1778,1778,1855,1862,1913,1925,1908,1918,1757,1770,2107,2274,2071,2157,1984,2100,2018,2040,1893,2031,9097,10151,9680,12812,9715,11572,10039,10555,9821,10484,9474,10181,8617,9784,8271,8859,7335,7432,5583,6089,5039,5363,3902,3990,2637,2773,2348,2918,107,109,786,733,1020,1104,4875,151987,9253,10602,65755,8094,null,3643,14768,46030,51503,23884,49722,117372,55409,null,20346,39139,214521,null,3643,3424,3640,3683,4021,4090,null,72952,81679,26075,42792,76357,null,7919,78625,27042,26652,7919,8301,78625,88469,24207,25792]
[150800,null,2,150800,"PROVINCIA HUAURA",{"$f":"SUM(H9:I9)","v":274303},null,131706,142597,null,1679,1705,1591,1632,1706,1729,1807,1665,1956,1846,1939,1888,1988,1993,2053,1965,2010,2009,1690,1534,1646,1643,1720,1723,1758,1764,1763,1766,1629,1631,1932,2082,1908,1963,1826,1943,1865,1896,1764,1900,8511,9513,9115,12087,9170,10902,9452,9939,9288,9966,8908,9638,8093,9207,7784,8349,6865,6988,5240,5733,4719,5042,3664,3718,2477,2560,2190,2678,95,104,736,684,943,1021,4514,142597,8527,9784,62045,7622,null,3384,13932,43117,47766,21965,46651,110696,51874,null,19069,36122,201796,null,3384,3223,3435,3472,3802,3827,null,68675,77076,24544,40445,71829,null,7295,73950,25306,24862,7295,7619,73950,83397,22678,24159]
[150801,null,3,150802,"DISTRITO HUACHO",53280,null,25923,27357,null,206,221,212,220,256,253,247,230,291,277,332,311,362,348,379,326,377,373,325,297,305,292,301,287,316,302,321,306,293,281,351,362,352,343,342,337,371,325,330,321,1578,1626,1630,2134,1685,1955,1829,1800,1865,1933,1836,1923,1754,1932,1716,1810,1551,1591,1230,1323,1071,1218,805,841,606,610,498,649,20,22,102,101,104,120,498,27357,1468,1688,11371,1181,null,427,1986,7028,8521,3906,8315,22038,11993,null,3430,6438,40999,null,427,432,509,477,568,643,null,13866,15078,5333,7611,13059,null,1338,14594,4230,4043,1338,1323,14594,15759,5155,5622]
[null,"00",4,7639,"HOSPITAL HUACHO (Sin Población)",0]
[null,"02",5,30794,"C.S. MANZANARES",53280,null,25923,27357,null,206,221,212,220,256,253,247,230,291,277,332,311,362,348,379,326,377,373,325,297,305,292,301,287,316,302,321,306,293,281,351,362,352,343,342,337,371,325,330,321,1578,1626,1630,2134,1685,1955,1829,1800,1865,1933,1836,1923,1754,1932,1716,1810,1551,1591,1230,1323,1071,1218,805,841,606,610,498,649,20,22,102,101,104,120,498,27357,1468,1688,11371,1181,null,427,1986,7028,8521,3906,8315,22038,11993,null,3430,6438,40999,null,427,432,509,477,568,643,null,13866,15078,5333,7611,13059,null,1338,14594,4230,4043,1338,1323,14594,15759,5155,5622]
[150802,null,6,150802,"DISTRITO AMBAR",2841,null,1336,1505,null,15,19,16,14,20,24,30,30,25,16,23,21,14,13,18,12,21,18,17,10,12,14,16,18,14,17,15,18,17,20,13,25,16,12,15,22,21,17,19,25,91,107,79,128,66,104,85,121,80,81,88,95,72,97,88,74,67,81,73,79,64,51,70,30,30,44,26,48,0,1,5,9,10,10,63,1505,87,101,636,170,null,34,175,436,431,204,487,1051,663,null,167,346,2119,null,34,30,44,60,41,44,null,625,781,252,401,737,null,61,689,256,244,61,79,689,849,300,289]
[null,"01",7,5680,"C.S. AMBAR",1787,null,838,949,null,9,12,10,9,13,15,19,19,16,10,14,13,9,8,11,8,13,11,11,6,8,9,10,11,9,11,9,11,11,13,8,16,10,8,9,14,13,11,12,16,57,67,50,81,42,65,53,76,50,51,55,60,45,61,55,47,42,51,46,50,40,32,44,19,19,28,16,30,0,1,3,6,6,6,40,949,55,65,400,107,null,21,111,274,271,129,307,660,417,null,104,219,1332,null,21,19,28,38,26,27,null,392,492,159,252,465,null,38,432,161,153,38,51,432,535,188,182]
[null,"01",8,5681,"P.S. AYNACA",1054,null,498,556,null,6,7,6,5,7,9,11,11,9,6,9,8,5,5,7,4,8,7,6,4,4,5,6,7,5,6,6,7,6,7,5,9,6,4,6,8,8,6,7,9,34,40,29,47,24,39,32,45,30,30,33,35,27,36,33,27,25,30,27,29,24,19,26,11,11,16,10,18,0,0,2,3,4,4,23,556,32,36,236,63,null,13,64,162,160,75,180,391,246,null,63,127,787,null,13,11,16,22,15,17,null,233,289,93,149,272,null,23,257,95,91,23,28,257,314,112,107]
[150803,null,9,150803,"DISTRITO CARQUIN",9548,null,4567,4981,null,50,45,39,44,43,60,54,36,50,45,44,50,63,68,79,65,73,63,60,57,59,60,66,68,61,63,71,73,68,67,79,77,85,89,62,74,50,61,52,68,305,346,305,388,320,411,356,355,340,406,326,343,269,310,284,309,248,222,159,202,179,179,116,124,103,83,49,70,3,5,28,20,22,25,119,4981,331,369,2249,171,null,95,371,1341,1744,869,1575,4029,1734,null,622,1353,7107,null,95,83,103,90,95,94,null,2448,2744,841,1515,2618,null,294,2607,812,797,294,307,2607,2997,751,797]
[null,"02",10,5664,"P.S. CARQUIN",9548,null,4567,4981,null,50,45,39,44,43,60,54,36,50,45,44,50,63,68,79,65,73,63,60,57,59,60,66,68,61,63,71,73,68,67,79,77,85,89,62,74,50,61,52,68,305,346,305,388,320,411,356,355,340,406,326,343,269,310,284,309,248,222,159,202,179,179,116,124,103,83,49,70,3,5,28,20,22,25,119,4981,331,369,2249,171,null,95,371,1341,1744,869,1575,4029,1734,null,622,1353,7107,null,95,83,103,90,95,94,null,2448,2744,841,1515,2618,null,294,2607,812,797,294,307,2607,2997,751,797]
[150804,null,11,150804,"DISTRITO CHECRAS",1022,null,492,530,null,3,7,3,1,2,6,3,4,2,3,3,4,3,3,7,2,3,3,5,1,3,3,5,6,8,9,2,2,5,5,7,8,18,11,9,8,4,9,6,0,18,29,27,28,17,22,20,24,27,16,27,17,30,39,42,37,34,31,35,38,36,42,19,31,30,32,29,49,0,0,3,0,0,7,15,530,25,36,136,26,null,10,24,85,143,92,121,318,406,null,34,128,826,null,10,4,8,7,5,7,null,224,214,107,79,172,null,39,218,52,54,39,32,218,221,153,191]
[null,"05",12,5663,"P.S. PUÑUN",1022,null,492,530,null,3,7,3,1,2,6,3,4,2,3,3,4,3,3,7,2,3,3,5,1,3,3,5,6,8,9,2,2,5,5,7,8,18,11,9,8,4,9,6,0,18,29,27,28,17,22,20,24,27,16,27,17,30,39,42,37,34,31,35,38,36,42,19,31,30,32,29,49,0,0,3,0,0,7,15,530,25,36,136,26,null,10,24,85,143,92,121,318,406,null,34,128,826,null,10,4,8,7,5,7,null,224,214,107,79,172,null,39,218,52,54,39,32,218,221,153,191]
[150805,null,13,150805,"DISTRITO HUALMAY",57016,null,27623,29393,null,306,295,304,287,318,313,295,275,337,322,374,373,388,381,427,403,432,402,358,328,331,323,329,323,350,343,360,353,341,334,383,408,369,382,383,377,411,368,331,369,1776,1891,1854,2429,1906,2138,1989,2069,1979,2093,2001,2079,1849,1933,1726,1808,1491,1506,1155,1297,1008,1126,789,866,523,585,450,614,14,14,116,103,190,192,910,29393,1676,1904,12699,1059,null,601,2451,8224,9555,4383,9429,23570,11410,null,3866,7168,42930,null,601,591,631,570,659,747,null,14795,16055,5247,8379,14603,null,1476,15822,4909,4721,1476,1501,15822,17177,4893,5409]
[null,"02",14,32365,"C.S. HUALMAY",31021,null,15027,15994,null,161,157,160,153,170,168,158,148,182,174,202,200,211,207,231,216,233,218,194,178,180,175,179,175,189,185,194,190,183,179,208,221,201,207,207,204,223,199,181,199,960,1019,1001,1312,1030,1175,1080,1117,1077,1136,1086,1129,1007,1060,946,991,821,831,639,713,557,623,434,473,292,323,250,339,7,8,71,60,90,97,500,15994,904,1030,6888,528,null,318,1313,4430,5167,2368,5094,12834,6295,null,2090,3879,23421,null,318,313,338,306,356,402,null,8048,8751,2882,4557,7918,null,799,8591,2644,2544,799,811,8591,9337,2701,2979]
[null,"02",15,5666,"P.S. DGO. MANDAMIENTO",20884,null,10127,10757,null,111,107,111,105,116,114,109,100,123,117,137,137,142,139,156,147,158,148,131,120,121,118,120,118,129,126,133,130,126,123,140,149,135,140,140,138,150,134,122,135,651,692,679,889,698,768,729,757,726,768,733,762,678,709,633,664,548,554,424,476,370,415,289,318,193,214,166,226,6,5,35,33,76,74,326,10757,615,696,4636,418,null,218,895,3005,3501,1609,3452,8625,4193,null,1415,2627,15729,null,218,216,230,209,240,274,null,5424,5871,1927,3055,5332,null,541,5799,1797,1726,541,550,5799,6278,1797,1989]
[null,"02",16,5667,"P.S. CAMPO ALEGRE",5111,null,2469,2642,null,34,31,33,29,32,31,28,27,32,31,35,36,35,35,40,40,41,36,33,30,30,30,30,30,32,32,33,33,32,32,35,38,33,35,36,35,38,35,28,35,165,180,174,228,178,195,180,195,176,189,182,188,164,164,147,153,122,121,92,108,81,88,66,75,38,48,34,49,1,1,10,10,24,21,84,2642,157,178,1175,113,null,65,243,789,887,406,883,2111,922,null,361,662,3780,null,65,62,63,55,63,71,null,1323,1433,438,767,1353,null,136,1432,468,451,136,140,1432,1562,395,441]
[150806,null,17,150806,"DISTRITO HUAURA                   ",41495,null,{"$f":"K24+M24+O24+Q24+S24+U24+W24+Y24+AA24+AC24+AE24+AG24+AI24+AK24+AM24+AO24+AQ24+AS24+AU24+AW24+AY24+BA24+BC24+BE24+BG24+BI24+BK24+BM24+BO24+BQ24+BS24+BU24+BW24+BY24","v":19674},21821,null,273,311,247,282,270,233,254,240,327,286,307,304,317,347,333,289,316,300,260,223,265,284,276,296,276,296,259,278,248,268,288,321,282,352,262,309,277,311,277,305,1286,1500,1502,1956,1549,1732,1420,1549,1464,1544,1283,1509,1148,1481,1119,1271,1000,1000,679,751,591,640,452,430,311,322,256,301,16,18,113,114,160,197,662,21821,1422,1598,9790,1101,null,584,2139,6840,7556,3439,7414,17069,6733,null,2996,5730,30046,null,584,529,503,494,613,611,null,10485,12042,3752,6334,11388,null,1080,11325,3980,3969,1080,1250,11325,13158,2978,3122]
[null,"01",18,5682,"C.S. HUAURA",18665,null,8849,9816,null,123,140,109,127,122,105,114,108,148,128,138,137,143,156,150,130,142,135,117,100,119,128,124,133,124,132,116,125,112,121,129,144,127,158,117,139,125,140,125,137,578,675,676,880,696,779,639,696,658,695,577,679,517,667,504,572,450,450,306,337,266,288,203,194,140,145,115,136,8,7,51,52,72,88,297,9816,639,718,4404,496,null,263,961,3076,3396,1544,3336,7679,3030,null,1348,2575,13518,null,263,236,227,222,276,275,null,4717,5418,1689,2849,5122,null,485,5095,1789,1784,485,562,5095,5920,1340,1405]
[null,"01",19,5683,"P.S. HUMAYA",3738,null,1772,1966,null,25,28,22,25,24,21,23,22,29,26,28,27,29,31,30,26,28,27,23,20,24,26,25,27,25,27,23,25,22,24,26,29,25,32,24,28,25,28,25,27,116,135,135,176,140,156,128,140,132,139,116,136,103,133,101,114,90,90,61,68,53,58,41,39,28,29,23,27,1,2,10,10,15,18,60,1966,129,144,882,99,null,53,192,616,681,310,667,1538,607,null,269,517,2707,null,53,47,45,45,55,55,null,945,1084,337,571,1026,null,97,1021,358,358,97,113,1021,1184,268,282]
[null,"01",20,5684,"P.S. VILCAHUAURA",3315,null,1571,1744,null,22,25,18,23,22,19,20,19,26,23,25,24,25,28,27,23,26,24,21,18,21,23,22,24,22,24,21,22,20,21,23,26,23,28,21,25,22,25,22,24,103,120,120,156,124,138,113,124,117,123,102,121,92,118,89,101,80,80,54,60,47,51,36,34,25,26,20,24,1,2,9,9,13,16,53,1744,114,128,782,88,null,47,170,548,607,276,592,1362,537,null,241,459,2398,null,47,41,41,39,49,49,null,837,961,299,506,910,null,87,904,318,319,87,100,904,1050,237,249]
[null,"01",21,5685,"P.S. PEÑICO",422,null,200,222,null,3,3,2,3,3,2,3,2,3,3,3,3,3,3,3,3,3,3,3,2,3,3,3,3,3,3,3,3,2,3,3,3,3,4,3,3,3,3,3,4,13,15,15,20,16,18,14,16,15,16,13,15,11,15,11,14,10,10,7,8,6,6,5,4,3,3,3,3,0,0,1,1,2,2,7,222,15,17,100,11,null,6,21,68,77,36,76,174,68,null,29,61,305,null,6,5,5,5,6,6,null,105,124,39,65,117,null,11,114,41,39,11,13,114,136,31,31]
[null,"01",22,5686,"P.S. EL SOCORRO",15355,null,7282,8073,null,100,115,96,104,99,86,94,89,121,106,113,113,117,129,123,107,117,111,96,83,98,104,102,109,102,110,96,103,92,99,107,119,104,130,97,114,102,115,102,113,476,555,556,724,573,641,526,573,542,571,475,558,425,548,414,470,370,370,251,278,219,237,167,159,115,119,95,111,6,7,42,42,58,73,245,8073,525,591,3622,407,null,215,795,2532,2795,1273,2743,6316,2491,null,1109,2118,11118,null,215,200,185,183,227,226,null,3881,4455,1388,2343,4213,null,400,4191,1474,1469,400,462,4191,4868,1102,1155]
[150807,null,23,150807,"DISTRITO LEONCIO PRADO",2490,null,1103,1387,null,17,16,13,17,23,17,18,11,25,15,14,13,9,19,11,12,11,17,10,14,8,12,11,17,11,17,13,20,12,19,20,19,14,25,14,18,18,22,18,18,86,119,54,102,82,94,74,91,74,81,78,90,61,87,63,62,61,76,63,80,38,43,29,45,20,36,30,43,2,0,11,4,6,12,62,1387,85,102,577,144,null,33,139,350,380,202,437,937,564,null,130,326,1862,null,33,30,40,29,40,27,null,547,683,225,356,679,null,60,608,194,217,60,81,608,766,221,287]
[null,"03",24,5778,"P.S. AUQUIMARCA",138,null,62,76,null,1,1,1,1,1,1,1,1,1,1,1,1,0,1,1,1,1,1,1,1,0,1,1,1,1,1,1,1,1,1,1,1,1,1,1,1,1,1,1,1,5,7,3,5,4,5,4,5,4,5,4,5,4,5,3,3,3,4,3,4,2,2,2,2,1,2,2,2,0,0,1,0,0,1,3,76,5,5,32,8,null,2,8,22,24,12,24,51,29,null,9,19,100,null,2,2,2,2,2,2,null,29,37,12,20,37,null,4,33,12,14,4,4,33,42,12,14]
[null,"03",25,5779,"P.S. PARAN",867,null,383,484,null,6,6,4,6,8,6,6,4,9,5,4,5,3,7,4,4,4,6,3,4,3,4,4,6,4,6,4,7,4,6,7,6,5,9,5,6,6,8,6,6,30,41,19,36,29,33,26,32,26,28,27,31,21,30,22,22,22,27,22,28,13,15,10,16,7,13,10,15,1,0,3,1,3,5,22,484,29,35,201,50,null,12,48,121,130,69,152,327,198,null,44,112,651,null,12,10,14,10,14,9,null,192,239,79,124,236,null,21,212,66,76,21,27,212,267,77,101]
[null,"03",26,6725,"P.S. SANTA CRUZ",499,null,224,275,null,3,3,3,3,5,3,4,2,5,3,3,3,2,4,2,2,2,3,2,3,2,2,2,3,2,3,3,4,2,4,4,4,3,5,3,4,4,4,4,4,17,24,11,20,16,19,15,18,15,16,16,18,12,17,13,12,12,15,13,16,8,9,6,9,4,7,6,9,0,0,2,1,1,2,12,275,16,21,115,29,null,6,28,69,76,41,88,187,114,null,26,66,373,null,6,6,8,6,8,6,null,110,135,44,71,136,null,12,123,40,41,12,17,123,152,45,58]
[null,"03",27,7757,"P.S. HUANANGUI",986,null,434,552,null,7,6,5,7,9,7,7,4,10,6,6,4,4,7,4,5,4,7,4,6,3,5,4,7,4,7,5,8,5,8,8,8,5,10,5,7,7,9,7,7,34,47,21,41,33,37,29,36,29,32,31,36,24,35,25,25,24,30,25,32,15,17,11,18,8,14,12,17,1,0,5,2,2,4,25,552,35,41,229,57,null,13,55,138,150,80,173,372,223,null,51,129,738,null,13,12,16,11,16,10,null,216,272,90,141,270,null,23,240,76,86,23,33,240,305,87,114]
[150808,null,28,150808,"DISTRITO PACCHO",1707,null,819,888,null,9,11,4,8,4,2,5,5,10,11,8,7,7,6,11,3,7,7,4,10,8,8,6,6,6,7,9,9,9,9,14,11,7,6,10,9,11,12,7,8,35,50,33,46,35,40,46,33,39,43,53,55,55,79,61,59,55,53,50,51,43,56,62,63,49,45,47,60,0,0,4,2,5,9,15,888,39,46,267,25,null,20,49,167,204,106,202,598,634,null,70,172,1396,null,20,12,6,10,21,15,null,377,408,191,171,313,null,40,375,98,100,40,35,375,425,257,283]
[null,"05",29,5650,"P.S. PACCHO",671,null,322,349,null,4,4,1,4,1,1,1,1,3,4,4,3,3,2,4,2,3,3,1,3,3,4,2,2,2,3,4,4,4,4,6,4,3,2,3,4,4,4,3,4,14,20,13,18,14,16,18,13,15,16,21,22,22,31,24,23,22,21,20,20,17,21,25,25,19,17,19,24,0,0,1,1,3,3,6,349,17,18,105,9,null,8,16,63,82,43,80,235,250,null,28,69,550,null,8,5,2,2,7,7,null,149,160,75,67,123,null,16,148,36,40,16,14,148,167,103,111]
[null,"05",30,5651,"P.S. LACSANGA",515,null,248,267,null,3,3,1,2,1,1,2,2,3,3,2,2,2,2,3,1,2,2,1,3,3,2,2,2,2,2,3,3,3,3,4,3,2,2,3,3,3,4,2,2,11,14,10,14,11,12,14,10,12,13,16,17,17,24,19,18,17,16,14,15,12,17,19,18,15,14,14,18,0,0,1,1,2,2,5,267,12,14,80,8,null,6,15,50,62,33,60,183,189,null,20,53,421,null,6,3,2,4,6,4,null,116,124,58,52,94,null,12,115,30,30,12,11,115,128,76,84]
[null,"05",31,5653,"P.S. MUZGA",260,null,124,136,null,1,2,1,1,1,0,1,1,2,2,1,1,1,1,2,0,1,1,1,2,1,1,1,1,1,1,1,1,1,1,2,2,1,1,2,1,2,2,1,1,5,8,5,7,5,6,7,5,6,7,8,8,8,12,9,9,8,8,8,8,7,9,9,10,7,7,7,9,0,0,1,0,0,2,2,136,5,7,41,4,null,3,9,27,30,15,31,90,97,null,11,25,212,null,3,2,1,2,4,2,null,56,62,29,26,48,null,6,56,16,15,6,5,56,65,39,44]
[null,"05",32,5652,"P.S. AYARANGA",261,null,125,136,null,1,2,1,1,1,0,1,1,2,2,1,1,1,1,2,0,1,1,1,2,1,1,1,1,1,1,1,1,1,1,2,2,1,1,2,1,2,2,1,1,5,8,5,7,5,6,7,5,6,7,8,8,8,12,9,9,8,8,8,8,7,9,9,10,8,7,7,9,0,0,1,0,0,2,2,136,5,7,41,4,null,3,9,27,30,15,31,90,98,null,11,25,213,null,3,2,1,2,4,2,null,56,62,29,26,48,null,6,56,16,15,6,5,56,65,39,44]
[150809,null,33,150809,"DISTRITO SANTA LEONOR",1245,null,587,658,null,13,7,6,4,8,5,8,2,6,14,8,7,3,10,7,4,8,4,1,3,5,7,5,7,9,11,5,7,5,5,10,7,7,11,8,4,8,9,7,7,27,28,29,43,29,47,36,29,30,40,29,38,36,41,40,38,46,48,38,38,35,26,31,47,20,29,24,31,0,1,1,4,12,3,20,658,37,38,225,27,null,20,53,152,168,89,158,433,413,null,55,144,973,null,20,10,13,10,20,15,null,275,324,127,154,263,null,30,271,92,92,30,27,271,320,174,190]
[null,"05",34,5645,"P.S. CHIUCHIN",812,null,384,428,null,8,5,4,2,5,3,5,1,4,9,5,5,2,7,5,2,5,2,1,2,3,5,3,5,6,7,3,5,3,3,7,5,5,7,5,2,5,6,5,5,18,18,19,28,19,31,24,19,20,26,19,25,24,27,26,24,30,31,25,24,23,17,20,31,13,19,15,20,0,1,1,3,7,2,13,428,25,25,147,18,null,13,33,98,110,58,104,284,268,null,36,95,635,null,13,6,8,6,13,10,null,181,211,82,101,172,null,20,179,59,60,20,17,179,209,113,123]
[null,"05",35,5646,"P.S. PARQUIN",249,null,118,131,null,3,1,1,1,2,1,2,1,1,3,2,1,1,2,1,1,2,1,0,1,1,1,1,1,2,2,1,1,1,1,2,1,1,2,2,1,2,2,1,1,5,6,6,9,6,9,7,6,6,8,6,7,7,8,8,8,9,10,7,8,7,5,6,9,4,6,5,6,0,0,0,0,3,1,4,131,6,7,45,5,null,4,12,32,33,17,32,86,82,null,12,27,194,null,4,2,3,3,4,3,null,55,65,26,30,52,null,6,54,20,18,6,5,54,64,34,38]
[null,"05",36,5647,"P.S. JUCUL",184,null,85,99,null,2,1,1,1,1,1,1,0,1,2,1,1,0,1,1,1,1,1,0,0,1,1,1,1,1,2,1,1,1,1,1,1,1,2,1,1,1,1,1,1,4,4,4,6,4,7,5,4,4,6,4,6,5,6,6,6,7,7,6,6,5,4,5,7,3,4,4,5,0,0,0,1,2,0,3,99,6,6,33,4,null,3,8,22,25,14,22,63,63,null,7,22,144,null,3,2,2,1,3,2,null,39,48,19,23,39,null,4,38,13,14,4,5,38,47,27,29]
[150810,null,37,150810,"DISTRITO SANTA MARIA",45471,null,21822,23649,null,340,304,301,296,328,321,365,343,345,376,352,342,358,343,322,353,330,368,276,253,279,275,296,291,302,298,295,291,268,263,311,345,322,288,317,341,276,314,319,337,1560,1635,1576,2089,1499,1843,1537,1665,1490,1600,1402,1566,1293,1446,1178,1253,1027,1116,800,876,773,866,608,618,378,369,399,365,18,18,151,142,189,162,869,23649,1418,1625,10398,1603,null,644,2675,7757,8079,3641,8106,17772,8195,null,3297,6028,32827,null,644,597,649,708,721,694,null,11002,12578,3815,6674,12023,null,1218,12130,4489,4454,1218,1237,12130,13748,3607,3841]
[null,"02",38,5668,"C.S. SANTA MARIA",12730,null,6109,6621,null,95,85,84,83,92,90,102,96,96,105,99,96,100,96,90,98,92,103,77,71,78,77,83,82,85,83,83,82,75,74,87,97,90,81,89,96,77,88,89,94,437,458,441,585,420,516,430,465,417,448,393,438,362,405,330,351,288,313,224,245,217,242,170,173,106,104,111,101,5,5,42,39,53,46,243,6621,398,456,2910,449,null,180,748,2170,2264,1022,2269,4975,2294,null,922,1690,9190,null,180,167,182,198,201,195,null,3081,3521,1069,1867,3366,null,341,3396,1256,1247,341,348,3396,3848,1010,1074]
[null,"02",39,5669,"P.S. CHONTA",6820,null,3275,3545,null,51,46,45,44,49,48,55,51,52,56,53,51,54,51,48,53,50,55,41,38,42,41,44,44,45,45,44,44,40,39,47,52,48,43,48,51,41,47,48,51,234,245,237,313,224,276,231,250,224,240,210,235,194,217,177,188,154,167,120,131,116,130,92,93,57,55,60,55,3,2,23,22,28,24,130,3545,213,244,1559,241,null,97,400,1162,1211,546,1216,2666,1230,null,494,904,4925,null,97,89,97,106,108,104,null,1651,1886,572,1001,1803,null,183,1820,673,667,183,185,1820,2062,542,576]
[null,"02",40,5670,"P.S. 1RO DE MAYO",13638,null,6545,7093,null,102,91,90,89,98,96,109,103,104,113,105,102,107,103,97,106,99,110,83,75,84,83,89,87,91,89,88,87,80,79,93,103,97,86,95,102,83,94,96,101,468,491,472,627,450,553,461,500,447,480,421,470,388,434,353,375,308,335,240,263,232,260,182,185,113,111,120,110,6,6,45,42,57,49,262,7093,425,486,3121,481,null,193,802,2325,2420,1090,2432,5332,2459,null,987,1807,9849,null,193,179,194,212,217,207,null,3300,3774,1144,2003,3607,null,365,3639,1346,1334,365,370,3639,4125,1082,1153]
[null,"02",41,5671,"P.S. ZAPATA",4098,null,1967,2131,null,31,27,28,27,30,29,33,31,31,34,32,31,33,31,29,32,30,34,25,23,25,25,27,26,27,27,27,26,25,24,28,31,29,26,28,31,25,28,29,30,140,147,142,188,135,166,138,150,134,144,126,141,116,130,106,113,92,100,72,79,69,78,55,56,34,33,36,33,1,2,14,13,17,14,78,2131,128,146,936,144,null,58,243,704,732,329,729,1599,737,null,300,544,2953,null,58,55,59,64,65,63,null,989,1132,343,601,1082,null,110,1091,408,403,110,112,1091,1237,324,346]
[null,"02",42,5672,"P.S. SAN BARTOLOME",8185,null,3926,4259,null,61,55,54,53,59,58,66,62,62,68,63,62,64,62,58,64,59,66,50,46,50,49,53,52,54,54,53,52,48,47,56,62,58,52,57,61,50,57,57,61,281,294,284,376,270,332,277,300,268,288,252,282,233,260,212,226,185,201,144,158,139,156,109,111,68,66,72,66,3,3,27,26,34,29,156,4259,254,293,1872,288,null,116,482,1396,1452,654,1460,3200,1475,null,594,1083,5910,null,116,107,117,128,130,125,null,1981,2265,687,1202,2165,null,219,2184,806,803,219,222,2184,2476,649,692]
[150811,null,43,150811,"DISTRITO SAYAN",27544,null,13138,14406,null,190,182,196,194,182,215,231,200,226,203,211,198,201,220,196,249,203,207,182,172,153,154,184,186,189,191,197,199,175,178,200,268,203,232,191,206,202,228,193,208,851,1086,939,1274,893,1152,967,1016,914,1038,899,933,741,857,719,792,660,589,470,502,447,381,334,310,217,191,182,195,8,14,96,77,94,105,499,14406,908,1142,6499,787,null,372,1647,4735,5145,2429,4981,10921,4478,null,2039,3937,19549,null,372,390,397,431,429,409,null,6732,7651,2238,4139,7641,null,769,7318,2741,2770,769,884,7318,8584,2093,1977]
[null,"03",44,5774,"P.S. 9 DE OCTUBRE",7434,null,3547,3887,null,51,49,53,52,49,58,62,54,61,55,57,53,55,59,53,67,55,56,51,46,41,42,50,50,51,52,53,54,47,48,54,72,55,63,52,56,55,62,52,56,230,292,253,344,241,311,261,274,247,280,242,251,200,231,193,214,178,158,127,136,121,103,90,84,58,52,49,53,2,4,26,21,25,28,134,3887,246,309,1752,212,null,100,444,1279,1392,657,1344,2945,1209,null,552,1065,5273,null,100,105,107,116,116,110,null,1815,2063,603,1116,2061,null,208,1974,742,747,208,239,1974,2315,565,534]
[null,"03",45,5775,"P.S. LA MERCED",1112,null,529,583,null,8,9,8,8,7,10,9,8,9,8,8,8,8,9,7,10,8,8,7,8,6,6,7,7,8,8,8,8,7,7,8,11,8,9,8,8,8,9,8,8,34,44,38,51,36,46,39,41,37,42,36,38,30,35,29,32,27,24,19,20,18,15,13,12,9,8,9,8,0,1,4,3,4,6,20,583,36,45,262,32,null,17,67,191,205,98,200,441,182,null,81,157,790,null,17,16,17,17,17,16,null,272,309,91,167,307,null,31,295,108,115,31,35,295,346,86,79]
[null,"03",46,5776,"P.S. LA VILLA",7974,null,3803,4171,null,54,53,57,56,53,62,67,58,65,59,61,57,58,63,57,72,59,60,53,50,44,45,53,53,55,55,57,58,51,52,58,78,59,67,55,60,58,66,56,60,245,314,272,369,258,333,280,295,265,301,261,271,215,247,208,229,191,171,136,146,130,110,97,90,62,54,53,57,2,4,27,23,27,30,145,4171,263,331,1883,227,null,107,477,1369,1490,705,1440,3163,1297,null,590,1140,5660,null,107,113,115,125,124,118,null,1950,2216,647,1200,2214,null,223,2118,793,801,223,257,2118,2485,607,574]
[null,"03",47,5777,"P.S. EL AHORCADO",833,null,397,436,null,6,5,6,6,5,6,7,6,7,6,6,7,6,7,6,7,6,7,5,5,5,5,6,6,6,6,6,6,6,5,6,8,6,7,6,6,6,7,6,8,26,33,29,38,27,35,29,30,27,31,27,28,22,26,22,24,20,18,14,15,13,11,10,9,7,6,5,6,0,1,3,2,3,3,15,436,28,36,195,24,null,11,49,144,158,74,153,328,134,null,62,123,588,null,11,12,11,13,13,13,null,203,230,68,124,231,null,24,221,83,85,24,26,221,260,62,59]
[null,"03",48,5780,"C.S. SAYAN",8529,null,4069,4460,null,59,56,60,60,58,67,72,62,70,63,65,61,62,68,61,79,63,64,56,53,47,46,56,58,57,58,61,61,54,56,62,83,63,72,58,64,63,70,59,64,264,337,291,395,277,357,300,315,283,322,279,289,230,266,223,245,204,182,146,155,139,118,104,96,67,59,56,59,2,4,30,24,29,32,155,4460,279,353,2015,244,null,115,512,1466,1588,749,1543,3386,1385,null,632,1212,6058,null,115,120,125,134,133,126,null,2087,2371,693,1283,2368,null,237,2269,847,856,237,275,2269,2660,649,610]
[null,"03",49,5781,"P.S. CHAMBARA",835,null,398,437,null,6,5,6,6,5,6,7,6,7,6,8,6,6,7,6,7,6,6,5,5,5,5,6,6,6,6,6,6,5,5,6,8,6,7,6,6,6,7,6,6,26,33,28,39,27,35,29,31,28,31,27,28,22,26,22,24,20,18,14,15,13,13,10,10,7,6,5,6,1,0,3,2,3,3,15,437,28,34,197,24,null,11,49,144,157,73,151,330,137,null,62,120,593,null,11,12,11,13,13,14,null,203,232,68,125,231,null,23,221,85,83,23,26,221,260,62,62]
[null,"03",50,6726,"P.S. LA UNION",827,null,395,432,null,6,5,6,6,5,6,7,6,7,6,6,6,6,7,6,7,6,6,5,5,5,5,6,6,6,6,6,6,5,5,6,8,6,7,6,6,6,7,6,6,26,33,28,38,27,35,29,30,27,31,27,28,22,26,22,24,20,18,14,15,13,11,10,9,7,6,5,6,1,0,3,2,3,3,15,432,28,34,195,24,null,11,49,142,155,73,150,328,134,null,60,120,587,null,11,12,11,13,13,12,null,202,230,68,124,229,null,23,220,83,83,23,26,220,258,62,59]
[150812,null,51,150812,"DISTRITO VEGUETA",30644,null,14622,16022,null,257,287,250,265,252,280,297,289,312,278,263,258,263,235,263,247,229,247,192,166,218,211,225,218,216,210,216,210,188,182,256,231,233,212,213,238,216,220,205,234,898,1096,1087,1470,1089,1364,1093,1187,986,1091,886,990,785,905,748,836,625,675,488,496,434,414,349,313,190,214,200,253,14,11,106,108,151,179,782,16022,1031,1135,7198,1328,null,544,2223,6002,5840,2605,5426,11960,4651,null,2363,4352,21162,null,544,515,532,586,590,521,null,7299,8518,2416,4632,8333,null,890,7993,3453,3401,890,863,7993,9393,2096,2151]
[null,"04",52,5673,"C.S. VEGUETA",8274,null,3946,4328,null,69,77,67,72,69,77,80,79,84,75,71,70,71,63,71,67,62,67,52,45,59,57,61,59,58,57,58,57,51,49,69,62,63,57,58,64,58,59,55,63,242,296,293,397,294,368,295,320,266,295,239,267,212,244,202,226,169,182,132,134,117,112,94,85,51,58,54,68,4,3,29,29,40,48,213,4328,279,305,1943,372,null,146,603,1624,1578,703,1463,3228,1256,null,639,1174,5712,null,146,139,146,159,159,141,null,1970,2299,652,1250,2248,null,241,2156,932,922,241,232,2156,2535,566,581]
[null,"04",53,5674,"P.S. MAZO",1992,null,951,1041,null,17,19,16,17,16,18,20,19,20,18,17,17,17,16,17,16,15,16,13,10,14,14,15,14,14,14,14,14,12,12,17,15,15,14,14,15,14,14,13,15,58,71,71,96,71,89,71,77,64,71,58,64,51,59,48,54,41,44,32,32,28,27,23,20,12,14,13,16,1,1,7,7,10,12,52,1041,68,73,468,100,null,36,144,391,381,170,352,777,302,null,154,283,1375,null,36,33,34,39,38,34,null,475,554,157,301,541,null,58,519,225,222,58,56,519,610,137,139]
[null,"04",54,5675,"P.S. PRIMAVERA",7354,null,3511,3843,null,62,69,60,64,60,67,71,69,75,67,63,62,63,56,63,59,55,59,46,40,52,50,54,52,53,50,52,50,45,44,62,55,56,51,51,57,52,53,49,56,216,263,261,353,261,327,262,285,237,262,213,238,188,217,180,201,150,162,117,119,104,99,84,75,46,51,48,61,3,3,25,26,37,43,187,3843,246,272,1728,319,null,131,533,1438,1400,626,1303,2871,1116,null,566,1044,5080,null,131,124,127,140,142,125,null,1752,2045,580,1112,2000,null,214,1919,829,814,214,207,1919,2255,503,516]
[null,"04",55,5676,"P.S. MARIATEGUI",10113,null,4823,5290,null,85,95,83,87,83,92,98,95,103,92,87,85,87,78,87,82,75,82,63,55,72,70,74,72,71,69,72,69,62,60,84,76,77,70,70,79,71,73,68,77,296,362,359,485,359,450,361,392,325,360,292,327,259,299,247,276,206,223,161,164,142,137,115,103,63,71,66,83,5,3,34,36,51,59,255,5290,340,375,2376,385,null,180,733,1982,1928,859,1791,3947,1534,null,781,1436,6983,null,180,170,175,193,195,172,null,2408,2812,798,1529,2751,null,293,2637,1140,1123,293,285,2637,3101,690,710]
[null,"04",56,5677,"P.S. MEDIO MUNDO",2758,null,1317,1441,null,23,26,23,24,23,25,27,26,28,25,24,23,24,21,24,22,21,22,17,15,20,19,20,20,19,19,19,19,17,16,23,21,21,19,19,21,19,20,18,21,81,99,98,132,98,123,98,107,89,98,80,89,71,81,67,75,56,61,44,45,40,37,31,28,17,19,18,23,1,1,10,10,13,16,71,1441,93,102,648,146,null,49,201,542,525,233,488,1076,419,null,213,390,1905,null,49,47,48,53,53,47,null,657,766,217,417,750,null,80,719,312,306,80,77,719,845,189,194]
[null,"04",57,5678,"P.S. TIROLER",153,null,74,79,null,1,1,1,1,1,1,1,1,2,1,1,1,1,1,1,1,1,1,1,1,1,1,1,1,1,1,1,1,1,1,1,2,1,1,1,2,2,1,2,2,5,5,5,7,6,7,6,6,5,5,4,5,4,5,4,4,3,3,2,2,3,2,2,2,1,1,1,2,0,0,1,0,0,1,4,79,5,8,35,6,null,2,9,25,28,14,29,61,24,null,10,25,107,null,2,2,2,2,3,2,null,37,42,12,23,43,null,4,43,15,14,4,6,43,47,11,11]
[150900,null,58,150900,"PROVINCIA OYON",17137,null,8265,8872,null,116,127,91,101,92,103,94,108,105,103,134,121,125,118,126,125,115,136,120,113,129,132,130,132,150,154,141,147,123,132,172,184,155,187,154,150,146,136,124,125,560,606,538,692,508,636,554,585,512,483,534,509,498,545,456,478,439,408,322,334,298,300,218,255,140,193,146,214,11,4,49,46,67,81,329,8872,697,782,3511,438,null,243,797,2796,3605,1849,2927,6298,3267,null,1233,2903,11961,null,243,192,195,202,208,255,null,4039,4336,1431,2213,4293,null,604,4430,1668,1720,604,653,4430,4795,1423,1511]
[150901,null,59,150901,"DISTRITO OYON",11592,null,5609,5983,null,60,74,48,58,53,46,50,51,44,53,85,68,96,93,104,100,86,113,101,97,104,101,101,98,116,113,108,106,100,99,133,137,119,132,113,104,96,93,92,92,402,442,404,488,373,482,405,421,358,335,359,348,347,377,288,290,260,245,198,199,171,168,112,136,68,110,55,114,7,3,25,22,35,52,171,5983,517,558,2516,234,null,134,403,1884,2727,1380,2109,4383,1836,null,943,2157,7955,null,134,106,99,101,97,153,null,2794,2986,912,1586,3074,null,465,3124,1156,1171,465,472,3124,3368,796,862]
[null,"05",60,5648,"P.S. RAPAZ",745,null,360,385,null,4,4,3,4,3,3,3,3,3,3,6,4,6,6,7,7,6,7,7,6,7,6,6,6,7,7,7,7,7,6,8,8,7,9,7,7,6,6,6,6,25,29,26,32,25,31,26,27,23,22,23,23,23,25,18,18,17,17,12,12,11,11,7,9,4,7,4,7,1,0,2,1,2,3,11,385,32,36,164,16,null,8,25,120,174,87,136,284,118,null,62,136,514,null,8,7,6,6,6,10,null,181,195,60,103,200,null,29,201,75,73,29,30,201,219,51,56]
[null,"05",61,5659,"C.S. OYON",9712,null,4699,5013,null,49,62,41,47,45,39,43,44,37,45,71,57,80,78,87,83,72,95,84,81,87,85,85,82,97,95,91,89,83,83,111,115,100,111,95,87,80,78,77,77,337,369,338,409,312,404,339,353,300,281,301,291,291,316,241,243,218,205,166,167,143,142,95,113,57,92,46,95,5,3,21,19,28,43,143,5013,434,468,2107,196,null,111,341,1579,2284,1157,1765,3672,1539,null,788,1808,6664,null,111,88,84,87,82,128,null,2340,2502,764,1329,2575,null,389,2616,969,982,389,396,2616,2821,668,722]
[null,"05",62,5660,"P.S. MALLAY",574,null,277,297,null,3,4,2,3,3,2,2,2,2,3,4,3,5,5,5,5,4,6,5,5,5,5,5,5,6,6,5,5,5,5,7,7,6,6,6,5,5,5,5,5,20,22,20,24,18,24,20,21,18,16,18,17,17,18,14,14,13,12,10,10,8,8,5,7,3,6,3,6,1,0,1,1,2,3,8,297,26,28,124,11,null,7,19,93,136,69,106,215,91,null,47,109,392,null,7,5,5,4,5,7,null,138,146,44,78,152,null,24,155,56,59,24,23,155,166,39,43]
[null,"05",63,5661,"P.S. NAVA",148,null,72,76,null,1,1,1,1,1,1,1,1,1,1,1,1,1,1,1,1,1,1,1,1,1,1,1,1,2,1,1,1,1,1,2,2,2,2,1,1,1,1,1,1,5,6,5,6,5,6,5,5,5,4,5,5,4,5,4,4,3,3,3,3,2,2,1,2,1,1,1,2,0,0,0,0,1,1,2,76,5,7,32,3,null,2,8,24,31,17,26,57,24,null,10,25,103,null,2,2,2,2,2,2,null,36,38,12,20,39,null,6,40,15,14,6,6,40,43,10,12]
[null,"05",64,5662,"P.S. TINTA",309,null,150,159,null,2,2,1,2,1,1,1,1,1,1,2,2,3,2,3,3,2,3,3,3,3,3,3,3,3,3,3,3,3,3,4,4,3,3,3,3,3,2,2,2,11,12,11,13,10,13,11,11,9,9,9,9,9,10,8,8,7,6,5,5,5,4,3,4,2,3,1,3,0,0,1,1,1,1,5,159,15,14,67,6,null,4,9,51,76,38,56,116,48,null,26,59,211,null,4,3,2,2,2,4,null,74,79,24,42,81,null,13,83,31,32,13,13,83,89,21,22]
[null,"05",65,35035,"P.S. QUICHAS",104,null,51,53,null,1,1,0,1,0,0,0,0,0,0,1,1,1,1,1,1,1,1,1,1,1,1,1,1,1,1,1,1,1,1,1,1,1,1,1,1,1,1,1,1,4,4,4,4,3,4,4,4,3,3,3,3,3,3,3,3,2,2,2,2,2,1,1,1,1,1,0,1,0,0,0,0,1,1,2,53,5,5,22,2,null,2,1,17,26,12,20,39,16,null,10,20,71,null,2,1,0,0,0,2,null,25,26,8,14,27,null,4,29,10,11,4,4,29,30,7,7]
[150902,null,66,150902,"DISTRITO ANDAJES",{"$f":"SUM(H73:I73)","v":473},null,241,232,null,4,2,2,2,4,5,2,5,1,7,4,2,2,1,2,2,2,1,0,0,2,2,4,4,2,2,2,3,0,1,3,3,1,4,4,3,2,2,0,0,8,4,6,6,6,4,9,8,12,6,7,7,18,7,15,18,34,20,11,18,16,19,16,22,17,21,23,21,0,0,1,2,3,0,12,232,12,12,35,8,null,6,28,62,56,28,28,117,238,null,16,44,379,null,6,4,9,7,8,6,null,107,76,45,25,47,null,8,83,33,38,8,11,83,62,100,100]
[null,"05",67,5654,"P.S. ANDAJES",473,null,241,232,null,4,2,2,2,4,5,2,5,1,7,4,2,2,1,2,2,2,1,0,0,2,2,4,4,2,2,2,3,0,1,3,3,1,4,4,3,2,2,0,0,8,4,6,6,6,4,9,8,12,6,7,7,18,7,15,18,34,20,11,18,16,19,16,22,17,21,23,21,0,0,1,2,3,0,12,232,12,12,35,8,null,6,28,62,56,28,28,117,238,null,16,44,379,null,6,4,9,7,8,6,null,107,76,45,25,47,null,8,83,33,38,8,11,83,62,100,100]
[150903,null,68,150903,"DISTRITO CAUJUL",445,null,215,230,null,5,8,3,3,3,3,5,2,1,6,2,3,2,2,3,2,1,1,1,3,1,1,2,2,1,1,3,4,1,3,3,3,3,3,3,3,3,4,1,2,12,14,10,16,11,11,11,15,10,11,20,10,9,14,14,17,16,13,18,9,12,7,8,10,5,12,12,12,1,0,5,4,0,4,16,230,11,15,77,14,null,13,26,65,57,31,62,153,134,null,20,47,339,null,13,6,6,7,7,5,null,101,107,44,47,92,null,10,101,33,41,10,12,101,114,66,51]
[null,"05",69,5655,"P.S. CAUJUL",445,null,215,230,null,5,8,3,3,3,3,5,2,1,6,2,3,2,2,3,2,1,1,1,3,1,1,2,2,1,1,3,4,1,3,3,3,3,3,3,3,3,4,1,2,12,14,10,16,11,11,11,15,10,11,20,10,9,14,14,17,16,13,18,9,12,7,8,10,5,12,12,12,1,0,5,4,0,4,16,230,11,15,77,14,null,13,26,65,57,31,62,153,134,null,20,47,339,null,13,6,6,7,7,5,null,101,107,44,47,92,null,10,101,33,41,10,12,101,114,66,51]
[150904,null,70,150904,"DISTRITO COCHAMARCA",1191,null,550,641,null,8,12,8,14,8,14,8,14,18,6,7,15,10,9,4,5,4,5,4,4,6,10,5,8,7,12,7,12,8,13,14,12,13,19,11,10,17,12,13,16,50,56,37,51,35,35,28,33,24,25,38,44,30,35,38,27,23,26,14,16,19,27,9,16,11,10,14,18,1,0,4,3,4,9,24,641,55,69,244,36,null,20,90,206,234,138,252,392,203,null,67,225,789,null,20,22,22,22,24,22,null,253,276,88,137,313,null,46,310,104,140,46,54,310,334,79,103]
[null,"03",71,5783,"P.S. COCHAMARCA",507,null,234,273,null,3,5,3,6,3,6,3,6,8,3,3,6,4,4,2,2,2,2,2,2,2,4,2,3,3,5,3,5,3,6,6,5,6,8,5,4,7,5,6,7,21,24,16,22,15,15,12,14,10,11,16,19,13,15,16,11,10,11,6,7,8,11,4,7,5,4,6,8,1,0,2,1,1,4,10,273,23,29,105,15,null,8,38,86,99,59,108,167,87,null,29,95,337,null,8,9,9,9,11,9,null,108,118,37,59,134,null,20,132,43,59,20,23,132,143,34,44]
[null,"03",72,5784,"P.S. COLCAPAMPA",570,null,262,308,null,4,6,4,7,4,7,4,7,8,2,3,7,5,4,2,2,2,2,2,2,3,5,2,4,3,6,3,6,4,6,7,6,6,9,5,5,8,6,6,8,24,27,18,24,17,17,13,16,12,12,18,21,14,17,18,13,11,13,7,8,9,13,4,8,5,5,7,7,0,0,2,2,2,4,12,308,27,34,117,18,null,10,43,98,111,66,121,188,97,null,31,108,378,null,10,11,11,11,10,10,null,121,133,43,66,151,null,22,148,49,67,22,26,148,161,38,49]
[null,"03",73,5785,"P.S. YARUCAYA",114,null,54,60,null,1,1,1,1,1,1,1,1,2,1,1,2,1,1,0,1,0,1,0,0,1,1,1,1,1,1,1,1,1,1,1,1,1,2,1,1,2,1,1,1,5,5,3,5,3,3,3,3,2,2,4,4,3,3,4,3,2,2,1,1,2,3,1,1,1,1,1,3,0,0,0,0,1,1,2,60,5,6,22,3,null,2,9,22,24,13,23,37,19,null,7,22,74,null,2,2,2,2,3,3,null,24,25,8,12,28,null,4,30,12,14,4,5,30,30,7,10]
[150905,null,74,150905,"DISTRITO NAVAN",814,null,394,420,null,8,11,5,4,4,5,5,6,3,3,3,7,6,2,3,2,5,2,3,1,4,5,3,3,7,8,6,6,2,3,3,6,2,11,6,10,6,9,6,2,20,20,13,19,12,26,31,25,20,23,29,29,39,26,28,32,32,25,23,21,19,23,14,17,9,10,15,18,0,0,4,1,4,10,36,420,25,38,142,14,null,19,35,103,119,70,95,320,226,null,34,108,618,null,19,9,9,11,6,10,null,204,205,83,103,180,null,13,204,65,65,13,30,204,211,103,104]
[null,"05",75,5656,"P.S. NAVAN",814,null,394,420,null,8,11,5,4,4,5,5,6,3,3,3,7,6,2,3,2,5,2,3,1,4,5,3,3,7,8,6,6,2,3,3,6,2,11,6,10,6,9,6,2,20,20,13,19,12,26,31,25,20,23,29,29,39,26,28,32,32,25,23,21,19,23,14,17,9,10,15,18,0,0,4,1,4,10,36,420,25,38,142,14,null,19,35,103,119,70,95,320,226,null,34,108,618,null,19,9,9,11,6,10,null,204,205,83,103,180,null,13,204,65,65,13,30,204,211,103,104]
[150906,null,76,150906,"DISTRITO PACHANGARA",2622,null,1256,1366,null,31,20,25,20,20,30,24,30,38,28,33,26,9,11,10,14,17,14,11,8,12,13,15,17,17,18,15,16,12,13,16,23,17,18,17,20,22,16,12,13,68,70,68,112,71,78,70,83,88,83,81,71,55,86,73,94,74,79,58,71,61,56,59,54,30,30,27,31,2,1,10,14,21,6,70,1366,77,90,497,132,null,51,215,476,412,202,381,933,630,null,153,322,1881,null,51,45,50,54,66,59,null,580,686,259,315,587,null,62,608,277,265,62,74,608,706,279,291]
[null,"05",77,5649,"P.S. HUANCAHUASI",476,null,227,249,null,6,4,5,4,4,5,4,5,7,5,6,5,2,2,2,3,3,3,2,2,2,2,3,3,3,3,3,3,2,2,3,5,3,3,3,4,4,3,2,2,12,13,12,20,12,14,13,15,16,15,15,13,10,16,13,17,13,14,10,13,11,10,11,10,5,5,5,6,0,1,2,3,4,1,13,249,13,17,90,24,null,10,39,89,77,37,68,169,113,null,30,58,339,null,10,9,9,9,12,11,null,104,124,47,57,107,null,11,109,52,49,11,14,109,128,50,53]
[null,"05",78,5657,"C.S. CHURIN",1750,null,839,911,null,20,13,16,13,13,20,16,20,25,19,22,17,6,7,7,9,11,9,7,5,8,9,10,11,11,12,10,11,8,9,11,15,11,12,11,13,15,11,8,9,46,47,46,75,48,52,47,56,59,56,54,47,37,57,49,63,50,53,39,47,41,38,39,36,20,20,18,20,2,0,7,9,13,4,47,911,52,60,333,88,null,33,142,313,272,134,257,625,421,null,100,215,1260,null,33,29,33,36,44,39,null,390,459,173,211,393,null,41,409,182,175,41,49,409,473,187,194]
[null,"05",79,5658,"P.S. PACHANGARA",396,null,190,206,null,5,3,4,3,3,5,4,5,6,4,5,4,1,2,1,2,3,2,2,1,2,2,2,3,3,3,2,2,2,2,2,3,3,3,3,3,3,2,2,2,10,10,10,17,11,12,10,12,13,12,12,11,8,13,11,14,11,12,9,11,9,8,9,8,5,5,4,5,0,0,1,2,4,1,10,206,12,13,74,20,null,8,34,74,63,31,56,139,96,null,23,49,282,null,8,7,8,9,10,9,null,86,103,39,47,87,null,10,90,43,41,10,11,90,105,42,44]
[null,null,80,150600,"PROVINCIA HUARAL",977,null,459,518,null,11,5,5,4,3,7,4,5,6,5,5,3,3,6,4,4,5,5,5,4,3,3,5,7,5,7,4,5,5,7,3,8,8,7,4,7,7,8,5,6,26,32,27,33,37,34,33,31,21,35,32,34,26,32,31,32,31,36,21,22,22,21,20,17,20,20,12,26,1,1,1,3,10,2,32,518,29,36,199,34,null,16,39,117,132,70,144,378,268,null,44,114,764,null,16,9,10,9,11,8,null,238,267,100,134,235,null,20,245,68,70,20,29,245,277,106,122]
[150606,"03",81,5782,"IHUARI - P.S. ACOTAMA",977,null,{"$f":"K88+M88+O88+Q88+S88+U88+W88+Y88+AA88+AC88+AE88+AG88+AI88+AK88+AM88+AO88+AQ88+AS88+AU88+AW88+AY88+BA88+BC88+BE88+BG88+BI88+BK88+BM88+BO88+BQ88+BS88+BU88+BW88+BY88","v":459},518,null,11,5,5,4,3,7,4,5,6,5,5,3,3,6,4,4,5,5,5,4,3,3,5,7,5,7,4,5,5,7,3,8,8,7,4,7,7,8,5,6,26,32,27,33,37,34,33,31,21,35,32,34,26,32,31,32,31,36,21,22,22,21,20,17,20,20,12,26,1,1,1,3,10,2,32,518,29,36,199,34,null,16,39,117,132,70,144,378,268,null,44,114,764,null,16,9,10,9,11,8,null,238,267,100,134,235,null,20,245,68,70,20,29,245,277,106,122]
[null,null,82]
[null,1,83,null,"MICRORED HUAURA",{"$f":"SUM(H90:I90)","v":44336},null,{"$f":"K90+M90+O90+Q90+S90+U90+W90+Y90+AA90+AC90+AE90+AG90+AI90+AK90+AM90+AO90+AQ90+AS90+AU90+AW90+AY90+BA90+BC90+BE90+BG90+BI90+BK90+BM90+BO90+BQ90+BS90+BU90+BW90+BY90","v":21010},{"$f":"L90+N90+P90+R90+T90+V90+X90+Z90+AB90+AD90+AF90+AH90+AJ90+AL90+AN90+AP90+AR90+AT90+AV90+AX90+AZ90+BB90+BD90+BF90+BH90+BJ90+BL90+BN90+BP90+BR90+BT90+BV90+BX90+BZ90","v":23326},null,288,330,263,296,290,257,284,270,352,302,330,325,331,360,351,301,337,318,277,233,277,298,292,314,290,313,274,296,265,288,301,346,298,364,277,331,298,328,296,330,1377,1607,1581,2084,1615,1836,1505,1670,1544,1625,1371,1604,1220,1578,1207,1345,1067,1081,752,830,655,691,522,460,341,366,282,349,16,19,118,123,170,207,725,23326,1509,1699,10426,1271,null,618,2314,7276,7987,3643,7901,18120,7396,null,3163,6076,32165,null,618,559,547,554,654,655,null,11110,12823,4004,6735,12125,null,1141,12014,4236,4213,1141,1329,12014,14007,3278,3411]
[null,2,84,null,"MICRORED HUALMAY",165315,null,79935,85380,null,902,865,856,847,945,947,961,884,1023,1020,1102,1076,1171,1140,1207,1147,1212,1206,1019,935,974,950,992,969,1029,1006,1047,1023,970,945,1124,1192,1128,1102,1104,1129,1108,1068,1032,1095,5219,5498,5365,7040,5410,6347,5711,5889,5674,6032,5565,5911,5165,5621,4904,5180,4317,4435,3344,3698,3031,3389,2318,2449,1610,1647,1396,1698,55,59,397,366,505,499,2396,85380,4893,5586,36717,4014,null,1767,7483,24350,27899,12799,27425,67409,33332,null,11215,20987,123863,null,1767,1703,1892,1845,2043,2178,null,42111,46455,15236,24179,42303,null,4326,45153,14440,14015,4326,4368,45153,49681,14406,15669]
[null,3,85,null,"MICRORED SAYAN",32202,null,15250,16952,null,226,215,222,229,216,253,261,230,275,229,237,229,223,254,215,270,223,234,201,194,170,179,205,218,212,227,221,236,200,217,237,307,238,283,220,241,244,270,229,248,1013,1293,1057,1460,1047,1315,1102,1171,1033,1179,1047,1101,858,1011,851,913,775,727,568,620,526,472,392,388,268,257,238,282,12,15,112,87,114,128,617,16952,1077,1349,7519,1001,null,441,1915,5408,5891,2839,5814,12628,5513,null,2280,4602,22964,null,441,451,469,491,504,466,null,7770,8877,2651,4766,8868,null,895,8481,3107,3197,895,1048,8481,9961,2499,2489]
[null,4,86,null,"MICRORED VEGUETA",30644,null,{"$f":"K93+M93+O93+Q93+S93+U93+W93+Y93+AA93+AC93+AE93+AG93+AI93+AK93+AM93+AO93+AQ93+AS93+AU93+AW93+AY93+BA93+BC93+BE93+BG93+BI93+BK93+BM93+BO93+BQ93+BS93+BU93+BW93+BY93","v":14622},{"$f":"L93+N93+P93+R93+T93+V93+X93+Z93+AB93+AD93+AF93+AH93+AJ93+AL93+AN93+AP93+AR93+AT93+AV93+AX93+AZ93+BB93+BD93+BF93+BH93+BJ93+BL93+BN93+BP93+BR93+BT93+BV93+BX93+BZ93","v":16022},null,257,287,250,265,252,280,297,289,312,278,263,258,263,235,263,247,229,247,192,166,218,211,225,218,216,210,216,210,188,182,256,231,233,212,213,238,216,220,205,234,898,1096,1087,1470,1089,1364,1093,1187,986,1091,886,990,785,905,748,836,625,675,488,496,434,414,349,313,190,214,200,253,14,11,106,108,151,179,782,16022,1031,1135,7198,1328,null,544,2223,6002,5840,2605,5426,11960,4651,null,2363,4352,21162,null,544,515,532,586,590,521,null,7299,8518,2416,4632,8333,null,890,7993,3453,3401,890,863,7993,9393,2096,2151]
[null,5,87,null,"MICRORED CHURIN - OYON",{"$f":"SUM(H94:I94)","v":19920},null,{"$f":"K94+M94+O94+Q94+S94+U94+W94+Y94+AA94+AC94+AE94+AG94+AI94+AK94+AM94+AO94+AQ94+AS94+AU94+AW94+AY94+BA94+BC94+BE94+BG94+BI94+BK94+BM94+BO94+BQ94+BS94+BU94+BW94+BY94","v":9613},{"$f":"L94+N94+P94+R94+T94+V94+X94+Z94+AB94+AD94+AF94+AH94+AJ94+AL94+AN94+AP94+AR94+AT94+AV94+AX94+AZ94+BB94+BD94+BF94+BH94+BJ94+BL94+BN94+BP94+BR94+BT94+BV94+BX94+BZ94","v":10307},null,133,140,96,100,98,102,102,105,105,125,146,124,128,128,147,129,129,145,126,123,139,140,141,143,166,169,150,153,134,138,189,198,174,196,170,161,152,154,131,124,590,657,590,758,554,710,628,638,584,557,605,575,589,669,561,585,551,514,431,445,393,397,321,380,228,289,232,336,10,5,53,49,80,91,355,10307,743,833,3895,480,null,273,833,2994,3886,1998,3156,7255,4517,null,1325,3122,14367,null,273,196,200,207,230,270,null,4662,5006,1768,2480,4728,null,667,4984,1806,1826,667,693,4984,5427,1928,2072]

{"sheet":"etapas y mredes","index":2,"n_rows":24,"n_cols":21,"rows_kept":24,"cut":false,"hidden":false,"merged":[[6,15,6,20],[6,2,6,11],[1,2,5,12]]}
[]
[null,null,"POBLACION ASIGNADA POR DISTRITO SIERRA, HOSPITAL, MICROREDES Y POR ETAPAS DE VIDA 2025"]
[]
[]
[]
[]
[null,null,"DISTRITO",null,null,null,null,null,null,null,null,null,null,null,null,"MICROREDES"]
[null,null,66,68,11,74,59,28,76,33,null,null,null,4,null,83,84,85,86,87]
[null,"POBLACION POR\nETAPAS DE VIDA","Andajes","Caujul","Checras","Naván","Oyón","Paccho","Pachangara","Santa Leonor","Total","PORC. (%)",null,"HOSPITAL HUACHO",null,"HUAURA","HUALMAY","SAYAN","VEGUETA","CHURIN OYON","Total Microredes"]
[77,"Neonatal (0-28dias)",0,1,0,0,7,0,2,0,10,5.0200803212851398E-2,null,0,null,16,55,12,14,10,107]
[90,"Infantil (Men.1año)",6,13,10,19,134,20,51,20,273,1.3704819277108433,null,0,null,618,1767,441,544,273,3643]
[91,"Pre-escolar (01-04años)",28,26,24,35,403,49,215,53,833,4.1817269076305221,null,0,null,2314,7483,1915,2223,833,14768]
[92,"Niño (0-11años)",62,65,85,103,1884,167,476,152,2994,15.03012048192771,null,0,null,7276,24350,5408,6002,2994,46030]
[93,"Escolar  (05-17años)",56,57,143,119,2727,204,412,168,3886,19.508032128514056,null,0,null,7987,27899,5891,5840,3886,51503]
[94,"Adolescente (12-17años)",28,31,92,70,1380,106,202,89,1998,10.03012048192771,null,0,null,3643,12799,2839,2605,1998,23884]
[95,"Adulto Joven (18-29años)",28,62,121,95,2109,202,381,158,3156,15.843373493975903,null,0,null,7901,27425,5814,5426,3156,49722]
[96,"Adulto    (30-59años)",117,153,318,320,4383,598,933,433,7255,36.420682730923694,null,0,null,18120,67409,12628,11960,7255,117372]
[97,"Adu.Mayor (60 a MAS)",238,134,406,226,1836,634,630,413,4517,22.675702811244982,null,0,null,7396,33332,5513,4651,4517,55409]
[116,"Población Hombres Adolescentes  (14 -17 años)",8,10,39,13,465,40,62,30,667,3.3483935742971886,null,0,null,1141,4326,895,890,667,7919]
[117,"Población Hombres (18 - 59 años)",83,101,218,204,3124,375,608,271,4984,25.020080321285143,null,0,null,12014,45153,8481,7993,4984,78625]
[88,"Gestantes",8,14,26,14,234,25,132,27,480,2.4096385542168677,null,0,null,1271,4014,1001,1328,480,8094]
[114,"Mujeres en Edad Fertil (MEF)",47,92,172,180,3074,313,587,263,4728,23.734939759036145,null,0,null,12125,42303,8868,8333,4728,76357]
[null," TOTAL",662,667,1482,1218,18686,2420,4104,1814,19920,100,null,0,null,44336,165315,32202,30644,19920,292417]
[null,"Elaboración: Área de Estadística - RIS Huaura Oyón."]

{"sheet":"Etapas de Vida","index":3,"n_rows":34,"n_cols":6,"rows_kept":34,"cut":false,"hidden":false,"merged":[[1,2,1,4],[39,0,39,14]]}
[]
[]
[]
[]
[86]
[true]
[]
[15]
[]
[]
[null,null,"POBLACIÓN POR CICLO Y \n ETAPAS DE VIDA","PROP. (%)","Nº"]
[77,"Neonatal","Neonatal   (0 - 28dias)",{"$f":"IFERROR((E12/$E$24)*100,0)","v":2.8730128327906529E-2},{"$f":"VLOOKUP($A$8,Poblacion!$C$8:$DL$94,$A12,FALSE)","v":6}]
[90,"Infantil","Infantil   (< 1 año)",1.0438613292472707,{"$f":"VLOOKUP($A$8,Poblacion!$C$8:$DL$94,$A13,FALSE)","v":218}]
[91,"Pre-escolar","Pre-escolar   (1 a 4 años)",4.2855774755793909,{"$f":"VLOOKUP($A$8,Poblacion!$C$8:$DL$94,$A14,FALSE)","v":895}]
[92,"Niños","Niños   (0 - 11 años)",14.389005937559855,{"$f":"VLOOKUP($A$8,Poblacion!$C$8:$DL$94,$A15,FALSE)","v":3005}]
[93,"Escolar","Escolar   (5 - 17 años)",16.76402987933346,{"$f":"VLOOKUP($A$8,Poblacion!$C$8:$DL$94,$A16,FALSE)","v":3501}]
[94,"Adolescentes","Adolescentes   (10 - 19 años)",24.233863244589159,{"$f":"VLOOKUP($A$8,Poblacion!$C$8:$DL$94,$A17,FALSE)+VLOOKUP($A$8,Poblacion!$C$8:$DL$94,$A17+1,FALSE)","v":5061}]
[96,"Adulto","Adulto   (20 - 59 años)",41.29955947136564,{"$f":"VLOOKUP($A$8,Poblacion!$C$8:$DL$94,$A18,FALSE)","v":8625}]
[97,"Adul. Mayor","Adul. Mayor   (60 a Más)",20.07757134648535,{"$f":"VLOOKUP($A$8,Poblacion!$C$8:$DL$94,$A19,FALSE)","v":4193}]
[88,"Gestantes  ","Gestantes  ",2.0015322735108216,{"$f":"VLOOKUP($A$8,Poblacion!$C$8:$DL$94,$A20,FALSE)","v":418}]
[114,"M.E.F","M.E.F",25.531507374066269,{"$f":"VLOOKUP($A$8,Poblacion!$C$8:$DO$94,$A21,FALSE)","v":5332}]
[116,"(14 -17 años)","Población Hombres Adolescentes  (14 -17 años)",2.5904999042329053,{"$f":"VLOOKUP($A$8,Poblacion!$C$8:$DO$94,$A22,FALSE)","v":541},{"$f":"D22","v":2.5904999042329053}]
[117,"(18 - 59 años)","Población Hombres (18 - 59 años)",27.767669028921659,{"$f":"VLOOKUP($A$8,Poblacion!$C$8:$DO$94,$A23,FALSE)","v":5799},{"$f":"D23","v":27.767669028921659}]
[null,null," TOTAL",100,{"$f":"E15+E17+E18+E19","v":20884}]
[null,null,{"$f":"C34","v":"Elaboración: Área de Estadística - RIS Huaura Oyón."}]
[]
[null,null,"POBLACIÓN POR  \nETAPAS DE VIDA ACTUALES","PROP. (%)","Nº"]
[92,"Niños","Niños   (0 - 11 años)",{"$f":"IFERROR((E28/$E$33)*100,0)","v":14.389005937559855},{"$f":"VLOOKUP($A$8,Poblacion!$C$8:$DL$94,$A28,FALSE)","v":3005}]
[94,"Adolescente","Adolescente   (12 - 17 años)",7.7044627466002682,{"$f":"VLOOKUP($A$8,Poblacion!$C$8:$DL$94,$A29,FALSE)","v":1609}]
[95,"Adulto Joven","Joven   (18 - 29 años)",16.529400497988892,{"$f":"VLOOKUP($A$8,Poblacion!$C$8:$DL$94,$A30,FALSE)","v":3452}]
[96,"Adulto","Adulto   (30 - 59 años)",41.29955947136564,{"$f":"VLOOKUP($A$8,Poblacion!$C$8:$DL$94,$A31,FALSE)","v":8625}]
[97,"Adulto Mayor","Adulto Mayor   (60 a Más)",20.07757134648535,{"$f":"VLOOKUP($A$8,Poblacion!$C$8:$DL$94,$A32,FALSE)","v":4193}]
[null,null,"TOTAL",100,{"$f":"SUM(E28:E32)","v":20884}]
[null,null,{"$f":"'etapas y mredes'!B24","v":"Elaboración: Área de Estadística - RIS Huaura Oyón."}]

{"sheet":"Piramide Poblacional","index":4,"n_rows":155,"n_cols":164,"rows_kept":155,"cut":false,"hidden":false,"merged":[[44,3,46,18],[29,44,29,46],[29,48,29,50],[10,90,10,91],[10,92,10,93],[10,94,10,95],[10,96,10,97],[130,144,130,145],[130,146,130,147],[130,117,130,118],[130,119,130,120],[130,121,130,122],[130,123,130,124],[130,125,130,126],[130,130,130,131],[130,105,130,106],[130,107,130,108],[130,109,130,110],[130,111,130,112],[130,113,130,114],[130,115,130,116],[129,91,131,91],[129,93,129,126],[129,128,131,128],[129,130,129,163],[130,93,130,94],[130,95,130,96],[130,97,130,98],[130,99,130,100],[130,101,130,102],[130,103,130,104],[130,156,130,157],[130,158,130,159],[130,160,130,161],[130,162,130,163],[130,148,130,149],[130,150,130,151],[130,152,130,153],[130,154,130,155],[130,132,130,133],[130,134,130,135],[130,136,130,137],[130,138,130,139],[130,140,130,141],[130,142,130,143],[119,17,119,18],[119,22,119,23],[119,27,119,28],[119,32,119,33],[119,37,119,38],[120,17,120,18],[120,22,120,23],[120,27,120,28],[120,32,120,33],[120,37,120,38],[117,17,117,18],[117,22,117,23],[117,27,117,28],[117,32,117,33],[117,37,117,38],[118,17,118,18],[118,22,118,23],[118,27,118,28],[118,32,118,33],[118,37,118,38],[115,17,115,18],[115,22,115,23],[115,27,115,28],[115,32,115,33],[115,37,115,38],[116,17,116,18],[116,22,116,23],[116,27,116,28],[116,32,116,33],[116,37,116,38],[113,17,113,18],[113,22,113,23],[113,27,113,28],[113,32,113,33],[113,37,113,38],[114,17,114,18],[114,22,114,23],[114,27,114,28],[114,32,114,33],[114,37,114,38],[111,17,111,18],[111,22,111,23],[111,27,111,28],[111,32,111,33],[111,37,111,38],[112,17,112,18],[112,22,112,23],[112,27,112,28],[112,32,112,33],[112,37,112,38],[109,17,109,18],[109,22,109,23],[109,27,109,28],[109,32,109,33],[109,37,109,38],[110,17,110,18],[110,22,110,23],[110,27,110,28],[110,32,110,33],[110,37,110,38],[107,17,107,18],[107,22,107,23],[107,27,107,28],[107,32,107,33],[107,37,107,38],[108,17,108,18],[108,22,108,23],[108,27,108,28],[108,32,108,33],[108,37,108,38],[105,17,105,18],[105,22,105,23],[105,27,105,28],[105,32,105,33],[105,37,105,38],[106,17,106,18],[106,22,106,23],[106,27,106,28],[106,32,106,33],[106,37,106,38],[103,32,103,33],[103,37,103,38],[103,42,103,43],[104,17,104,18],[104,22,104,23],[104,27,104,28],[104,32,104,33],[104,37,104,38],[102,152,102,153],[102,129,103,129],[102,130,102,131],[102,132,102,133],[102,134,102,135],[102,136,102,137],[102,138,102,139],[102,115,102,116],[102,117,102,118],[102,119,102,120],[102,121,102,122],[102,123,102,124],[102,125,102,126],[102,103,102,104],[102,105,102,106],[102,107,102,108],[102,154,102,155],[102,156,102,157],[102,158,102,159],[102,160,102,161],[102,162,102,163],[102,140,102,141],[102,142,102,143],[102,144,102,145],[102,146,102,147],[102,148,102,149],[102,150,102,151],[101,91,103,91],[101,92,101,126],[102,78,102,79],[102,80,102,81],[102,82,102,83],[102,84,102,85],[102,86,102,87],[102,88,102,89],[102,66,102,67],[102,68,102,69],[102,70,102,71],[102,72,102,73],[102,74,102,75],[102,76,102,77],[102,109,102,110],[102,111,102,112],[102,113,102,114],[102,92,103,92],[102,93,102,94],[102,95,102,96],[102,97,102,98],[102,99,102,100],[102,101,102,102],[101,128,103,128],[101,129,101,163],[102,17,102,18],[102,22,102,23],[102,27,102,28],[102,32,102,33],[102,37,102,38],[101,17,101,20],[101,22,101,25],[101,27,101,30],[101,32,101,35],[101,37,101,40],[101,54,103,54],[102,42,102,43],[103,17,103,18],[103,22,103,23],[103,27,103,28],[102,55,103,55],[102,56,102,57],[102,58,102,59],[102,60,102,61],[102,62,102,63],[102,64,102,65],[101,55,101,89],[10,55,11,55],[10,56,10,57],[10,58,10,59],[10,60,10,61],[10,62,10,63],[10,64,10,65],[4,4,4,7],[4,11,4,13],[9,44,9,46],[9,48,9,50],[9,55,9,89],[10,78,10,79],[10,80,10,81],[10,82,10,83],[10,84,10,85],[10,86,10,87],[10,88,10,89],[10,66,10,67],[10,68,10,69],[10,70,10,71],[10,72,10,73],[10,74,10,75],[10,76,10,77]]}
[]
[null,null,null,null,null,null,null,null,{"$f":"CONCATENATE(\"PIRAMIDE POBLACIONAL 2025\")","v":"PIRAMIDE POBLACIONAL 2025"},null,null,null,null,null,null,null,null,null,null,{"$f":"UPPER(\"Piramide Poblacional 2024 - \" &$B$10)","v":"PIRAMIDE POBLACIONAL 2024 - MICRORED VEGUETA"}]
[]
[]
[null,null,null,null,"ESTABLECIMIENTOS",null,null,null,null,null,null,null,null,null,null,null,null,null,null,null,null,null,null,null,null,null,null,null,null,null,null,null,null,null,null,null,null,null,null,null,null,null,null,null,null,null,null,null,null,"M","F"]
[]
[87,null,null,null,null,null,null,null,null,null,null,null,null,null,null,null,null,null,null,null,null,null,null,null,null,null,null,null,null,null,null,null,null,null,null,null,null,null,null,null,null,null,null,null,null,null,null,null,null,{"$f":"AX8/SUM($AX$8:$AY$8)","v":0.47724867724867726},{"$f":"AY8/SUM($AX$8:$AY$8)","v":0.52275132275132274}]
[null,null,null,null,null,null,null,null,null,null,null,null,null,null,null,null,null,null,null,null,null,null,null,null,null,null,null,null,null,null,null,null,null,null,null,null,null,null,null,null,null,null,null,null,null,null,null,null,null,{"$f":"SUM(AX12:AX28)","v":14432},{"$f":"SUM(AY12:AY28)","v":15808},null,null,1,2,3,4,5,6,7,8,9,10,11,12,13,14,15,16,17,18,19,20,21,22,23,24,25,26,27,28,29,30,31,32,33,34,35,36,37,38,39,40,41,42,43,44,45]
[]
[87,{"$f":"VLOOKUP($A$10,$BB$13:$BC$100,2,FALSE)","v":"MICRORED VEGUETA"},null,null,null,null,null,null,null,null,null,null,null,null,null,null,null,null,null,null,null,null,null,null,null,null,null,null,null,null,null,null,null,null,null,null,null,null,null,null,null,null,null,null,"DATOS PIRAMIDE",null,null,null,"DATOS PIRAMIDE",null,null,null,null,"N°","DIRECCION DE SALUD","GRUPOS DE EDADES  - PIRAMIDE"]
[null,null,null,null,null,null,null,null,null,null,null,null,null,null,null,null,null,null,null,null,null,null,null,null,null,null,null,null,null,null,null,null,null,null,null,null,null,null,null,null,null,null,null,null,"DESCRIPCION","M","F",null,"DESCRIPCION","M","F",null,"Microredes",null,"PROVINCIA","TOTAL","Menor de 5 años",null,"5 - 9",null,"10 - 14",null,"15 - 19",null,"20 - 24",null,"25 - 29",null,"30 - 34",null,"35 - 39",null,"40 - 44",null,"45 - 49",null,"50 - 54",null,"55 - 59",null,"60 - 64",null,"65 - 69",null,"70 - 74",null,"75 - 79",null,"80 +++",null,"0 - 13",null,"14 - 17",null,"18 - 59",null,"60++++"]
[null,null,null,null,null,null,null,null,null,null,null,null,null,null,null,null,null,null,null,null,null,null,null,null,null,null,null,null,null,null,null,null,null,null,null,null,null,null,null,null,null,null,null,null,"MENORES DE 5 AÑOS",{"$f":"AX12","v":1368},{"$f":"-AY12","v":-1399},null,"MENORES DE 5 AÑOS",{"$f":"+LOOKUP($A$10,numeropiramide,BE13:BE100)","v":1368},{"$f":"+LOOKUP($A$10,numeropiramide,BF13:BF100)","v":1399},null,null,null,"DISTRITO",null,"M","F","M","F","M","F","M","F","M","F","M","F","M","F","M","F","M","F","M","F","M","F","M","F","M","F","M","F","M","F","M","F","M","F","M","F","M","F","M","F","M","F"]
[null,null,null,null,null,null,null,null,null,null,null,null,null,null,null,null,null,null,null,null,null,null,null,null,null,null,null,null,null,null,null,null,null,null,null,null,null,null,null,null,null,null,null,null,"DE 5 A 9 AÑOS",{"$f":"AX13","v":1210},{"$f":"-AY13","v":-1153},null,"DE 5 A 9 AÑOS",{"$f":"+LOOKUP($A$10,numeropiramide,BG13:BG100)","v":1210},{"$f":"+LOOKUP($A$10,numeropiramide,BH13:BH100)","v":1153},null,null,1,"HUAURA - OYON",{"$f":"Poblacion!F8","v":292417},{"$f":"+SUM(Poblacion!K8,Poblacion!M8,Poblacion!O8,Poblacion!Q8,Poblacion!S8)","v":9266},{"$f":"+SUM(Poblacion!L8,Poblacion!N8,Poblacion!P8,Poblacion!R8,Poblacion!T8)","v":9145},{"$f":"SUM(Poblacion!U8,Poblacion!W8,Poblacion!Y8,Poblacion!AA8,Poblacion!AC8)","v":10322},{"$f":"SUM(Poblacion!V8,Poblacion!X8,Poblacion!Z8,Poblacion!AB8,Poblacion!AD8)","v":10024},{"$f":"+SUM(Poblacion!AE8,Poblacion!AG8,Poblacion!AI8,Poblacion!AK8,Poblacion!AM8)","v":9211},{"$f":"+SUM(Poblacion!AF8,Poblacion!AH8,Poblacion!AJ8,Poblacion!AL8,Poblacion!AN8)","v":9253},{"$f":"+SUM(Poblacion!AO8,Poblacion!AQ8,Poblacion!AS8,Poblacion!AU8,Poblacion!AW8)","v":10073},{"$f":"+SUM(Poblacion!AP8,Poblacion!AR8,Poblacion!AT8,Poblacion!AV8,Poblacion!AX8)","v":10602},{"$f":"Poblacion!AY8","v":9097},{"$f":"Poblacion!AZ8","v":10151},{"$f":"Poblacion!BA8","v":9680},{"$f":"Poblacion!BB8","v":12812},{"$f":"Poblacion!BC8","v":9715},{"$f":"Poblacion!BD8","v":11572},{"$f":"Poblacion!BE8","v":10039},{"$f":"Poblacion!BF8","v":10555},{"$f":"Poblacion!BG8","v":9821},{"$f":"Poblacion!BH8","v":10484},{"$f":"Poblacion!BI8","v":9474},{"$f":"Poblacion!BJ8","v":10181},{"$f":"Poblacion!BK8","v":8617},{"$f":"Poblacion!BL8","v":9784},{"$f":"Poblacion!BM8","v":8271},{"$f":"Poblacion!BN8","v":8859},{"$f":"Poblacion!BO8","v":7335},{"$f":"Poblacion!BP8","v":7432},{"$f":"Poblacion!BQ8","v":5583},{"$f":"Poblacion!BR8","v":6089},{"$f":"Poblacion!BS8","v":5039},{"$f":"Poblacion!BT8","v":5363},{"$f":"Poblacion!BU8","v":3902},{"$f":"Poblacion!BV8","v":3990},{"$f":"Poblacion!BY8","v":2348},{"$f":"Poblacion!BZ8","v":2918},{"$f":"Poblacion!DP8","v":27042},{"$f":"Poblacion!DQ8","v":26652},{"$f":"Poblacion!DR8","v":7919},{"$f":"Poblacion!DS8","v":8301},{"$f":"Poblacion!DT8","v":78625},{"$f":"Poblacion!DU8","v":88469},{"$f":"Poblacion!DV8","v":24207},{"$f":"Poblacion!DW8","v":25792}]
[null,null,null,null,null,null,null,null,null,null,null,null,null,null,null,null,null,null,null,null,null,null,null,null,null,null,null,null,null,null,null,null,null,null,null,null,null,null,null,null,null,null,null,null,"DE 10 A 14 AÑOS",1063,-1031,null,"DE 10 A 14 AÑOS",{"$f":"+LOOKUP($A$10,numeropiramide,BI13:BI100)","v":1063},{"$f":"+LOOKUP($A$10,numeropiramide,BJ13:BJ100)","v":1031},null,null,2,"PROVINCIA HUAURA",{"$f":"Poblacion!F9","v":274303},{"$f":"+SUM(Poblacion!K9,Poblacion!M9,Poblacion!O9,Poblacion!Q9,Poblacion!S9)","v":8739},{"$f":"+SUM(Poblacion!L9,Poblacion!N9,Poblacion!P9,Poblacion!R9,Poblacion!T9)","v":8577},{"$f":"SUM(Poblacion!U9,Poblacion!W9,Poblacion!Y9,Poblacion!AA9,Poblacion!AC9)","v":9680},{"$f":"SUM(Poblacion!V9,Poblacion!X9,Poblacion!Z9,Poblacion!AB9,Poblacion!AD9)","v":9389},{"$f":"+SUM(Poblacion!AE9,Poblacion!AG9,Poblacion!AI9,Poblacion!AK9,Poblacion!AM9)","v":8516},{"$f":"+SUM(Poblacion!AF9,Poblacion!AH9,Poblacion!AJ9,Poblacion!AL9,Poblacion!AN9)","v":8527},{"$f":"+SUM(Poblacion!AO9,Poblacion!AQ9,Poblacion!AS9,Poblacion!AU9,Poblacion!AW9)","v":9295},{"$f":"+SUM(Poblacion!AP9,Poblacion!AR9,Poblacion!AT9,Poblacion!AV9,Poblacion!AX9)","v":9784},{"$f":"Poblacion!AY9","v":8511},{"$f":"Poblacion!AZ9","v":9513},{"$f":"Poblacion!BA9","v":9115},{"$f":"Poblacion!BB9","v":12087},{"$f":"Poblacion!BC9","v":9170},{"$f":"Poblacion!BD9","v":10902},{"$f":"Poblacion!BE9","v":9452},{"$f":"Poblacion!BF9","v":9939},{"$f":"Poblacion!BG9","v":9288},{"$f":"Poblacion!BH9","v":9966},{"$f":"Poblacion!BI9","v":8908},{"$f":"Poblacion!BJ9","v":9638},{"$f":"Poblacion!BK9","v":8093},{"$f":"Poblacion!BL9","v":9207},{"$f":"Poblacion!BM9","v":7784},{"$f":"Poblacion!BN9","v":8349},{"$f":"Poblacion!BO9","v":6865},{"$f":"Poblacion!BP9","v":6988},{"$f":"Poblacion!BQ9","v":5240},{"$f":"Poblacion!BR9","v":5733},{"$f":"Poblacion!BS9","v":4719},{"$f":"Poblacion!BT9","v":5042},{"$f":"Poblacion!BU9","v":3664},{"$f":"Poblacion!BV9","v":3718},{"$f":"Poblacion!BY9","v":2190},{"$f":"Poblacion!BZ9","v":2678},{"$f":"Poblacion!DP9","v":25306},{"$f":"Poblacion!DQ9","v":24862},{"$f":"Poblacion!DR9","v":7295},{"$f":"Poblacion!DS9","v":7619},{"$f":"Poblacion!DT9","v":73950},{"$f":"Poblacion!DU9","v":83397},{"$f":"Poblacion!DV9","v":22678},{"$f":"Poblacion!DW9","v":24159}]
[18,{"$f":"VLOOKUP($A$15,$BB$105:$BC$127,2,FALSE)","v":"DISTRITO CAUJUL"},null,null,null,null,null,null,null,null,null,null,null,null,null,null,null,null,null,null,null,null,null,null,null,null,null,null,null,null,null,null,null,null,null,null,null,null,null,null,null,null,null,null,"DE 15 A 19 AÑOS",1123,-1135,null,"DE 15 A 19 AÑOS",{"$f":"+LOOKUP($A$10,numeropiramide,BK13:BK100)","v":1123},{"$f":"+LOOKUP($A$10,numeropiramide,BL13:BL100)","v":1135},null,null,3,"DISTRITO HUACHO",{"$f":"Poblacion!F10","v":53280},{"$f":"+SUM(Poblacion!K10,Poblacion!M10,Poblacion!O10,Poblacion!Q10,Poblacion!S10)","v":1212},{"$f":"+SUM(Poblacion!L10,Poblacion!N10,Poblacion!P10,Poblacion!R10,Poblacion!T10)","v":1201},{"$f":"SUM(Poblacion!U10,Poblacion!W10,Poblacion!Y10,Poblacion!AA10,Poblacion!AC10)","v":1775},{"$f":"SUM(Poblacion!V10,Poblacion!X10,Poblacion!Z10,Poblacion!AB10,Poblacion!AD10)","v":1655},{"$f":"+SUM(Poblacion!AE10,Poblacion!AG10,Poblacion!AI10,Poblacion!AK10,Poblacion!AM10)","v":1536},{"$f":"+SUM(Poblacion!AF10,Poblacion!AH10,Poblacion!AJ10,Poblacion!AL10,Poblacion!AN10)","v":1468},{"$f":"+SUM(Poblacion!AO10,Poblacion!AQ10,Poblacion!AS10,Poblacion!AU10,Poblacion!AW10)","v":1746},{"$f":"+SUM(Poblacion!AP10,Poblacion!AR10,Poblacion!AT10,Poblacion!AV10,Poblacion!AX10)","v":1688},{"$f":"Poblacion!AY10","v":1578},{"$f":"Poblacion!AZ10","v":1626},{"$f":"Poblacion!BA10","v":1630},{"$f":"Poblacion!BB10","v":2134},{"$f":"Poblacion!BC10","v":1685},{"$f":"Poblacion!BD10","v":1955},{"$f":"Poblacion!BE10","v":1829},{"$f":"Poblacion!BF10","v":1800},{"$f":"Poblacion!BG10","v":1865},{"$f":"Poblacion!BH10","v":1933},{"$f":"Poblacion!BI10","v":1836},{"$f":"Poblacion!BJ10","v":1923},{"$f":"Poblacion!BK10","v":1754},{"$f":"Poblacion!BL10","v":1932},{"$f":"Poblacion!BM10","v":1716},{"$f":"Poblacion!BN10","v":1810},{"$f":"Poblacion!BO10","v":1551},{"$f":"Poblacion!BP10","v":1591},{"$f":"Poblacion!BQ10","v":1230},{"$f":"Poblacion!BR10","v":1323},{"$f":"Poblacion!BS10","v":1071},{"$f":"Poblacion!BT10","v":1218},{"$f":"Poblacion!BU10","v":805},{"$f":"Poblacion!BV10","v":841},{"$f":"Poblacion!BY10","v":498},{"$f":"Poblacion!BZ10","v":649},{"$f":"Poblacion!DP10","v":4230},{"$f":"Poblacion!DQ10","v":4043},{"$f":"Poblacion!DR10","v":1338},{"$f":"Poblacion!DS10","v":1323},{"$f":"Poblacion!DT10","v":14594},{"$f":"Poblacion!DU10","v":15759},{"$f":"Poblacion!DV10","v":5155},{"$f":"Poblacion!DW10","v":5622}]
[1,null,null,null,null,null,null,null,null,null,null,null,null,null,null,null,null,null,null,null,null,null,null,null,null,null,null,null,null,null,null,null,null,null,null,null,null,null,null,null,null,null,null,null,"DE 20 A 24 AÑOS",898,-1096,null,"DE 20 A 24 AÑOS",{"$f":"+LOOKUP($A$10,numeropiramide,BM13:BM100)","v":898},{"$f":"+LOOKUP($A$10,numeropiramide,BN13:BN100)","v":1096},null,"00",4,"HOSPITAL HUACHO",{"$f":"Poblacion!F11","v":0},{"$f":"+SUM(Poblacion!K11,Poblacion!M11,Poblacion!O11,Poblacion!Q11,Poblacion!S11)","v":0},{"$f":"+SUM(Poblacion!L11,Poblacion!N11,Poblacion!P11,Poblacion!R11,Poblacion!T11)","v":0},{"$f":"SUM(Poblacion!U11,Poblacion!W11,Poblacion!Y11,Poblacion!AA11,Poblacion!AC11)","v":0},{"$f":"SUM(Poblacion!V11,Poblacion!X11,Poblacion!Z11,Poblacion!AB11,Poblacion!AD11)","v":0},{"$f":"+SUM(Poblacion!AE11,Poblacion!AG11,Poblacion!AI11,Poblacion!AK11,Poblacion!AM11)","v":0},{"$f":"+SUM(Poblacion!AF11,Poblacion!AH11,Poblacion!AJ11,Poblacion!AL11,Poblacion!AN11)","v":0},{"$f":"+SUM(Poblacion!AO11,Poblacion!AQ11,Poblacion!AS11,Poblacion!AU11,Poblacion!AW11)","v":0},{"$f":"+SUM(Poblacion!AP11,Poblacion!AR11,Poblacion!AT11,Poblacion!AV11,Poblacion!AX11)","v":0},{"$f":"Poblacion!AY11","v":0},{"$f":"Poblacion!AZ11","v":0},{"$f":"Poblacion!BA11","v":0},{"$f":"Poblacion!BB11","v":0},{"$f":"Poblacion!BC11","v":0},{"$f":"Poblacion!BD11","v":0},{"$f":"Poblacion!BE11","v":0},{"$f":"Poblacion!BF11","v":0},{"$f":"Poblacion!BG11","v":0},{"$f":"Poblacion!BH11","v":0},{"$f":"Poblacion!BI11","v":0},{"$f":"Poblacion!BJ11","v":0},{"$f":"Poblacion!BK11","v":0},{"$f":"Poblacion!BL11","v":0},{"$f":"Poblacion!BM11","v":0},{"$f":"Poblacion!BN11","v":0},{"$f":"Poblacion!BO11","v":0},{"$f":"Poblacion!BP11","v":0},{"$f":"Poblacion!BQ11","v":0},{"$f":"Poblacion!BR11","v":0},{"$f":"Poblacion!BS11","v":0},{"$f":"Poblacion!BT11","v":0},{"$f":"Poblacion!BU11","v":0},{"$f":"Poblacion!BV11","v":0},{"$f":"Poblacion!BY11","v":0},{"$f":"Poblacion!BZ11","v":0},{"$f":"Poblacion!DP11","v":0},{"$f":"Poblacion!DQ11","v":0},{"$f":"Poblacion!DR11","v":0},{"$f":"Poblacion!DS11","v":0},{"$f":"Poblacion!DT11","v":0},{"$f":"Poblacion!DU11","v":0},{"$f":"Poblacion!DV11","v":0},{"$f":"Poblacion!DW11","v":0}]
[-1,null,null,null,null,null,null,null,null,null,null,null,null,null,null,null,null,null,null,null,null,null,null,null,null,null,null,null,null,null,null,null,null,null,null,null,null,null,null,null,null,null,null,null,"DE 25 A 29 AÑOS",1087,-1470,null,"DE 25 A 29 AÑOS",{"$f":"+LOOKUP($A$10,numeropiramide,BO13:BO100)","v":1087},{"$f":"+LOOKUP($A$10,numeropiramide,BP13:BP100)","v":1470},null,"02",5,"C.S. MANZANARES",{"$f":"Poblacion!F12","v":53280},{"$f":"+SUM(Poblacion!K12,Poblacion!M12,Poblacion!O12,Poblacion!Q12,Poblacion!S12)","v":1212},{"$f":"+SUM(Poblacion!L12,Poblacion!N12,Poblacion!P12,Poblacion!R12,Poblacion!T12)","v":1201},{"$f":"SUM(Poblacion!U12,Poblacion!W12,Poblacion!Y12,Poblacion!AA12,Poblacion!AC12)","v":1775},{"$f":"SUM(Poblacion!V12,Poblacion!X12,Poblacion!Z12,Poblacion!AB12,Poblacion!AD12)","v":1655},{"$f":"+SUM(Poblacion!AE12,Poblacion!AG12,Poblacion!AI12,Poblacion!AK12,Poblacion!AM12)","v":1536},{"$f":"+SUM(Poblacion!AF12,Poblacion!AH12,Poblacion!AJ12,Poblacion!AL12,Poblacion!AN12)","v":1468},{"$f":"+SUM(Poblacion!AO12,Poblacion!AQ12,Poblacion!AS12,Poblacion!AU12,Poblacion!AW12)","v":1746},{"$f":"+SUM(Poblacion!AP12,Poblacion!AR12,Poblacion!AT12,Poblacion!AV12,Poblacion!AX12)","v":1688},{"$f":"Poblacion!AY12","v":1578},{"$f":"Poblacion!AZ12","v":1626},{"$f":"Poblacion!BA12","v":1630},{"$f":"Poblacion!BB12","v":2134},{"$f":"Poblacion!BC12","v":1685},{"$f":"Poblacion!BD12","v":1955},{"$f":"Poblacion!BE12","v":1829},{"$f":"Poblacion!BF12","v":1800},{"$f":"Poblacion!BG12","v":1865},{"$f":"Poblacion!BH12","v":1933},{"$f":"Poblacion!BI12","v":1836},{"$f":"Poblacion!BJ12","v":1923},{"$f":"Poblacion!BK12","v":1754},{"$f":"Poblacion!BL12","v":1932},{"$f":"Poblacion!BM12","v":1716},{"$f":"Poblacion!BN12","v":1810},{"$f":"Poblacion!BO12","v":1551},{"$f":"Poblacion!BP12","v":1591},{"$f":"Poblacion!BQ12","v":1230},{"$f":"Poblacion!BR12","v":1323},{"$f":"Poblacion!BS12","v":1071},{"$f":"Poblacion!BT12","v":1218},{"$f":"Poblacion!BU12","v":805},{"$f":"Poblacion!BV12","v":841},{"$f":"Poblacion!BY12","v":498},{"$f":"Poblacion!BZ12","v":649},{"$f":"Poblacion!DP12","v":4230},{"$f":"Poblacion!DQ12","v":4043},{"$f":"Poblacion!DR12","v":1338},{"$f":"Poblacion!DS12","v":1323},{"$f":"Poblacion!DT12","v":14594},{"$f":"Poblacion!DU12","v":15759},{"$f":"Poblacion!DV12","v":5155},{"$f":"Poblacion!DW12","v":5622}]
[null,null,null,null,null,null,null,null,null,null,null,null,null,null,null,null,null,null,null,null,null,null,null,null,null,null,null,null,null,null,null,null,null,null,null,null,null,null,null,null,null,null,null,null,"DE 30 A 34 AÑOS",1089,-1364,null,"DE 30 A 34 AÑOS",{"$f":"+LOOKUP($A$10,numeropiramide,BQ13:BQ100)","v":1089},{"$f":"+LOOKUP($A$10,numeropiramide,BR13:BR100)","v":1364},null,null,6,"DISTRITO AMBAR",{"$f":"Poblacion!F13","v":2841},{"$f":"+SUM(Poblacion!K13,Poblacion!M13,Poblacion!O13,Poblacion!Q13,Poblacion!S13)","v":106},{"$f":"+SUM(Poblacion!L13,Poblacion!N13,Poblacion!P13,Poblacion!R13,Poblacion!T13)","v":103},{"$f":"SUM(Poblacion!U13,Poblacion!W13,Poblacion!Y13,Poblacion!AA13,Poblacion!AC13)","v":93},{"$f":"SUM(Poblacion!V13,Poblacion!X13,Poblacion!Z13,Poblacion!AB13,Poblacion!AD13)","v":74},{"$f":"+SUM(Poblacion!AE13,Poblacion!AG13,Poblacion!AI13,Poblacion!AK13,Poblacion!AM13)","v":74},{"$f":"+SUM(Poblacion!AF13,Poblacion!AH13,Poblacion!AJ13,Poblacion!AL13,Poblacion!AN13)","v":87},{"$f":"+SUM(Poblacion!AO13,Poblacion!AQ13,Poblacion!AS13,Poblacion!AU13,Poblacion!AW13)","v":84},{"$f":"+SUM(Poblacion!AP13,Poblacion!AR13,Poblacion!AT13,Poblacion!AV13,Poblacion!AX13)","v":101},{"$f":"Poblacion!AY13","v":91},{"$f":"Poblacion!AZ13","v":107},{"$f":"Poblacion!BA13","v":79},{"$f":"Poblacion!BB13","v":128},{"$f":"Poblacion!BC13","v":66},{"$f":"Poblacion!BD13","v":104},{"$f":"Poblacion!BE13","v":85},{"$f":"Poblacion!BF13","v":121},{"$f":"Poblacion!BG13","v":80},{"$f":"Poblacion!BH13","v":81},{"$f":"Poblacion!BI13","v":88},{"$f":"Poblacion!BJ13","v":95},{"$f":"Poblacion!BK13","v":72},{"$f":"Poblacion!BL13","v":97},{"$f":"Poblacion!BM13","v":88},{"$f":"Poblacion!BN13","v":74},{"$f":"Poblacion!BO13","v":67},{"$f":"Poblacion!BP13","v":81},{"$f":"Poblacion!BQ13","v":73},{"$f":"Poblacion!BR13","v":79},{"$f":"Poblacion!BS13","v":64},{"$f":"Poblacion!BT13","v":51},{"$f":"Poblacion!BU13","v":70},{"$f":"Poblacion!BV13","v":30},{"$f":"Poblacion!BY13","v":26},{"$f":"Poblacion!BZ13","v":48},{"$f":"Poblacion!DP13","v":256},{"$f":"Poblacion!DQ13","v":244},{"$f":"Poblacion!DR13","v":61},{"$f":"Poblacion!DS13","v":79},{"$f":"Poblacion!DT13","v":689},{"$f":"Poblacion!DU13","v":849},{"$f":"Poblacion!DV13","v":300},{"$f":"Poblacion!DW13","v":289}]
[null,null,null,null,null,null,null,null,null,null,null,null,null,null,null,null,null,null,null,null,null,null,null,null,null,null,null,null,null,null,null,null,null,null,null,null,null,null,null,null,null,null,null,null,"DE 35 A 39 AÑOS",1093,-1187,null,"DE 35 A 39 AÑOS",{"$f":"+LOOKUP($A$10,numeropiramide,BS13:BS100)","v":1093},{"$f":"+LOOKUP($A$10,numeropiramide,BT13:BT100)","v":1187},null,"01",7,"C.S. AMBAR",{"$f":"Poblacion!F14","v":1787},{"$f":"+SUM(Poblacion!K14,Poblacion!M14,Poblacion!O14,Poblacion!Q14,Poblacion!S14)","v":67},{"$f":"+SUM(Poblacion!L14,Poblacion!N14,Poblacion!P14,Poblacion!R14,Poblacion!T14)","v":65},{"$f":"SUM(Poblacion!U14,Poblacion!W14,Poblacion!Y14,Poblacion!AA14,Poblacion!AC14)","v":58},{"$f":"SUM(Poblacion!V14,Poblacion!X14,Poblacion!Z14,Poblacion!AB14,Poblacion!AD14)","v":46},{"$f":"+SUM(Poblacion!AE14,Poblacion!AG14,Poblacion!AI14,Poblacion!AK14,Poblacion!AM14)","v":47},{"$f":"+SUM(Poblacion!AF14,Poblacion!AH14,Poblacion!AJ14,Poblacion!AL14,Poblacion!AN14)","v":55},{"$f":"+SUM(Poblacion!AO14,Poblacion!AQ14,Poblacion!AS14,Poblacion!AU14,Poblacion!AW14)","v":52},{"$f":"+SUM(Poblacion!AP14,Poblacion!AR14,Poblacion!AT14,Poblacion!AV14,Poblacion!AX14)","v":65},{"$f":"Poblacion!AY14","v":57},{"$f":"Poblacion!AZ14","v":67},{"$f":"Poblacion!BA14","v":50},{"$f":"Poblacion!BB14","v":81},{"$f":"Poblacion!BC14","v":42},{"$f":"Poblacion!BD14","v":65},{"$f":"Poblacion!BE14","v":53},{"$f":"Poblacion!BF14","v":76},{"$f":"Poblacion!BG14","v":50},{"$f":"Poblacion!BH14","v":51},{"$f":"Poblacion!BI14","v":55},{"$f":"Poblacion!BJ14","v":60},{"$f":"Poblacion!BK14","v":45},{"$f":"Poblacion!BL14","v":61},{"$f":"Poblacion!BM14","v":55},{"$f":"Poblacion!BN14","v":47},{"$f":"Poblacion!BO14","v":42},{"$f":"Poblacion!BP14","v":51},{"$f":"Poblacion!BQ14","v":46},{"$f":"Poblacion!BR14","v":50},{"$f":"Poblacion!BS14","v":40},{"$f":"Poblacion!BT14","v":32},{"$f":"Poblacion!BU14","v":44},{"$f":"Poblacion!BV14","v":19},{"$f":"Poblacion!BY14","v":16},{"$f":"Poblacion!BZ14","v":30},{"$f":"Poblacion!DP14","v":161},{"$f":"Poblacion!DQ14","v":153},{"$f":"Poblacion!DR14","v":38},{"$f":"Poblacion!DS14","v":51},{"$f":"Poblacion!DT14","v":432},{"$f":"Poblacion!DU14","v":535},{"$f":"Poblacion!DV14","v":188},{"$f":"Poblacion!DW14","v":182}]
[null,null,null,null,null,null,null,null,null,null,null,null,null,null,null,null,null,null,null,null,null,null,null,null,null,null,null,null,null,null,null,null,null,null,null,null,null,null,null,null,null,null,null,null,"DE 40 A 44 AÑOS",986,-1091,null,"DE 40 A 44 AÑOS",{"$f":"+LOOKUP($A$10,numeropiramide,BU13:BU100)","v":986},{"$f":"+LOOKUP($A$10,numeropiramide,BV13:BV100)","v":1091},null,"01",8,"P.S. AYNACA",{"$f":"Poblacion!F15","v":1054},{"$f":"+SUM(Poblacion!K15,Poblacion!M15,Poblacion!O15,Poblacion!Q15,Poblacion!S15)","v":39},{"$f":"+SUM(Poblacion!L15,Poblacion!N15,Poblacion!P15,Poblacion!R15,Poblacion!T15)","v":38},{"$f":"SUM(Poblacion!U15,Poblacion!W15,Poblacion!Y15,Poblacion!AA15,Poblacion!AC15)","v":35},{"$f":"SUM(Poblacion!V15,Poblacion!X15,Poblacion!Z15,Poblacion!AB15,Poblacion!AD15)","v":28},{"$f":"+SUM(Poblacion!AE15,Poblacion!AG15,Poblacion!AI15,Poblacion!AK15,Poblacion!AM15)","v":27},{"$f":"+SUM(Poblacion!AF15,Poblacion!AH15,Poblacion!AJ15,Poblacion!AL15,Poblacion!AN15)","v":32},{"$f":"+SUM(Poblacion!AO15,Poblacion!AQ15,Poblacion!AS15,Poblacion!AU15,Poblacion!AW15)","v":32},{"$f":"+SUM(Poblacion!AP15,Poblacion!AR15,Poblacion!AT15,Poblacion!AV15,Poblacion!AX15)","v":36},{"$f":"Poblacion!AY15","v":34},{"$f":"Poblacion!AZ15","v":40},{"$f":"Poblacion!BA15","v":29},{"$f":"Poblacion!BB15","v":47},{"$f":"Poblacion!BC15","v":24},{"$f":"Poblacion!BD15","v":39},{"$f":"Poblacion!BE15","v":32},{"$f":"Poblacion!BF15","v":45},{"$f":"Poblacion!BG15","v":30},{"$f":"Poblacion!BH15","v":30},{"$f":"Poblacion!BI15","v":33},{"$f":"Poblacion!BJ15","v":35},{"$f":"Poblacion!BK15","v":27},{"$f":"Poblacion!BL15","v":36},{"$f":"Poblacion!BM15","v":33},{"$f":"Poblacion!BN15","v":27},{"$f":"Poblacion!BO15","v":25},{"$f":"Poblacion!BP15","v":30},{"$f":"Poblacion!BQ15","v":27},{"$f":"Poblacion!BR15","v":29},{"$f":"Poblacion!BS15","v":24},{"$f":"Poblacion!BT15","v":19},{"$f":"Poblacion!BU15","v":26},{"$f":"Poblacion!BV15","v":11},{"$f":"Poblacion!BY15","v":10},{"$f":"Poblacion!BZ15","v":18},{"$f":"Poblacion!DP15","v":95},{"$f":"Poblacion!DQ15","v":91},{"$f":"Poblacion!DR15","v":23},{"$f":"Poblacion!DS15","v":28},{"$f":"Poblacion!DT15","v":257},{"$f":"Poblacion!DU15","v":314},{"$f":"Poblacion!DV15","v":112},{"$f":"Poblacion!DW15","v":107}]
[null,null,null,null,null,null,null,null,null,null,null,null,null,null,null,null,null,null,null,null,null,null,null,null,null,null,null,null,null,null,null,null,null,null,null,null,null,null,null,null,null,null,null,null,"DE 45 A 49 AÑOS",886,-990,null,"DE 45 A 49 AÑOS",{"$f":"+LOOKUP($A$10,numeropiramide,BW13:BW100)","v":886},{"$f":"+LOOKUP($A$10,numeropiramide,BX13:BX100)","v":990},null,null,9,"DISTRITO CARQUIN",{"$f":"Poblacion!F16","v":9548},{"$f":"+SUM(Poblacion!K16,Poblacion!M16,Poblacion!O16,Poblacion!Q16,Poblacion!S16)","v":236},{"$f":"+SUM(Poblacion!L16,Poblacion!N16,Poblacion!P16,Poblacion!R16,Poblacion!T16)","v":230},{"$f":"SUM(Poblacion!U16,Poblacion!W16,Poblacion!Y16,Poblacion!AA16,Poblacion!AC16)","v":319},{"$f":"SUM(Poblacion!V16,Poblacion!X16,Poblacion!Z16,Poblacion!AB16,Poblacion!AD16)","v":303},{"$f":"+SUM(Poblacion!AE16,Poblacion!AG16,Poblacion!AI16,Poblacion!AK16,Poblacion!AM16)","v":325},{"$f":"+SUM(Poblacion!AF16,Poblacion!AH16,Poblacion!AJ16,Poblacion!AL16,Poblacion!AN16)","v":331},{"$f":"+SUM(Poblacion!AO16,Poblacion!AQ16,Poblacion!AS16,Poblacion!AU16,Poblacion!AW16)","v":328},{"$f":"+SUM(Poblacion!AP16,Poblacion!AR16,Poblacion!AT16,Poblacion!AV16,Poblacion!AX16)","v":369},{"$f":"Poblacion!AY16","v":305},{"$f":"Poblacion!AZ16","v":346},{"$f":"Poblacion!BA16","v":305},{"$f":"Poblacion!BB16","v":388},{"$f":"Poblacion!BC16","v":320},{"$f":"Poblacion!BD16","v":411},{"$f":"Poblacion!BE16","v":356},{"$f":"Poblacion!BF16","v":355},{"$f":"Poblacion!BG16","v":340},{"$f":"Poblacion!BH16","v":406},{"$f":"Poblacion!BI16","v":326},{"$f":"Poblacion!BJ16","v":343},{"$f":"Poblacion!BK16","v":269},{"$f":"Poblacion!BL16","v":310},{"$f":"Poblacion!BM16","v":284},{"$f":"Poblacion!BN16","v":309},{"$f":"Poblacion!BO16","v":248},{"$f":"Poblacion!BP16","v":222},{"$f":"Poblacion!BQ16","v":159},{"$f":"Poblacion!BR16","v":202},{"$f":"Poblacion!BS16","v":179},{"$f":"Poblacion!BT16","v":179},{"$f":"Poblacion!BU16","v":116},{"$f":"Poblacion!BV16","v":124},{"$f":"Poblacion!BY16","v":49},{"$f":"Poblacion!BZ16","v":70},{"$f":"Poblacion!DP16","v":812},{"$f":"Poblacion!DQ16","v":797},{"$f":"Poblacion!DR16","v":294},{"$f":"Poblacion!DS16","v":307},{"$f":"Poblacion!DT16","v":2607},{"$f":"Poblacion!DU16","v":2997},{"$f":"Poblacion!DV16","v":751},{"$f":"Poblacion!DW16","v":797}]
[null,null,null,null,null,null,null,null,null,null,null,null,null,null,null,null,null,null,null,null,null,null,null,null,null,null,null,null,null,null,null,null,null,null,null,null,null,null,null,null,null,null,null,null,"DE 50 A 54 AÑOS",785,-905,null,"DE 50 A 54 AÑOS",{"$f":"+LOOKUP($A$10,numeropiramide,BY13:BY100)","v":785},{"$f":"+LOOKUP($A$10,numeropiramide,BZ13:BZ100)","v":905},null,"02",10,"P.S. CARQUIN",{"$f":"Poblacion!F17","v":9548},{"$f":"+SUM(Poblacion!K17,Poblacion!M17,Poblacion!O17,Poblacion!Q17,Poblacion!S17)","v":236},{"$f":"+SUM(Poblacion!L17,Poblacion!N17,Poblacion!P17,Poblacion!R17,Poblacion!T17)","v":230},{"$f":"SUM(Poblacion!U17,Poblacion!W17,Poblacion!Y17,Poblacion!AA17,Poblacion!AC17)","v":319},{"$f":"SUM(Poblacion!V17,Poblacion!X17,Poblacion!Z17,Poblacion!AB17,Poblacion!AD17)","v":303},{"$f":"+SUM(Poblacion!AE17,Poblacion!AG17,Poblacion!AI17,Poblacion!AK17,Poblacion!AM17)","v":325},{"$f":"+SUM(Poblacion!AF17,Poblacion!AH17,Poblacion!AJ17,Poblacion!AL17,Poblacion!AN17)","v":331},{"$f":"+SUM(Poblacion!AO17,Poblacion!AQ17,Poblacion!AS17,Poblacion!AU17,Poblacion!AW17)","v":328},{"$f":"+SUM(Poblacion!AP17,Poblacion!AR17,Poblacion!AT17,Poblacion!AV17,Poblacion!AX17)","v":369},{"$f":"Poblacion!AY17","v":305},{"$f":"Poblacion!AZ17","v":346},{"$f":"Poblacion!BA17","v":305},{"$f":"Poblacion!BB17","v":388},{"$f":"Poblacion!BC17","v":320},{"$f":"Poblacion!BD17","v":411},{"$f":"Poblacion!BE17","v":356},{"$f":"Poblacion!BF17","v":355},{"$f":"Poblacion!BG17","v":340},{"$f":"Poblacion!BH17","v":406},{"$f":"Poblacion!BI17","v":326},{"$f":"Poblacion!BJ17","v":343},{"$f":"Poblacion!BK17","v":269},{"$f":"Poblacion!BL17","v":310},{"$f":"Poblacion!BM17","v":284},{"$f":"Poblacion!BN17","v":309},{"$f":"Poblacion!BO17","v":248},{"$f":"Poblacion!BP17","v":222},{"$f":"Poblacion!BQ17","v":159},{"$f":"Poblacion!BR17","v":202},{"$f":"Poblacion!BS17","v":179},{"$f":"Poblacion!BT17","v":179},{"$f":"Poblacion!BU17","v":116},{"$f":"Poblacion!BV17","v":124},{"$f":"Poblacion!BY17","v":49},{"$f":"Poblacion!BZ17","v":70},{"$f":"Poblacion!DP17","v":812},{"$f":"Poblacion!DQ17","v":797},{"$f":"Poblacion!DR17","v":294},{"$f":"Poblacion!DS17","v":307},{"$f":"Poblacion!DT17","v":2607},{"$f":"Poblacion!DU17","v":2997},{"$f":"Poblacion!DV17","v":751},{"$f":"Poblacion!DW17","v":797}]
[null,null,null,null,null,null,null,null,null,null,null,null,null,null,null,null,null,null,null,null,null,null,null,null,null,null,null,null,null,null,null,null,null,null,null,null,null,null,null,null,null,null,null,null,"DE 55 A 59 AÑOS",748,-836,null,"DE 55 A 59 AÑOS",{"$f":"+LOOKUP($A$10,numeropiramide,CA13:CA100)","v":748},{"$f":"+LOOKUP($A$10,numeropiramide,CB13:CB100)","v":836},null,null,11,"DISTRITO CHECRAS",{"$f":"Poblacion!F18","v":1022},{"$f":"+SUM(Poblacion!K18,Poblacion!M18,Poblacion!O18,Poblacion!Q18,Poblacion!S18)","v":13},{"$f":"+SUM(Poblacion!L18,Poblacion!N18,Poblacion!P18,Poblacion!R18,Poblacion!T18)","v":21},{"$f":"SUM(Poblacion!U18,Poblacion!W18,Poblacion!Y18,Poblacion!AA18,Poblacion!AC18)","v":21},{"$f":"SUM(Poblacion!V18,Poblacion!X18,Poblacion!Z18,Poblacion!AB18,Poblacion!AD18)","v":13},{"$f":"+SUM(Poblacion!AE18,Poblacion!AG18,Poblacion!AI18,Poblacion!AK18,Poblacion!AM18)","v":23},{"$f":"+SUM(Poblacion!AF18,Poblacion!AH18,Poblacion!AJ18,Poblacion!AL18,Poblacion!AN18)","v":25},{"$f":"+SUM(Poblacion!AO18,Poblacion!AQ18,Poblacion!AS18,Poblacion!AU18,Poblacion!AW18)","v":44},{"$f":"+SUM(Poblacion!AP18,Poblacion!AR18,Poblacion!AT18,Poblacion!AV18,Poblacion!AX18)","v":36},{"$f":"Poblacion!AY18","v":18},{"$f":"Poblacion!AZ18","v":29},{"$f":"Poblacion!BA18","v":27},{"$f":"Poblacion!BB18","v":28},{"$f":"Poblacion!BC18","v":17},{"$f":"Poblacion!BD18","v":22},{"$f":"Poblacion!BE18","v":20},{"$f":"Poblacion!BF18","v":24},{"$f":"Poblacion!BG18","v":27},{"$f":"Poblacion!BH18","v":16},{"$f":"Poblacion!BI18","v":27},{"$f":"Poblacion!BJ18","v":17},{"$f":"Poblacion!BK18","v":30},{"$f":"Poblacion!BL18","v":39},{"$f":"Poblacion!BM18","v":42},{"$f":"Poblacion!BN18","v":37},{"$f":"Poblacion!BO18","v":34},{"$f":"Poblacion!BP18","v":31},{"$f":"Poblacion!BQ18","v":35},{"$f":"Poblacion!BR18","v":38},{"$f":"Poblacion!BS18","v":36},{"$f":"Poblacion!BT18","v":42},{"$f":"Poblacion!BU18","v":19},{"$f":"Poblacion!BV18","v":31},{"$f":"Poblacion!BY18","v":29},{"$f":"Poblacion!BZ18","v":49},{"$f":"Poblacion!DP18","v":52},{"$f":"Poblacion!DQ18","v":54},{"$f":"Poblacion!DR18","v":39},{"$f":"Poblacion!DS18","v":32},{"$f":"Poblacion!DT18","v":218},{"$f":"Poblacion!DU18","v":221},{"$f":"Poblacion!DV18","v":153},{"$f":"Poblacion!DW18","v":191}]
[null,null,null,null,null,null,null,null,null,null,null,null,null,null,null,null,null,null,null,null,null,null,null,null,null,null,null,null,null,null,null,null,null,null,null,null,null,null,null,null,null,null,null,null,"DE 60 A 64 AÑOS",625,-675,null,"DE 60 A 64 AÑOS",{"$f":"+LOOKUP($A$10,numeropiramide,CC13:CC100)","v":625},{"$f":"+LOOKUP($A$10,numeropiramide,CD13:CD100)","v":675},null,"05",12,"P.S. PUÑUN",{"$f":"Poblacion!F19","v":1022},{"$f":"+SUM(Poblacion!K19,Poblacion!M19,Poblacion!O19,Poblacion!Q19,Poblacion!S19)","v":13},{"$f":"+SUM(Poblacion!L19,Poblacion!N19,Poblacion!P19,Poblacion!R19,Poblacion!T19)","v":21},{"$f":"SUM(Poblacion!U19,Poblacion!W19,Poblacion!Y19,Poblacion!AA19,Poblacion!AC19)","v":21},{"$f":"SUM(Poblacion!V19,Poblacion!X19,Poblacion!Z19,Poblacion!AB19,Poblacion!AD19)","v":13},{"$f":"+SUM(Poblacion!AE19,Poblacion!AG19,Poblacion!AI19,Poblacion!AK19,Poblacion!AM19)","v":23},{"$f":"+SUM(Poblacion!AF19,Poblacion!AH19,Poblacion!AJ19,Poblacion!AL19,Poblacion!AN19)","v":25},{"$f":"+SUM(Poblacion!AO19,Poblacion!AQ19,Poblacion!AS19,Poblacion!AU19,Poblacion!AW19)","v":44},{"$f":"+SUM(Poblacion!AP19,Poblacion!AR19,Poblacion!AT19,Poblacion!AV19,Poblacion!AX19)","v":36},{"$f":"Poblacion!AY19","v":18},{"$f":"Poblacion!AZ19","v":29},{"$f":"Poblacion!BA19","v":27},{"$f":"Poblacion!BB19","v":28},{"$f":"Poblacion!BC19","v":17},{"$f":"Poblacion!BD19","v":22},{"$f":"Poblacion!BE19","v":20},{"$f":"Poblacion!BF19","v":24},{"$f":"Poblacion!BG19","v":27},{"$f":"Poblacion!BH19","v":16},{"$f":"Poblacion!BI19","v":27},{"$f":"Poblacion!BJ19","v":17},{"$f":"Poblacion!BK19","v":30},{"$f":"Poblacion!BL19","v":39},{"$f":"Poblacion!BM19","v":42},{"$f":"Poblacion!BN19","v":37},{"$f":"Poblacion!BO19","v":34},{"$f":"Poblacion!BP19","v":31},{"$f":"Poblacion!BQ19","v":35},{"$f":"Poblacion!BR19","v":38},{"$f":"Poblacion!BS19","v":36},{"$f":"Poblacion!BT19","v":42},{"$f":"Poblacion!BU19","v":19},{"$f":"Poblacion!BV19","v":31},{"$f":"Poblacion!BY19","v":29},{"$f":"Poblacion!BZ19","v":49},{"$f":"Poblacion!DP19","v":52},{"$f":"Poblacion!DQ19","v":54},{"$f":"Poblacion!DR19","v":39},{"$f":"Poblacion!DS19","v":32},{"$f":"Poblacion!DT19","v":218},{"$f":"Poblacion!DU19","v":221},{"$f":"Poblacion!DV19","v":153},{"$f":"Poblacion!DW19","v":191}]
[null,null,null,null,null,null,null,null,null,null,null,null,null,null,null,null,null,null,null,null,null,null,null,null,null,null,null,null,null,null,null,null,null,null,null,null,null,null,null,null,null,null,null,null,"DE 65 A 69 AÑOS",488,-496,null,"DE 65 A 69 AÑOS",{"$f":"+LOOKUP($A$10,numeropiramide,CE13:CE100)","v":488},{"$f":"+LOOKUP($A$10,numeropiramide,CF13:CF100)","v":496},null,null,13,"DISTRITO HUALMAY",{"$f":"Poblacion!F20","v":57016},{"$f":"+SUM(Poblacion!K20,Poblacion!M20,Poblacion!O20,Poblacion!Q20,Poblacion!S20)","v":1560},{"$f":"+SUM(Poblacion!L20,Poblacion!N20,Poblacion!P20,Poblacion!R20,Poblacion!T20)","v":1492},{"$f":"SUM(Poblacion!U20,Poblacion!W20,Poblacion!Y20,Poblacion!AA20,Poblacion!AC20)","v":1979},{"$f":"SUM(Poblacion!V20,Poblacion!X20,Poblacion!Z20,Poblacion!AB20,Poblacion!AD20)","v":1887},{"$f":"+SUM(Poblacion!AE20,Poblacion!AG20,Poblacion!AI20,Poblacion!AK20,Poblacion!AM20)","v":1711},{"$f":"+SUM(Poblacion!AF20,Poblacion!AH20,Poblacion!AJ20,Poblacion!AL20,Poblacion!AN20)","v":1676},{"$f":"+SUM(Poblacion!AO20,Poblacion!AQ20,Poblacion!AS20,Poblacion!AU20,Poblacion!AW20)","v":1877},{"$f":"+SUM(Poblacion!AP20,Poblacion!AR20,Poblacion!AT20,Poblacion!AV20,Poblacion!AX20)","v":1904},{"$f":"Poblacion!AY20","v":1776},{"$f":"Poblacion!AZ20","v":1891},{"$f":"Poblacion!BA20","v":1854},{"$f":"Poblacion!BB20","v":2429},{"$f":"Poblacion!BC20","v":1906},{"$f":"Poblacion!BD20","v":2138},{"$f":"Poblacion!BE20","v":1989},{"$f":"Poblacion!BF20","v":2069},{"$f":"Poblacion!BG20","v":1979},{"$f":"Poblacion!BH20","v":2093},{"$f":"Poblacion!BI20","v":2001},{"$f":"Poblacion!BJ20","v":2079},{"$f":"Poblacion!BK20","v":1849},{"$f":"Poblacion!BL20","v":1933},{"$f":"Poblacion!BM20","v":1726},{"$f":"Poblacion!BN20","v":1808},{"$f":"Poblacion!BO20","v":1491},{"$f":"Poblacion!BP20","v":1506},{"$f":"Poblacion!BQ20","v":1155},{"$f":"Poblacion!BR20","v":1297},{"$f":"Poblacion!BS20","v":1008},{"$f":"Poblacion!BT20","v":1126},{"$f":"Poblacion!BU20","v":789},{"$f":"Poblacion!BV20","v":866},{"$f":"Poblacion!BY20","v":450},{"$f":"Poblacion!BZ20","v":614},{"$f":"Poblacion!DP20","v":4909},{"$f":"Poblacion!DQ20","v":4721},{"$f":"Poblacion!DR20","v":1476},{"$f":"Poblacion!DS20","v":1501},{"$f":"Poblacion!DT20","v":15822},{"$f":"Poblacion!DU20","v":17177},{"$f":"Poblacion!DV20","v":4893},{"$f":"Poblacion!DW20","v":5409}]
[null,null,null,null,null,null,null,null,null,null,null,null,null,null,null,null,null,null,null,null,null,null,null,null,null,null,null,null,null,null,null,null,null,null,null,null,null,null,null,null,null,null,null,null,"DE 70 A 74 AÑOS",434,-414,null,"DE 70 A 74 AÑOS",{"$f":"+LOOKUP($A$10,numeropiramide,CG13:CG100)","v":434},{"$f":"+LOOKUP($A$10,numeropiramide,CH13:CH100)","v":414},null,"02",14,"C.S. HUALMAY",{"$f":"Poblacion!F21","v":31021},{"$f":"+SUM(Poblacion!K21,Poblacion!M21,Poblacion!O21,Poblacion!Q21,Poblacion!S21)","v":831},{"$f":"+SUM(Poblacion!L21,Poblacion!N21,Poblacion!P21,Poblacion!R21,Poblacion!T21)","v":800},{"$f":"SUM(Poblacion!U21,Poblacion!W21,Poblacion!Y21,Poblacion!AA21,Poblacion!AC21)","v":1071},{"$f":"SUM(Poblacion!V21,Poblacion!X21,Poblacion!Z21,Poblacion!AB21,Poblacion!AD21)","v":1019},{"$f":"+SUM(Poblacion!AE21,Poblacion!AG21,Poblacion!AI21,Poblacion!AK21,Poblacion!AM21)","v":925},{"$f":"+SUM(Poblacion!AF21,Poblacion!AH21,Poblacion!AJ21,Poblacion!AL21,Poblacion!AN21)","v":904},{"$f":"+SUM(Poblacion!AO21,Poblacion!AQ21,Poblacion!AS21,Poblacion!AU21,Poblacion!AW21)","v":1020},{"$f":"+SUM(Poblacion!AP21,Poblacion!AR21,Poblacion!AT21,Poblacion!AV21,Poblacion!AX21)","v":1030},{"$f":"Poblacion!AY21","v":960},{"$f":"Poblacion!AZ21","v":1019},{"$f":"Poblacion!BA21","v":1001},{"$f":"Poblacion!BB21","v":1312},{"$f":"Poblacion!BC21","v":1030},{"$f":"Poblacion!BD21","v":1175},{"$f":"Poblacion!BE21","v":1080},{"$f":"Poblacion!BF21","v":1117},{"$f":"Poblacion!BG21","v":1077},{"$f":"Poblacion!BH21","v":1136},{"$f":"Poblacion!BI21","v":1086},{"$f":"Poblacion!BJ21","v":1129},{"$f":"Poblacion!BK21","v":1007},{"$f":"Poblacion!BL21","v":1060},{"$f":"Poblacion!BM21","v":946},{"$f":"Poblacion!BN21","v":991},{"$f":"Poblacion!BO21","v":821},{"$f":"Poblacion!BP21","v":831},{"$f":"Poblacion!BQ21","v":639},{"$f":"Poblacion!BR21","v":713},{"$f":"Poblacion!BS21","v":557},{"$f":"Poblacion!BT21","v":623},{"$f":"Poblacion!BU21","v":434},{"$f":"Poblacion!BV21","v":473},{"$f":"Poblacion!BY21","v":250},{"$f":"Poblacion!BZ21","v":339},{"$f":"Poblacion!DP21","v":2644},{"$f":"Poblacion!DQ21","v":2544},{"$f":"Poblacion!DR21","v":799},{"$f":"Poblacion!DS21","v":811},{"$f":"Poblacion!DT21","v":8591},{"$f":"Poblacion!DU21","v":9337},{"$f":"Poblacion!DV21","v":2701},{"$f":"Poblacion!DW21","v":2979}]
[null,null,null,null,null,null,null,null,null,null,null,null,null,null,null,null,null,null,null,null,null,null,null,null,null,null,null,null,null,null,null,null,null,null,null,null,null,null,null,null,null,null,null,null,"DE 75 A 79 AÑOS",349,-313,null,"DE 75 A 79 AÑOS",{"$f":"+LOOKUP($A$10,numeropiramide,CI13:CI100)","v":349},{"$f":"+LOOKUP($A$10,numeropiramide,CJ13:CJ100)","v":313},null,"02",15,"P.S. DGO. MANDAMIENTO",{"$f":"Poblacion!F22","v":20884},{"$f":"+SUM(Poblacion!K22,Poblacion!M22,Poblacion!O22,Poblacion!Q22,Poblacion!S22)","v":570},{"$f":"+SUM(Poblacion!L22,Poblacion!N22,Poblacion!P22,Poblacion!R22,Poblacion!T22)","v":543},{"$f":"SUM(Poblacion!U22,Poblacion!W22,Poblacion!Y22,Poblacion!AA22,Poblacion!AC22)","v":724},{"$f":"SUM(Poblacion!V22,Poblacion!X22,Poblacion!Z22,Poblacion!AB22,Poblacion!AD22)","v":691},{"$f":"+SUM(Poblacion!AE22,Poblacion!AG22,Poblacion!AI22,Poblacion!AK22,Poblacion!AM22)","v":629},{"$f":"+SUM(Poblacion!AF22,Poblacion!AH22,Poblacion!AJ22,Poblacion!AL22,Poblacion!AN22)","v":615},{"$f":"+SUM(Poblacion!AO22,Poblacion!AQ22,Poblacion!AS22,Poblacion!AU22,Poblacion!AW22)","v":687},{"$f":"+SUM(Poblacion!AP22,Poblacion!AR22,Poblacion!AT22,Poblacion!AV22,Poblacion!AX22)","v":696},{"$f":"Poblacion!AY22","v":651},{"$f":"Poblacion!AZ22","v":692},{"$f":"Poblacion!BA22","v":679},{"$f":"Poblacion!BB22","v":889},{"$f":"Poblacion!BC22","v":698},{"$f":"Poblacion!BD22","v":768},{"$f":"Poblacion!BE22","v":729},{"$f":"Poblacion!BF22","v":757},{"$f":"Poblacion!BG22","v":726},{"$f":"Poblacion!BH22","v":768},{"$f":"Poblacion!BI22","v":733},{"$f":"Poblacion!BJ22","v":762},{"$f":"Poblacion!BK22","v":678},{"$f":"Poblacion!BL22","v":709},{"$f":"Poblacion!BM22","v":633},{"$f":"Poblacion!BN22","v":664},{"$f":"Poblacion!BO22","v":548},{"$f":"Poblacion!BP22","v":554},{"$f":"Poblacion!BQ22","v":424},{"$f":"Poblacion!BR22","v":476},{"$f":"Poblacion!BS22","v":370},{"$f":"Poblacion!BT22","v":415},{"$f":"Poblacion!BU22","v":289},{"$f":"Poblacion!BV22","v":318},{"$f":"Poblacion!BY22","v":166},{"$f":"Poblacion!BZ22","v":226},{"$f":"Poblacion!DP22","v":1797},{"$f":"Poblacion!DQ22","v":1726},{"$f":"Poblacion!DR22","v":541},{"$f":"Poblacion!DS22","v":550},{"$f":"Poblacion!DT22","v":5799},{"$f":"Poblacion!DU22","v":6278},{"$f":"Poblacion!DV22","v":1797},{"$f":"Poblacion!DW22","v":1989}]
[null,null,null,null,null,null,null,null,null,null,null,null,null,null,null,null,null,null,null,null,null,null,null,null,null,null,null,null,null,null,null,null,null,null,null,null,null,null,null,null,null,null,null,null,"DE 80 A MAS AÑOS",200,-253,null,"DE 80 A MAS AÑOS",{"$f":"+LOOKUP($A$10,numeropiramide,CK13:CK100)","v":200},{"$f":"+LOOKUP($A$10,numeropiramide,CL13:CL100)","v":253},null,"02",16,"P.S. CAMPO ALEGRE",{"$f":"Poblacion!F23","v":5111},{"$f":"+SUM(Poblacion!K23,Poblacion!M23,Poblacion!O23,Poblacion!Q23,Poblacion!S23)","v":159},{"$f":"+SUM(Poblacion!L23,Poblacion!N23,Poblacion!P23,Poblacion!R23,Poblacion!T23)","v":149},{"$f":"SUM(Poblacion!U23,Poblacion!W23,Poblacion!Y23,Poblacion!AA23,Poblacion!AC23)","v":184},{"$f":"SUM(Poblacion!V23,Poblacion!X23,Poblacion!Z23,Poblacion!AB23,Poblacion!AD23)","v":177},{"$f":"+SUM(Poblacion!AE23,Poblacion!AG23,Poblacion!AI23,Poblacion!AK23,Poblacion!AM23)","v":157},{"$f":"+SUM(Poblacion!AF23,Poblacion!AH23,Poblacion!AJ23,Poblacion!AL23,Poblacion!AN23)","v":157},{"$f":"+SUM(Poblacion!AO23,Poblacion!AQ23,Poblacion!AS23,Poblacion!AU23,Poblacion!AW23)","v":170},{"$f":"+SUM(Poblacion!AP23,Poblacion!AR23,Poblacion!AT23,Poblacion!AV23,Poblacion!AX23)","v":178},{"$f":"Poblacion!AY23","v":165},{"$f":"Poblacion!AZ23","v":180},{"$f":"Poblacion!BA23","v":174},{"$f":"Poblacion!BB23","v":228},{"$f":"Poblacion!BC23","v":178},{"$f":"Poblacion!BD23","v":195},{"$f":"Poblacion!BE23","v":180},{"$f":"Poblacion!BF23","v":195},{"$f":"Poblacion!BG23","v":176},{"$f":"Poblacion!BH23","v":189},{"$f":"Poblacion!BI23","v":182},{"$f":"Poblacion!BJ23","v":188},{"$f":"Poblacion!BK23","v":164},{"$f":"Poblacion!BL23","v":164},{"$f":"Poblacion!BM23","v":147},{"$f":"Poblacion!BN23","v":153},{"$f":"Poblacion!BO23","v":122},{"$f":"Poblacion!BP23","v":121},{"$f":"Poblacion!BQ23","v":92},{"$f":"Poblacion!BR23","v":108},{"$f":"Poblacion!BS23","v":81},{"$f":"Poblacion!BT23","v":88},{"$f":"Poblacion!BU23","v":66},{"$f":"Poblacion!BV23","v":75},{"$f":"Poblacion!BY23","v":34},{"$f":"Poblacion!BZ23","v":49},{"$f":"Poblacion!DP23","v":468},{"$f":"Poblacion!DQ23","v":451},{"$f":"Poblacion!DR23","v":136},{"$f":"Poblacion!DS23","v":140},{"$f":"Poblacion!DT23","v":1432},{"$f":"Poblacion!DU23","v":1562},{"$f":"Poblacion!DV23","v":395},{"$f":"Poblacion!DW23","v":441}]
[null,null,null,null,null,null,null,null,null,null,null,null,null,null,null,null,null,null,null,null,null,null,null,null,null,null,null,null,null,null,null,null,null,null,null,null,null,null,null,null,null,null,null,null,null,null,null,null,null,null,null,null,null,17,"DISTRITO HUAURA                   ",{"$f":"Poblacion!F24","v":41495},{"$f":"+SUM(Poblacion!K24,Poblacion!M24,Poblacion!O24,Poblacion!Q24,Poblacion!S24)","v":1371},{"$f":"+SUM(Poblacion!L24,Poblacion!N24,Poblacion!P24,Poblacion!R24,Poblacion!T24)","v":1352},{"$f":"SUM(Poblacion!U24,Poblacion!W24,Poblacion!Y24,Poblacion!AA24,Poblacion!AC24)","v":1533},{"$f":"SUM(Poblacion!V24,Poblacion!X24,Poblacion!Z24,Poblacion!AB24,Poblacion!AD24)","v":1463},{"$f":"+SUM(Poblacion!AE24,Poblacion!AG24,Poblacion!AI24,Poblacion!AK24,Poblacion!AM24)","v":1324},{"$f":"+SUM(Poblacion!AF24,Poblacion!AH24,Poblacion!AJ24,Poblacion!AL24,Poblacion!AN24)","v":1422},{"$f":"+SUM(Poblacion!AO24,Poblacion!AQ24,Poblacion!AS24,Poblacion!AU24,Poblacion!AW24)","v":1386},{"$f":"+SUM(Poblacion!AP24,Poblacion!AR24,Poblacion!AT24,Poblacion!AV24,Poblacion!AX24)","v":1598},{"$f":"Poblacion!AY24","v":1286},{"$f":"Poblacion!AZ24","v":1500},{"$f":"Poblacion!BA24","v":1502},{"$f":"Poblacion!BB24","v":1956},{"$f":"Poblacion!BC24","v":1549},{"$f":"Poblacion!BD24","v":1732},{"$f":"Poblacion!BE24","v":1420},{"$f":"Poblacion!BF24","v":1549},{"$f":"Poblacion!BG24","v":1464},{"$f":"Poblacion!BH24","v":1544},{"$f":"Poblacion!BI24","v":1283},{"$f":"Poblacion!BJ24","v":1509},{"$f":"Poblacion!BK24","v":1148},{"$f":"Poblacion!BL24","v":1481},{"$f":"Poblacion!BM24","v":1119},{"$f":"Poblacion!BN24","v":1271},{"$f":"Poblacion!BO24","v":1000},{"$f":"Poblacion!BP24","v":1000},{"$f":"Poblacion!BQ24","v":679},{"$f":"Poblacion!BR24","v":751},{"$f":"Poblacion!BS24","v":591},{"$f":"Poblacion!BT24","v":640},{"$f":"Poblacion!BU24","v":452},{"$f":"Poblacion!BV24","v":430},{"$f":"Poblacion!BY24","v":256},{"$f":"Poblacion!BZ24","v":301},{"$f":"Poblacion!DP24","v":3980},{"$f":"Poblacion!DQ24","v":3969},{"$f":"Poblacion!DR24","v":1080},{"$f":"Poblacion!DS24","v":1250},{"$f":"Poblacion!DT24","v":11325},{"$f":"Poblacion!DU24","v":13158},{"$f":"Poblacion!DV24","v":2978},{"$f":"Poblacion!DW24","v":3122}]
[null,null,null,null,null,null,null,null,null,null,null,null,null,null,null,null,null,null,null,null,null,null,null,null,null,null,null,null,null,null,null,null,null,null,null,null,null,null,null,null,null,null,null,null,"DATOS PIRAMIDE-CANCER",null,null,null,"DATOS PIRAMIDE- CANCER",null,null,null,"01",18,"C.S. HUAURA",{"$f":"Poblacion!F25","v":18665},{"$f":"+SUM(Poblacion!K25,Poblacion!M25,Poblacion!O25,Poblacion!Q25,Poblacion!S25)","v":616},{"$f":"+SUM(Poblacion!L25,Poblacion!N25,Poblacion!P25,Poblacion!R25,Poblacion!T25)","v":608},{"$f":"SUM(Poblacion!U25,Poblacion!W25,Poblacion!Y25,Poblacion!AA25,Poblacion!AC25)","v":690},{"$f":"SUM(Poblacion!V25,Poblacion!X25,Poblacion!Z25,Poblacion!AB25,Poblacion!AD25)","v":658},{"$f":"+SUM(Poblacion!AE25,Poblacion!AG25,Poblacion!AI25,Poblacion!AK25,Poblacion!AM25)","v":595},{"$f":"+SUM(Poblacion!AF25,Poblacion!AH25,Poblacion!AJ25,Poblacion!AL25,Poblacion!AN25)","v":639},{"$f":"+SUM(Poblacion!AO25,Poblacion!AQ25,Poblacion!AS25,Poblacion!AU25,Poblacion!AW25)","v":623},{"$f":"+SUM(Poblacion!AP25,Poblacion!AR25,Poblacion!AT25,Poblacion!AV25,Poblacion!AX25)","v":718},{"$f":"Poblacion!AY25","v":578},{"$f":"Poblacion!AZ25","v":675},{"$f":"Poblacion!BA25","v":676},{"$f":"Poblacion!BB25","v":880},{"$f":"Poblacion!BC25","v":696},{"$f":"Poblacion!BD25","v":779},{"$f":"Poblacion!BE25","v":639},{"$f":"Poblacion!BF25","v":696},{"$f":"Poblacion!BG25","v":658},{"$f":"Poblacion!BH25","v":695},{"$f":"Poblacion!BI25","v":577},{"$f":"Poblacion!BJ25","v":679},{"$f":"Poblacion!BK25","v":517},{"$f":"Poblacion!BL25","v":667},{"$f":"Poblacion!BM25","v":504},{"$f":"Poblacion!BN25","v":572},{"$f":"Poblacion!BO25","v":450},{"$f":"Poblacion!BP25","v":450},{"$f":"Poblacion!BQ25","v":306},{"$f":"Poblacion!BR25","v":337},{"$f":"Poblacion!BS25","v":266},{"$f":"Poblacion!BT25","v":288},{"$f":"Poblacion!BU25","v":203},{"$f":"Poblacion!BV25","v":194},{"$f":"Poblacion!BY25","v":115},{"$f":"Poblacion!BZ25","v":136},{"$f":"Poblacion!DP25","v":1789},{"$f":"Poblacion!DQ25","v":1784},{"$f":"Poblacion!DR25","v":485},{"$f":"Poblacion!DS25","v":562},{"$f":"Poblacion!DT25","v":5095},{"$f":"Poblacion!DU25","v":5920},{"$f":"Poblacion!DV25","v":1340},{"$f":"Poblacion!DW25","v":1405}]
[null,null,null,null,null,null,null,null,null,null,null,null,null,null,null,null,null,null,null,null,null,null,null,null,null,null,null,null,null,null,null,null,null,null,null,null,null,null,null,null,null,null,null,null,"DESCRIPCION","M","F",null,"DESCRIPCION","M","F",null,"01",19,"P.S. HUMAYA",{"$f":"Poblacion!F26","v":3738},{"$f":"+SUM(Poblacion!K26,Poblacion!M26,Poblacion!O26,Poblacion!Q26,Poblacion!S26)","v":123},{"$f":"+SUM(Poblacion!L26,Poblacion!N26,Poblacion!P26,Poblacion!R26,Poblacion!T26)","v":122},{"$f":"SUM(Poblacion!U26,Poblacion!W26,Poblacion!Y26,Poblacion!AA26,Poblacion!AC26)","v":138},{"$f":"SUM(Poblacion!V26,Poblacion!X26,Poblacion!Z26,Poblacion!AB26,Poblacion!AD26)","v":131},{"$f":"+SUM(Poblacion!AE26,Poblacion!AG26,Poblacion!AI26,Poblacion!AK26,Poblacion!AM26)","v":119},{"$f":"+SUM(Poblacion!AF26,Poblacion!AH26,Poblacion!AJ26,Poblacion!AL26,Poblacion!AN26)","v":129},{"$f":"+SUM(Poblacion!AO26,Poblacion!AQ26,Poblacion!AS26,Poblacion!AU26,Poblacion!AW26)","v":125},{"$f":"+SUM(Poblacion!AP26,Poblacion!AR26,Poblacion!AT26,Poblacion!AV26,Poblacion!AX26)","v":144},{"$f":"Poblacion!AY26","v":116},{"$f":"Poblacion!AZ26","v":135},{"$f":"Poblacion!BA26","v":135},{"$f":"Poblacion!BB26","v":176},{"$f":"Poblacion!BC26","v":140},{"$f":"Poblacion!BD26","v":156},{"$f":"Poblacion!BE26","v":128},{"$f":"Poblacion!BF26","v":140},{"$f":"Poblacion!BG26","v":132},{"$f":"Poblacion!BH26","v":139},{"$f":"Poblacion!BI26","v":116},{"$f":"Poblacion!BJ26","v":136},{"$f":"Poblacion!BK26","v":103},{"$f":"Poblacion!BL26","v":133},{"$f":"Poblacion!BM26","v":101},{"$f":"Poblacion!BN26","v":114},{"$f":"Poblacion!BO26","v":90},{"$f":"Poblacion!BP26","v":90},{"$f":"Poblacion!BQ26","v":61},{"$f":"Poblacion!BR26","v":68},{"$f":"Poblacion!BS26","v":53},{"$f":"Poblacion!BT26","v":58},{"$f":"Poblacion!BU26","v":41},{"$f":"Poblacion!BV26","v":39},{"$f":"Poblacion!BY26","v":23},{"$f":"Poblacion!BZ26","v":27},{"$f":"Poblacion!DP26","v":358},{"$f":"Poblacion!DQ26","v":358},{"$f":"Poblacion!DR26","v":97},{"$f":"Poblacion!DS26","v":113},{"$f":"Poblacion!DT26","v":1021},{"$f":"Poblacion!DU26","v":1184},{"$f":"Poblacion!DV26","v":268},{"$f":"Poblacion!DW26","v":282}]
[null,null,null,null,null,null,null,null,null,null,null,null,null,null,null,null,null,null,null,null,null,null,null,null,null,null,null,null,null,null,null,null,null,null,null,null,null,null,null,null,null,null,null,null,"DE 0 A 13 AÑOS",{"$f":"AX32","v":52},{"$f":"-AY32","v":-49},null,"DE 0 A 13 AÑOS",{"$f":"VLOOKUP($T$48,$BB$13:$CT$100,38,FALSE)","v":52},{"$f":"VLOOKUP($T$48,$BB$13:$CT$100,39,FALSE)","v":49},null,"01",20,"P.S. VILCAHUAURA",{"$f":"Poblacion!F27","v":3315},{"$f":"+SUM(Poblacion!K27,Poblacion!M27,Poblacion!O27,Poblacion!Q27,Poblacion!S27)","v":108},{"$f":"+SUM(Poblacion!L27,Poblacion!N27,Poblacion!P27,Poblacion!R27,Poblacion!T27)","v":109},{"$f":"SUM(Poblacion!U27,Poblacion!W27,Poblacion!Y27,Poblacion!AA27,Poblacion!AC27)","v":124},{"$f":"SUM(Poblacion!V27,Poblacion!X27,Poblacion!Z27,Poblacion!AB27,Poblacion!AD27)","v":117},{"$f":"+SUM(Poblacion!AE27,Poblacion!AG27,Poblacion!AI27,Poblacion!AK27,Poblacion!AM27)","v":106},{"$f":"+SUM(Poblacion!AF27,Poblacion!AH27,Poblacion!AJ27,Poblacion!AL27,Poblacion!AN27)","v":114},{"$f":"+SUM(Poblacion!AO27,Poblacion!AQ27,Poblacion!AS27,Poblacion!AU27,Poblacion!AW27)","v":111},{"$f":"+SUM(Poblacion!AP27,Poblacion!AR27,Poblacion!AT27,Poblacion!AV27,Poblacion!AX27)","v":128},{"$f":"Poblacion!AY27","v":103},{"$f":"Poblacion!AZ27","v":120},{"$f":"Poblacion!BA27","v":120},{"$f":"Poblacion!BB27","v":156},{"$f":"Poblacion!BC27","v":124},{"$f":"Poblacion!BD27","v":138},{"$f":"Poblacion!BE27","v":113},{"$f":"Poblacion!BF27","v":124},{"$f":"Poblacion!BG27","v":117},{"$f":"Poblacion!BH27","v":123},{"$f":"Poblacion!BI27","v":102},{"$f":"Poblacion!BJ27","v":121},{"$f":"Poblacion!BK27","v":92},{"$f":"Poblacion!BL27","v":118},{"$f":"Poblacion!BM27","v":89},{"$f":"Poblacion!BN27","v":101},{"$f":"Poblacion!BO27","v":80},{"$f":"Poblacion!BP27","v":80},{"$f":"Poblacion!BQ27","v":54},{"$f":"Poblacion!BR27","v":60},{"$f":"Poblacion!BS27","v":47},{"$f":"Poblacion!BT27","v":51},{"$f":"Poblacion!BU27","v":36},{"$f":"Poblacion!BV27","v":34},{"$f":"Poblacion!BY27","v":20},{"$f":"Poblacion!BZ27","v":24},{"$f":"Poblacion!DP27","v":318},{"$f":"Poblacion!DQ27","v":319},{"$f":"Poblacion!DR27","v":87},{"$f":"Poblacion!DS27","v":100},{"$f":"Poblacion!DT27","v":904},{"$f":"Poblacion!DU27","v":1050},{"$f":"Poblacion!DV27","v":237},{"$f":"Poblacion!DW27","v":249}]
[null,null,null,null,null,null,null,null,null,null,null,null,null,null,null,null,null,null,null,null,null,null,null,null,null,null,null,null,null,null,null,null,null,null,null,null,null,null,null,null,null,null,null,null,"DE 14 A 17 AÑOS",{"$f":"AX33","v":11},{"$f":"-AY33","v":-14},null,"DE 14 A 17 AÑOS",{"$f":"VLOOKUP($T$48,$BB$13:$CT$100,40,FALSE)","v":11},{"$f":"VLOOKUP($T$48,$BB$13:$CT$100,41,FALSE)","v":14},null,"01",21,"P.S. PEÑICO",{"$f":"Poblacion!F28","v":422},{"$f":"+SUM(Poblacion!K28,Poblacion!M28,Poblacion!O28,Poblacion!Q28,Poblacion!S28)","v":14},{"$f":"+SUM(Poblacion!L28,Poblacion!N28,Poblacion!P28,Poblacion!R28,Poblacion!T28)","v":13},{"$f":"SUM(Poblacion!U28,Poblacion!W28,Poblacion!Y28,Poblacion!AA28,Poblacion!AC28)","v":15},{"$f":"SUM(Poblacion!V28,Poblacion!X28,Poblacion!Z28,Poblacion!AB28,Poblacion!AD28)","v":14},{"$f":"+SUM(Poblacion!AE28,Poblacion!AG28,Poblacion!AI28,Poblacion!AK28,Poblacion!AM28)","v":14},{"$f":"+SUM(Poblacion!AF28,Poblacion!AH28,Poblacion!AJ28,Poblacion!AL28,Poblacion!AN28)","v":15},{"$f":"+SUM(Poblacion!AO28,Poblacion!AQ28,Poblacion!AS28,Poblacion!AU28,Poblacion!AW28)","v":15},{"$f":"+SUM(Poblacion!AP28,Poblacion!AR28,Poblacion!AT28,Poblacion!AV28,Poblacion!AX28)","v":17},{"$f":"Poblacion!AY28","v":13},{"$f":"Poblacion!AZ28","v":15},{"$f":"Poblacion!BA28","v":15},{"$f":"Poblacion!BB28","v":20},{"$f":"Poblacion!BC28","v":16},{"$f":"Poblacion!BD28","v":18},{"$f":"Poblacion!BE28","v":14},{"$f":"Poblacion!BF28","v":16},{"$f":"Poblacion!BG28","v":15},{"$f":"Poblacion!BH28","v":16},{"$f":"Poblacion!BI28","v":13},{"$f":"Poblacion!BJ28","v":15},{"$f":"Poblacion!BK28","v":11},{"$f":"Poblacion!BL28","v":15},{"$f":"Poblacion!BM28","v":11},{"$f":"Poblacion!BN28","v":14},{"$f":"Poblacion!BO28","v":10},{"$f":"Poblacion!BP28","v":10},{"$f":"Poblacion!BQ28","v":7},{"$f":"Poblacion!BR28","v":8},{"$f":"Poblacion!BS28","v":6},{"$f":"Poblacion!BT28","v":6},{"$f":"Poblacion!BU28","v":5},{"$f":"Poblacion!BV28","v":4},{"$f":"Poblacion!BY28","v":3},{"$f":"Poblacion!BZ28","v":3},{"$f":"Poblacion!DP28","v":41},{"$f":"Poblacion!DQ28","v":39},{"$f":"Poblacion!DR28","v":11},{"$f":"Poblacion!DS28","v":13},{"$f":"Poblacion!DT28","v":114},{"$f":"Poblacion!DU28","v":136},{"$f":"Poblacion!DV28","v":31},{"$f":"Poblacion!DW28","v":31}]
[null,null,null,null,null,null,null,null,null,null,null,null,null,null,null,null,null,null,null,null,null,null,null,null,null,null,null,null,null,null,null,null,null,null,null,null,null,null,null,null,null,null,null,null,"DE 18 A 59 AÑOS",109,-128,null,"DE 18 A 59 AÑOS",{"$f":"VLOOKUP($T$48,$BB$13:$CT$100,42,FALSE)","v":109},{"$f":"VLOOKUP($T$48,$BB$13:$CT$100,43,FALSE)","v":128},null,"01",22,"P.S. EL SOCORRO",{"$f":"Poblacion!F29","v":15355},{"$f":"+SUM(Poblacion!K29,Poblacion!M29,Poblacion!O29,Poblacion!Q29,Poblacion!S29)","v":510},{"$f":"+SUM(Poblacion!L29,Poblacion!N29,Poblacion!P29,Poblacion!R29,Poblacion!T29)","v":500},{"$f":"SUM(Poblacion!U29,Poblacion!W29,Poblacion!Y29,Poblacion!AA29,Poblacion!AC29)","v":566},{"$f":"SUM(Poblacion!V29,Poblacion!X29,Poblacion!Z29,Poblacion!AB29,Poblacion!AD29)","v":543},{"$f":"+SUM(Poblacion!AE29,Poblacion!AG29,Poblacion!AI29,Poblacion!AK29,Poblacion!AM29)","v":490},{"$f":"+SUM(Poblacion!AF29,Poblacion!AH29,Poblacion!AJ29,Poblacion!AL29,Poblacion!AN29)","v":525},{"$f":"+SUM(Poblacion!AO29,Poblacion!AQ29,Poblacion!AS29,Poblacion!AU29,Poblacion!AW29)","v":512},{"$f":"+SUM(Poblacion!AP29,Poblacion!AR29,Poblacion!AT29,Poblacion!AV29,Poblacion!AX29)","v":591},{"$f":"Poblacion!AY29","v":476},{"$f":"Poblacion!AZ29","v":555},{"$f":"Poblacion!BA29","v":556},{"$f":"Poblacion!BB29","v":724},{"$f":"Poblacion!BC29","v":573},{"$f":"Poblacion!BD29","v":641},{"$f":"Poblacion!BE29","v":526},{"$f":"Poblacion!BF29","v":573},{"$f":"Poblacion!BG29","v":542},{"$f":"Poblacion!BH29","v":571},{"$f":"Poblacion!BI29","v":475},{"$f":"Poblacion!BJ29","v":558},{"$f":"Poblacion!BK29","v":425},{"$f":"Poblacion!BL29","v":548},{"$f":"Poblacion!BM29","v":414},{"$f":"Poblacion!BN29","v":470},{"$f":"Poblacion!BO29","v":370},{"$f":"Poblacion!BP29","v":370},{"$f":"Poblacion!BQ29","v":251},{"$f":"Poblacion!BR29","v":278},{"$f":"Poblacion!BS29","v":219},{"$f":"Poblacion!BT29","v":237},{"$f":"Poblacion!BU29","v":167},{"$f":"Poblacion!BV29","v":159},{"$f":"Poblacion!BY29","v":95},{"$f":"Poblacion!BZ29","v":111},{"$f":"Poblacion!DP29","v":1474},{"$f":"Poblacion!DQ29","v":1469},{"$f":"Poblacion!DR29","v":400},{"$f":"Poblacion!DS29","v":462},{"$f":"Poblacion!DT29","v":4191},{"$f":"Poblacion!DU29","v":4868},{"$f":"Poblacion!DV29","v":1102},{"$f":"Poblacion!DW29","v":1155}]
[null,null,null,null,null,null,null,null,null,null,null,null,null,null,null,null,null,null,null,null,null,null,null,null,null,null,null,null,null,null,null,null,null,null,null,null,null,null,null,null,null,null,null,null,"DE 60 A MAS AÑOS",50,{"$f":"-AY35","v":-53},null,"DE 60 A MAS AÑOS",{"$f":"VLOOKUP($T$48,$BB$13:$CT$100,44,FALSE)","v":50},{"$f":"VLOOKUP($T$48,$BB$13:$CT$100,45,FALSE)","v":53},null,null,23,"DISTRITO LEONCIO PRADO",{"$f":"Poblacion!F30","v":2490},{"$f":"+SUM(Poblacion!K30,Poblacion!M30,Poblacion!O30,Poblacion!Q30,Poblacion!S30)","v":96},{"$f":"+SUM(Poblacion!L30,Poblacion!N30,Poblacion!P30,Poblacion!R30,Poblacion!T30)","v":76},{"$f":"SUM(Poblacion!U30,Poblacion!W30,Poblacion!Y30,Poblacion!AA30,Poblacion!AC30)","v":55},{"$f":"SUM(Poblacion!V30,Poblacion!X30,Poblacion!Z30,Poblacion!AB30,Poblacion!AD30)","v":75},{"$f":"+SUM(Poblacion!AE30,Poblacion!AG30,Poblacion!AI30,Poblacion!AK30,Poblacion!AM30)","v":55},{"$f":"+SUM(Poblacion!AF30,Poblacion!AH30,Poblacion!AJ30,Poblacion!AL30,Poblacion!AN30)","v":85},{"$f":"+SUM(Poblacion!AO30,Poblacion!AQ30,Poblacion!AS30,Poblacion!AU30,Poblacion!AW30)","v":84},{"$f":"+SUM(Poblacion!AP30,Poblacion!AR30,Poblacion!AT30,Poblacion!AV30,Poblacion!AX30)","v":102},{"$f":"Poblacion!AY30","v":86},{"$f":"Poblacion!AZ30","v":119},{"$f":"Poblacion!BA30","v":54},{"$f":"Poblacion!BB30","v":102},{"$f":"Poblacion!BC30","v":82},{"$f":"Poblacion!BD30","v":94},{"$f":"Poblacion!BE30","v":74},{"$f":"Poblacion!BF30","v":91},{"$f":"Poblacion!BG30","v":74},{"$f":"Poblacion!BH30","v":81},{"$f":"Poblacion!BI30","v":78},{"$f":"Poblacion!BJ30","v":90},{"$f":"Poblacion!BK30","v":61},{"$f":"Poblacion!BL30","v":87},{"$f":"Poblacion!BM30","v":63},{"$f":"Poblacion!BN30","v":62},{"$f":"Poblacion!BO30","v":61},{"$f":"Poblacion!BP30","v":76},{"$f":"Poblacion!BQ30","v":63},{"$f":"Poblacion!BR30","v":80},{"$f":"Poblacion!BS30","v":38},{"$f":"Poblacion!BT30","v":43},{"$f":"Poblacion!BU30","v":29},{"$f":"Poblacion!BV30","v":45},{"$f":"Poblacion!BY30","v":30},{"$f":"Poblacion!BZ30","v":43},{"$f":"Poblacion!DP30","v":194},{"$f":"Poblacion!DQ30","v":217},{"$f":"Poblacion!DR30","v":60},{"$f":"Poblacion!DS30","v":81},{"$f":"Poblacion!DT30","v":608},{"$f":"Poblacion!DU30","v":766},{"$f":"Poblacion!DV30","v":221},{"$f":"Poblacion!DW30","v":287}]
[null,null,null,null,null,null,null,null,null,null,null,null,null,null,null,null,null,null,null,null,null,null,null,null,null,null,null,null,null,null,null,null,null,null,null,null,null,null,null,null,null,null,null,null,null,null,null,null,null,null,null,null,"03",24,"P.S. AUQUIMARCA",{"$f":"Poblacion!F31","v":138},{"$f":"+SUM(Poblacion!K31,Poblacion!M31,Poblacion!O31,Poblacion!Q31,Poblacion!S31)","v":5},{"$f":"+SUM(Poblacion!L31,Poblacion!N31,Poblacion!P31,Poblacion!R31,Poblacion!T31)","v":5},{"$f":"SUM(Poblacion!U31,Poblacion!W31,Poblacion!Y31,Poblacion!AA31,Poblacion!AC31)","v":4},{"$f":"SUM(Poblacion!V31,Poblacion!X31,Poblacion!Z31,Poblacion!AB31,Poblacion!AD31)","v":5},{"$f":"+SUM(Poblacion!AE31,Poblacion!AG31,Poblacion!AI31,Poblacion!AK31,Poblacion!AM31)","v":4},{"$f":"+SUM(Poblacion!AF31,Poblacion!AH31,Poblacion!AJ31,Poblacion!AL31,Poblacion!AN31)","v":5},{"$f":"+SUM(Poblacion!AO31,Poblacion!AQ31,Poblacion!AS31,Poblacion!AU31,Poblacion!AW31)","v":5},{"$f":"+SUM(Poblacion!AP31,Poblacion!AR31,Poblacion!AT31,Poblacion!AV31,Poblacion!AX31)","v":5},{"$f":"Poblacion!AY31","v":5},{"$f":"Poblacion!AZ31","v":7},{"$f":"Poblacion!BA31","v":3},{"$f":"Poblacion!BB31","v":5},{"$f":"Poblacion!BC31","v":4},{"$f":"Poblacion!BD31","v":5},{"$f":"Poblacion!BE31","v":4},{"$f":"Poblacion!BF31","v":5},{"$f":"Poblacion!BG31","v":4},{"$f":"Poblacion!BH31","v":5},{"$f":"Poblacion!BI31","v":4},{"$f":"Poblacion!BJ31","v":5},{"$f":"Poblacion!BK31","v":4},{"$f":"Poblacion!BL31","v":5},{"$f":"Poblacion!BM31","v":3},{"$f":"Poblacion!BN31","v":3},{"$f":"Poblacion!BO31","v":3},{"$f":"Poblacion!BP31","v":4},{"$f":"Poblacion!BQ31","v":3},{"$f":"Poblacion!BR31","v":4},{"$f":"Poblacion!BS31","v":2},{"$f":"Poblacion!BT31","v":2},{"$f":"Poblacion!BU31","v":2},{"$f":"Poblacion!BV31","v":2},{"$f":"Poblacion!BY31","v":2},{"$f":"Poblacion!BZ31","v":2},{"$f":"Poblacion!DP31","v":12},{"$f":"Poblacion!DQ31","v":14},{"$f":"Poblacion!DR31","v":4},{"$f":"Poblacion!DS31","v":4},{"$f":"Poblacion!DT31","v":33},{"$f":"Poblacion!DU31","v":42},{"$f":"Poblacion!DV31","v":12},{"$f":"Poblacion!DW31","v":14}]
[null,null,null,null,null,null,null,null,null,null,null,null,null,null,null,null,null,null,null,null,null,null,null,null,null,null,null,null,null,null,null,null,null,null,null,null,null,null,null,null,null,null,null,null,null,null,null,null,null,null,null,null,"03",25,"P.S. PARAN",{"$f":"Poblacion!F32","v":867},{"$f":"+SUM(Poblacion!K32,Poblacion!M32,Poblacion!O32,Poblacion!Q32,Poblacion!S32)","v":33},{"$f":"+SUM(Poblacion!L32,Poblacion!N32,Poblacion!P32,Poblacion!R32,Poblacion!T32)","v":27},{"$f":"SUM(Poblacion!U32,Poblacion!W32,Poblacion!Y32,Poblacion!AA32,Poblacion!AC32)","v":18},{"$f":"SUM(Poblacion!V32,Poblacion!X32,Poblacion!Z32,Poblacion!AB32,Poblacion!AD32)","v":26},{"$f":"+SUM(Poblacion!AE32,Poblacion!AG32,Poblacion!AI32,Poblacion!AK32,Poblacion!AM32)","v":19},{"$f":"+SUM(Poblacion!AF32,Poblacion!AH32,Poblacion!AJ32,Poblacion!AL32,Poblacion!AN32)","v":29},{"$f":"+SUM(Poblacion!AO32,Poblacion!AQ32,Poblacion!AS32,Poblacion!AU32,Poblacion!AW32)","v":29},{"$f":"+SUM(Poblacion!AP32,Poblacion!AR32,Poblacion!AT32,Poblacion!AV32,Poblacion!AX32)","v":35},{"$f":"Poblacion!AY32","v":30},{"$f":"Poblacion!AZ32","v":41},{"$f":"Poblacion!BA32","v":19},{"$f":"Poblacion!BB32","v":36},{"$f":"Poblacion!BC32","v":29},{"$f":"Poblacion!BD32","v":33},{"$f":"Poblacion!BE32","v":26},{"$f":"Poblacion!BF32","v":32},{"$f":"Poblacion!BG32","v":26},{"$f":"Poblacion!BH32","v":28},{"$f":"Poblacion!BI32","v":27},{"$f":"Poblacion!BJ32","v":31},{"$f":"Poblacion!BK32","v":21},{"$f":"Poblacion!BL32","v":30},{"$f":"Poblacion!BM32","v":22},{"$f":"Poblacion!BN32","v":22},{"$f":"Poblacion!BO32","v":22},{"$f":"Poblacion!BP32","v":27},{"$f":"Poblacion!BQ32","v":22},{"$f":"Poblacion!BR32","v":28},{"$f":"Poblacion!BS32","v":13},{"$f":"Poblacion!BT32","v":15},{"$f":"Poblacion!BU32","v":10},{"$f":"Poblacion!BV32","v":16},{"$f":"Poblacion!BY32","v":10},{"$f":"Poblacion!BZ32","v":15},{"$f":"Poblacion!DP32","v":66},{"$f":"Poblacion!DQ32","v":76},{"$f":"Poblacion!DR32","v":21},{"$f":"Poblacion!DS32","v":27},{"$f":"Poblacion!DT32","v":212},{"$f":"Poblacion!DU32","v":267},{"$f":"Poblacion!DV32","v":77},{"$f":"Poblacion!DW32","v":101}]
[null,null,null,null,null,null,null,null,null,null,null,null,null,null,null,null,null,null,null,null,null,null,null,null,null,null,null,null,null,null,null,null,null,null,null,null,null,null,null,null,null,null,null,null,null,null,null,null,null,null,null,null,"03",26,"P.S. SANTA CRUZ",{"$f":"Poblacion!F33","v":499},{"$f":"+SUM(Poblacion!K33,Poblacion!M33,Poblacion!O33,Poblacion!Q33,Poblacion!S33)","v":20},{"$f":"+SUM(Poblacion!L33,Poblacion!N33,Poblacion!P33,Poblacion!R33,Poblacion!T33)","v":14},{"$f":"SUM(Poblacion!U33,Poblacion!W33,Poblacion!Y33,Poblacion!AA33,Poblacion!AC33)","v":11},{"$f":"SUM(Poblacion!V33,Poblacion!X33,Poblacion!Z33,Poblacion!AB33,Poblacion!AD33)","v":15},{"$f":"+SUM(Poblacion!AE33,Poblacion!AG33,Poblacion!AI33,Poblacion!AK33,Poblacion!AM33)","v":11},{"$f":"+SUM(Poblacion!AF33,Poblacion!AH33,Poblacion!AJ33,Poblacion!AL33,Poblacion!AN33)","v":16},{"$f":"+SUM(Poblacion!AO33,Poblacion!AQ33,Poblacion!AS33,Poblacion!AU33,Poblacion!AW33)","v":18},{"$f":"+SUM(Poblacion!AP33,Poblacion!AR33,Poblacion!AT33,Poblacion!AV33,Poblacion!AX33)","v":21},{"$f":"Poblacion!AY33","v":17},{"$f":"Poblacion!AZ33","v":24},{"$f":"Poblacion!BA33","v":11},{"$f":"Poblacion!BB33","v":20},{"$f":"Poblacion!BC33","v":16},{"$f":"Poblacion!BD33","v":19},{"$f":"Poblacion!BE33","v":15},{"$f":"Poblacion!BF33","v":18},{"$f":"Poblacion!BG33","v":15},{"$f":"Poblacion!BH33","v":16},{"$f":"Poblacion!BI33","v":16},{"$f":"Poblacion!BJ33","v":18},{"$f":"Poblacion!BK33","v":12},{"$f":"Poblacion!BL33","v":17},{"$f":"Poblacion!BM33","v":13},{"$f":"Poblacion!BN33","v":12},{"$f":"Poblacion!BO33","v":12},{"$f":"Poblacion!BP33","v":15},{"$f":"Poblacion!BQ33","v":13},{"$f":"Poblacion!BR33","v":16},{"$f":"Poblacion!BS33","v":8},{"$f":"Poblacion!BT33","v":9},{"$f":"Poblacion!BU33","v":6},{"$f":"Poblacion!BV33","v":9},{"$f":"Poblacion!BY33","v":6},{"$f":"Poblacion!BZ33","v":9},{"$f":"Poblacion!DP33","v":40},{"$f":"Poblacion!DQ33","v":41},{"$f":"Poblacion!DR33","v":12},{"$f":"Poblacion!DS33","v":17},{"$f":"Poblacion!DT33","v":123},{"$f":"Poblacion!DU33","v":152},{"$f":"Poblacion!DV33","v":45},{"$f":"Poblacion!DW33","v":58}]
[null,null,null,null,null,null,null,null,null,null,null,null,null,null,null,null,null,null,null,null,null,null,null,null,null,null,null,null,null,null,null,null,null,null,null,null,null,null,null,null,null,null,null,null,null,null,null,null,null,null,null,null,"03",27,"P.S. HUANANGUI",{"$f":"Poblacion!F34","v":986},{"$f":"+SUM(Poblacion!K34,Poblacion!M34,Poblacion!O34,Poblacion!Q34,Poblacion!S34)","v":38},{"$f":"+SUM(Poblacion!L34,Poblacion!N34,Poblacion!P34,Poblacion!R34,Poblacion!T34)","v":30},{"$f":"SUM(Poblacion!U34,Poblacion!W34,Poblacion!Y34,Poblacion!AA34,Poblacion!AC34)","v":22},{"$f":"SUM(Poblacion!V34,Poblacion!X34,Poblacion!Z34,Poblacion!AB34,Poblacion!AD34)","v":29},{"$f":"+SUM(Poblacion!AE34,Poblacion!AG34,Poblacion!AI34,Poblacion!AK34,Poblacion!AM34)","v":21},{"$f":"+SUM(Poblacion!AF34,Poblacion!AH34,Poblacion!AJ34,Poblacion!AL34,Poblacion!AN34)","v":35},{"$f":"+SUM(Poblacion!AO34,Poblacion!AQ34,Poblacion!AS34,Poblacion!AU34,Poblacion!AW34)","v":32},{"$f":"+SUM(Poblacion!AP34,Poblacion!AR34,Poblacion!AT34,Poblacion!AV34,Poblacion!AX34)","v":41},{"$f":"Poblacion!AY34","v":34},{"$f":"Poblacion!AZ34","v":47},{"$f":"Poblacion!BA34","v":21},{"$f":"Poblacion!BB34","v":41},{"$f":"Poblacion!BC34","v":33},{"$f":"Poblacion!BD34","v":37},{"$f":"Poblacion!BE34","v":29},{"$f":"Poblacion!BF34","v":36},{"$f":"Poblacion!BG34","v":29},{"$f":"Poblacion!BH34","v":32},{"$f":"Poblacion!BI34","v":31},{"$f":"Poblacion!BJ34","v":36},{"$f":"Poblacion!BK34","v":24},{"$f":"Poblacion!BL34","v":35},{"$f":"Poblacion!BM34","v":25},{"$f":"Poblacion!BN34","v":25},{"$f":"Poblacion!BO34","v":24},{"$f":"Poblacion!BP34","v":30},{"$f":"Poblacion!BQ34","v":25},{"$f":"Poblacion!BR34","v":32},{"$f":"Poblacion!BS34","v":15},{"$f":"Poblacion!BT34","v":17},{"$f":"Poblacion!BU34","v":11},{"$f":"Poblacion!BV34","v":18},{"$f":"Poblacion!BY34","v":12},{"$f":"Poblacion!BZ34","v":17},{"$f":"Poblacion!DP34","v":76},{"$f":"Poblacion!DQ34","v":86},{"$f":"Poblacion!DR34","v":23},{"$f":"Poblacion!DS34","v":33},{"$f":"Poblacion!DT34","v":240},{"$f":"Poblacion!DU34","v":305},{"$f":"Poblacion!DV34","v":87},{"$f":"Poblacion!DW34","v":114}]
[null,null,null,null,null,null,null,null,null,null,null,null,null,null,null,null,null,null,null,null,null,null,null,null,null,null,null,null,null,null,null,null,null,null,null,null,null,null,null,null,null,null,null,null,null,null,null,null,null,null,null,null,null,28,"DISTRITO PACCHO",{"$f":"Poblacion!F35","v":1707},{"$f":"+SUM(Poblacion!K35,Poblacion!M35,Poblacion!O35,Poblacion!Q35,Poblacion!S35)","v":32},{"$f":"+SUM(Poblacion!L35,Poblacion!N35,Poblacion!P35,Poblacion!R35,Poblacion!T35)","v":37},{"$f":"SUM(Poblacion!U35,Poblacion!W35,Poblacion!Y35,Poblacion!AA35,Poblacion!AC35)","v":37},{"$f":"SUM(Poblacion!V35,Poblacion!X35,Poblacion!Z35,Poblacion!AB35,Poblacion!AD35)","v":33},{"$f":"+SUM(Poblacion!AE35,Poblacion!AG35,Poblacion!AI35,Poblacion!AK35,Poblacion!AM35)","v":38},{"$f":"+SUM(Poblacion!AF35,Poblacion!AH35,Poblacion!AJ35,Poblacion!AL35,Poblacion!AN35)","v":39},{"$f":"+SUM(Poblacion!AO35,Poblacion!AQ35,Poblacion!AS35,Poblacion!AU35,Poblacion!AW35)","v":49},{"$f":"+SUM(Poblacion!AP35,Poblacion!AR35,Poblacion!AT35,Poblacion!AV35,Poblacion!AX35)","v":46},{"$f":"Poblacion!AY35","v":35},{"$f":"Poblacion!AZ35","v":50},{"$f":"Poblacion!BA35","v":33},{"$f":"Poblacion!BB35","v":46},{"$f":"Poblacion!BC35","v":35},{"$f":"Poblacion!BD35","v":40},{"$f":"Poblacion!BE35","v":46},{"$f":"Poblacion!BF35","v":33},{"$f":"Poblacion!BG35","v":39},{"$f":"Poblacion!BH35","v":43},{"$f":"Poblacion!BI35","v":53},{"$f":"Poblacion!BJ35","v":55},{"$f":"Poblacion!BK35","v":55},{"$f":"Poblacion!BL35","v":79},{"$f":"Poblacion!BM35","v":61},{"$f":"Poblacion!BN35","v":59},{"$f":"Poblacion!BO35","v":55},{"$f":"Poblacion!BP35","v":53},{"$f":"Poblacion!BQ35","v":50},{"$f":"Poblacion!BR35","v":51},{"$f":"Poblacion!BS35","v":43},{"$f":"Poblacion!BT35","v":56},{"$f":"Poblacion!BU35","v":62},{"$f":"Poblacion!BV35","v":63},{"$f":"Poblacion!BY35","v":47},{"$f":"Poblacion!BZ35","v":60},{"$f":"Poblacion!DP35","v":98},{"$f":"Poblacion!DQ35","v":100},{"$f":"Poblacion!DR35","v":40},{"$f":"Poblacion!DS35","v":35},{"$f":"Poblacion!DT35","v":375},{"$f":"Poblacion!DU35","v":425},{"$f":"Poblacion!DV35","v":257},{"$f":"Poblacion!DW35","v":283}]
[null,null,null,null,null,null,null,null,null,null,null,null,null,null,null,null,null,null,null,null,null,null,null,null,null,null,null,null,null,null,null,null,null,null,null,null,null,null,null,null,null,null,null,null,null,null,null,null,null,null,null,null,"05",29,"P.S. PACCHO",{"$f":"Poblacion!F36","v":671},{"$f":"+SUM(Poblacion!K36,Poblacion!M36,Poblacion!O36,Poblacion!Q36,Poblacion!S36)","v":10},{"$f":"+SUM(Poblacion!L36,Poblacion!N36,Poblacion!P36,Poblacion!R36,Poblacion!T36)","v":14},{"$f":"SUM(Poblacion!U36,Poblacion!W36,Poblacion!Y36,Poblacion!AA36,Poblacion!AC36)","v":15},{"$f":"SUM(Poblacion!V36,Poblacion!X36,Poblacion!Z36,Poblacion!AB36,Poblacion!AD36)","v":13},{"$f":"+SUM(Poblacion!AE36,Poblacion!AG36,Poblacion!AI36,Poblacion!AK36,Poblacion!AM36)","v":15},{"$f":"+SUM(Poblacion!AF36,Poblacion!AH36,Poblacion!AJ36,Poblacion!AL36,Poblacion!AN36)","v":17},{"$f":"+SUM(Poblacion!AO36,Poblacion!AQ36,Poblacion!AS36,Poblacion!AU36,Poblacion!AW36)","v":19},{"$f":"+SUM(Poblacion!AP36,Poblacion!AR36,Poblacion!AT36,Poblacion!AV36,Poblacion!AX36)","v":18},{"$f":"Poblacion!AY36","v":14},{"$f":"Poblacion!AZ36","v":20},{"$f":"Poblacion!BA36","v":13},{"$f":"Poblacion!BB36","v":18},{"$f":"Poblacion!BC36","v":14},{"$f":"Poblacion!BD36","v":16},{"$f":"Poblacion!BE36","v":18},{"$f":"Poblacion!BF36","v":13},{"$f":"Poblacion!BG36","v":15},{"$f":"Poblacion!BH36","v":16},{"$f":"Poblacion!BI36","v":21},{"$f":"Poblacion!BJ36","v":22},{"$f":"Poblacion!BK36","v":22},{"$f":"Poblacion!BL36","v":31},{"$f":"Poblacion!BM36","v":24},{"$f":"Poblacion!BN36","v":23},{"$f":"Poblacion!BO36","v":22},{"$f":"Poblacion!BP36","v":21},{"$f":"Poblacion!BQ36","v":20},{"$f":"Poblacion!BR36","v":20},{"$f":"Poblacion!BS36","v":17},{"$f":"Poblacion!BT36","v":21},{"$f":"Poblacion!BU36","v":25},{"$f":"Poblacion!BV36","v":25},{"$f":"Poblacion!BY36","v":19},{"$f":"Poblacion!BZ36","v":24},{"$f":"Poblacion!DP36","v":36},{"$f":"Poblacion!DQ36","v":40},{"$f":"Poblacion!DR36","v":16},{"$f":"Poblacion!DS36","v":14},{"$f":"Poblacion!DT36","v":148},{"$f":"Poblacion!DU36","v":167},{"$f":"Poblacion!DV36","v":103},{"$f":"Poblacion!DW36","v":111}]
[null,null,null,null,null,null,null,null,null,null,null,null,null,null,null,null,null,null,null,null,null,null,null,null,null,null,null,null,null,null,null,null,null,null,null,null,null,null,null,null,null,null,null,null,null,null,null,null,null,null,null,null,"05",30,"P.S. LACSANGA",{"$f":"Poblacion!F37","v":515},{"$f":"+SUM(Poblacion!K37,Poblacion!M37,Poblacion!O37,Poblacion!Q37,Poblacion!S37)","v":10},{"$f":"+SUM(Poblacion!L37,Poblacion!N37,Poblacion!P37,Poblacion!R37,Poblacion!T37)","v":11},{"$f":"SUM(Poblacion!U37,Poblacion!W37,Poblacion!Y37,Poblacion!AA37,Poblacion!AC37)","v":10},{"$f":"SUM(Poblacion!V37,Poblacion!X37,Poblacion!Z37,Poblacion!AB37,Poblacion!AD37)","v":10},{"$f":"+SUM(Poblacion!AE37,Poblacion!AG37,Poblacion!AI37,Poblacion!AK37,Poblacion!AM37)","v":13},{"$f":"+SUM(Poblacion!AF37,Poblacion!AH37,Poblacion!AJ37,Poblacion!AL37,Poblacion!AN37)","v":12},{"$f":"+SUM(Poblacion!AO37,Poblacion!AQ37,Poblacion!AS37,Poblacion!AU37,Poblacion!AW37)","v":14},{"$f":"+SUM(Poblacion!AP37,Poblacion!AR37,Poblacion!AT37,Poblacion!AV37,Poblacion!AX37)","v":14},{"$f":"Poblacion!AY37","v":11},{"$f":"Poblacion!AZ37","v":14},{"$f":"Poblacion!BA37","v":10},{"$f":"Poblacion!BB37","v":14},{"$f":"Poblacion!BC37","v":11},{"$f":"Poblacion!BD37","v":12},{"$f":"Poblacion!BE37","v":14},{"$f":"Poblacion!BF37","v":10},{"$f":"Poblacion!BG37","v":12},{"$f":"Poblacion!BH37","v":13},{"$f":"Poblacion!BI37","v":16},{"$f":"Poblacion!BJ37","v":17},{"$f":"Poblacion!BK37","v":17},{"$f":"Poblacion!BL37","v":24},{"$f":"Poblacion!BM37","v":19},{"$f":"Poblacion!BN37","v":18},{"$f":"Poblacion!BO37","v":17},{"$f":"Poblacion!BP37","v":16},{"$f":"Poblacion!BQ37","v":14},{"$f":"Poblacion!BR37","v":15},{"$f":"Poblacion!BS37","v":12},{"$f":"Poblacion!BT37","v":17},{"$f":"Poblacion!BU37","v":19},{"$f":"Poblacion!BV37","v":18},{"$f":"Poblacion!BY37","v":14},{"$f":"Poblacion!BZ37","v":18},{"$f":"Poblacion!DP37","v":30},{"$f":"Poblacion!DQ37","v":30},{"$f":"Poblacion!DR37","v":12},{"$f":"Poblacion!DS37","v":11},{"$f":"Poblacion!DT37","v":115},{"$f":"Poblacion!DU37","v":128},{"$f":"Poblacion!DV37","v":76},{"$f":"Poblacion!DW37","v":84}]
[null,null,null,null,null,null,null,null,null,null,null,null,null,null,null,null,null,null,null,null,null,null,null,null,null,null,null,null,null,null,null,null,null,null,null,null,null,null,null,null,null,null,null,null,null,null,null,null,null,null,null,null,"05",31,"P.S. MUZGA",{"$f":"Poblacion!F38","v":260},{"$f":"+SUM(Poblacion!K38,Poblacion!M38,Poblacion!O38,Poblacion!Q38,Poblacion!S38)","v":6},{"$f":"+SUM(Poblacion!L38,Poblacion!N38,Poblacion!P38,Poblacion!R38,Poblacion!T38)","v":6},{"$f":"SUM(Poblacion!U38,Poblacion!W38,Poblacion!Y38,Poblacion!AA38,Poblacion!AC38)","v":6},{"$f":"SUM(Poblacion!V38,Poblacion!X38,Poblacion!Z38,Poblacion!AB38,Poblacion!AD38)","v":5},{"$f":"+SUM(Poblacion!AE38,Poblacion!AG38,Poblacion!AI38,Poblacion!AK38,Poblacion!AM38)","v":5},{"$f":"+SUM(Poblacion!AF38,Poblacion!AH38,Poblacion!AJ38,Poblacion!AL38,Poblacion!AN38)","v":5},{"$f":"+SUM(Poblacion!AO38,Poblacion!AQ38,Poblacion!AS38,Poblacion!AU38,Poblacion!AW38)","v":8},{"$f":"+SUM(Poblacion!AP38,Poblacion!AR38,Poblacion!AT38,Poblacion!AV38,Poblacion!AX38)","v":7},{"$f":"Poblacion!AY38","v":5},{"$f":"Poblacion!AZ38","v":8},{"$f":"Poblacion!BA38","v":5},{"$f":"Poblacion!BB38","v":7},{"$f":"Poblacion!BC38","v":5},{"$f":"Poblacion!BD38","v":6},{"$f":"Poblacion!BE38","v":7},{"$f":"Poblacion!BF38","v":5},{"$f":"Poblacion!BG38","v":6},{"$f":"Poblacion!BH38","v":7},{"$f":"Poblacion!BI38","v":8},{"$f":"Poblacion!BJ38","v":8},{"$f":"Poblacion!BK38","v":8},{"$f":"Poblacion!BL38","v":12},{"$f":"Poblacion!BM38","v":9},{"$f":"Poblacion!BN38","v":9},{"$f":"Poblacion!BO38","v":8},{"$f":"Poblacion!BP38","v":8},{"$f":"Poblacion!BQ38","v":8},{"$f":"Poblacion!BR38","v":8},{"$f":"Poblacion!BS38","v":7},{"$f":"Poblacion!BT38","v":9},{"$f":"Poblacion!BU38","v":9},{"$f":"Poblacion!BV38","v":10},{"$f":"Poblacion!BY38","v":7},{"$f":"Poblacion!BZ38","v":9},{"$f":"Poblacion!DP38","v":16},{"$f":"Poblacion!DQ38","v":15},{"$f":"Poblacion!DR38","v":6},{"$f":"Poblacion!DS38","v":5},{"$f":"Poblacion!DT38","v":56},{"$f":"Poblacion!DU38","v":65},{"$f":"Poblacion!DV38","v":39},{"$f":"Poblacion!DW38","v":44}]
[null,null,null,null,null,null,null,null,null,null,null,null,null,null,null,null,null,null,null,null,null,null,null,null,null,null,null,null,null,null,null,null,null,null,null,null,null,null,null,null,null,null,null,null,null,null,null,null,null,null,null,null,"05",32,"P.S. AYARANGA",{"$f":"Poblacion!F39","v":261},{"$f":"+SUM(Poblacion!K39,Poblacion!M39,Poblacion!O39,Poblacion!Q39,Poblacion!S39)","v":6},{"$f":"+SUM(Poblacion!L39,Poblacion!N39,Poblacion!P39,Poblacion!R39,Poblacion!T39)","v":6},{"$f":"SUM(Poblacion!U39,Poblacion!W39,Poblacion!Y39,Poblacion!AA39,Poblacion!AC39)","v":6},{"$f":"SUM(Poblacion!V39,Poblacion!X39,Poblacion!Z39,Poblacion!AB39,Poblacion!AD39)","v":5},{"$f":"+SUM(Poblacion!AE39,Poblacion!AG39,Poblacion!AI39,Poblacion!AK39,Poblacion!AM39)","v":5},{"$f":"+SUM(Poblacion!AF39,Poblacion!AH39,Poblacion!AJ39,Poblacion!AL39,Poblacion!AN39)","v":5},{"$f":"+SUM(Poblacion!AO39,Poblacion!AQ39,Poblacion!AS39,Poblacion!AU39,Poblacion!AW39)","v":8},{"$f":"+SUM(Poblacion!AP39,Poblacion!AR39,Poblacion!AT39,Poblacion!AV39,Poblacion!AX39)","v":7},{"$f":"Poblacion!AY39","v":5},{"$f":"Poblacion!AZ39","v":8},{"$f":"Poblacion!BA39","v":5},{"$f":"Poblacion!BB39","v":7},{"$f":"Poblacion!BC39","v":5},{"$f":"Poblacion!BD39","v":6},{"$f":"Poblacion!BE39","v":7},{"$f":"Poblacion!BF39","v":5},{"$f":"Poblacion!BG39","v":6},{"$f":"Poblacion!BH39","v":7},{"$f":"Poblacion!BI39","v":8},{"$f":"Poblacion!BJ39","v":8},{"$f":"Poblacion!BK39","v":8},{"$f":"Poblacion!BL39","v":12},{"$f":"Poblacion!BM39","v":9},{"$f":"Poblacion!BN39","v":9},{"$f":"Poblacion!BO39","v":8},{"$f":"Poblacion!BP39","v":8},{"$f":"Poblacion!BQ39","v":8},{"$f":"Poblacion!BR39","v":8},{"$f":"Poblacion!BS39","v":7},{"$f":"Poblacion!BT39","v":9},{"$f":"Poblacion!BU39","v":9},{"$f":"Poblacion!BV39","v":10},{"$f":"Poblacion!BY39","v":7},{"$f":"Poblacion!BZ39","v":9},{"$f":"Poblacion!DP39","v":16},{"$f":"Poblacion!DQ39","v":15},{"$f":"Poblacion!DR39","v":6},{"$f":"Poblacion!DS39","v":5},{"$f":"Poblacion!DT39","v":56},{"$f":"Poblacion!DU39","v":65},{"$f":"Poblacion!DV39","v":39},{"$f":"Poblacion!DW39","v":44}]
[null,null,null,"    PIRAMIDE POBLACIONAL ESPECIAL - ESTRATEGIA DE PREVENCIÓN Y CONTROL DE  CANCER",null,null,null,null,null,null,null,null,null,null,null,null,null,null,null,null,null,null,null,null,null,null,null,null,null,null,null,null,null,null,null,null,null,null,null,null,null,null,null,null,null,null,null,null,null,null,null,null,null,33,"DISTRITO SANTA LEONOR",{"$f":"Poblacion!F40","v":1245},{"$f":"+SUM(Poblacion!K40,Poblacion!M40,Poblacion!O40,Poblacion!Q40,Poblacion!S40)","v":41},{"$f":"+SUM(Poblacion!L40,Poblacion!N40,Poblacion!P40,Poblacion!R40,Poblacion!T40)","v":32},{"$f":"SUM(Poblacion!U40,Poblacion!W40,Poblacion!Y40,Poblacion!AA40,Poblacion!AC40)","v":27},{"$f":"SUM(Poblacion!V40,Poblacion!X40,Poblacion!Z40,Poblacion!AB40,Poblacion!AD40)","v":28},{"$f":"+SUM(Poblacion!AE40,Poblacion!AG40,Poblacion!AI40,Poblacion!AK40,Poblacion!AM40)","v":29},{"$f":"+SUM(Poblacion!AF40,Poblacion!AH40,Poblacion!AJ40,Poblacion!AL40,Poblacion!AN40)","v":37},{"$f":"+SUM(Poblacion!AO40,Poblacion!AQ40,Poblacion!AS40,Poblacion!AU40,Poblacion!AW40)","v":40},{"$f":"+SUM(Poblacion!AP40,Poblacion!AR40,Poblacion!AT40,Poblacion!AV40,Poblacion!AX40)","v":38},{"$f":"Poblacion!AY40","v":27},{"$f":"Poblacion!AZ40","v":28},{"$f":"Poblacion!BA40","v":29},{"$f":"Poblacion!BB40","v":43},{"$f":"Poblacion!BC40","v":29},{"$f":"Poblacion!BD40","v":47},{"$f":"Poblacion!BE40","v":36},{"$f":"Poblacion!BF40","v":29},{"$f":"Poblacion!BG40","v":30},{"$f":"Poblacion!BH40","v":40},{"$f":"Poblacion!BI40","v":29},{"$f":"Poblacion!BJ40","v":38},{"$f":"Poblacion!BK40","v":36},{"$f":"Poblacion!BL40","v":41},{"$f":"Poblacion!BM40","v":40},{"$f":"Poblacion!BN40","v":38},{"$f":"Poblacion!BO40","v":46},{"$f":"Poblacion!BP40","v":48},{"$f":"Poblacion!BQ40","v":38},{"$f":"Poblacion!BR40","v":38},{"$f":"Poblacion!BS40","v":35},{"$f":"Poblacion!BT40","v":26},{"$f":"Poblacion!BU40","v":31},{"$f":"Poblacion!BV40","v":47},{"$f":"Poblacion!BY40","v":24},{"$f":"Poblacion!BZ40","v":31},{"$f":"Poblacion!DP40","v":92},{"$f":"Poblacion!DQ40","v":92},{"$f":"Poblacion!DR40","v":30},{"$f":"Poblacion!DS40","v":27},{"$f":"Poblacion!DT40","v":271},{"$f":"Poblacion!DU40","v":320},{"$f":"Poblacion!DV40","v":174},{"$f":"Poblacion!DW40","v":190}]
[null,null,null,null,null,null,null,null,null,null,null,null,null,null,null,null,null,null,null,{"$f":"UPPER(\"Piramide Poblacional 2024 - \" &$B$15)","v":"PIRAMIDE POBLACIONAL 2024 - DISTRITO CAUJUL"},null,null,null,null,null,null,null,null,null,null,null,null,null,null,null,null,null,null,null,null,null,null,null,null,null,null,null,null,null,null,null,null,"05",34,"P.S. CHIUCHIN",{"$f":"Poblacion!F41","v":812},{"$f":"+SUM(Poblacion!K41,Poblacion!M41,Poblacion!O41,Poblacion!Q41,Poblacion!S41)","v":26},{"$f":"+SUM(Poblacion!L41,Poblacion!N41,Poblacion!P41,Poblacion!R41,Poblacion!T41)","v":20},{"$f":"SUM(Poblacion!U41,Poblacion!W41,Poblacion!Y41,Poblacion!AA41,Poblacion!AC41)","v":18},{"$f":"SUM(Poblacion!V41,Poblacion!X41,Poblacion!Z41,Poblacion!AB41,Poblacion!AD41)","v":18},{"$f":"+SUM(Poblacion!AE41,Poblacion!AG41,Poblacion!AI41,Poblacion!AK41,Poblacion!AM41)","v":18},{"$f":"+SUM(Poblacion!AF41,Poblacion!AH41,Poblacion!AJ41,Poblacion!AL41,Poblacion!AN41)","v":25},{"$f":"+SUM(Poblacion!AO41,Poblacion!AQ41,Poblacion!AS41,Poblacion!AU41,Poblacion!AW41)","v":27},{"$f":"+SUM(Poblacion!AP41,Poblacion!AR41,Poblacion!AT41,Poblacion!AV41,Poblacion!AX41)","v":25},{"$f":"Poblacion!AY41","v":18},{"$f":"Poblacion!AZ41","v":18},{"$f":"Poblacion!BA41","v":19},{"$f":"Poblacion!BB41","v":28},{"$f":"Poblacion!BC41","v":19},{"$f":"Poblacion!BD41","v":31},{"$f":"Poblacion!BE41","v":24},{"$f":"Poblacion!BF41","v":19},{"$f":"Poblacion!BG41","v":20},{"$f":"Poblacion!BH41","v":26},{"$f":"Poblacion!BI41","v":19},{"$f":"Poblacion!BJ41","v":25},{"$f":"Poblacion!BK41","v":24},{"$f":"Poblacion!BL41","v":27},{"$f":"Poblacion!BM41","v":26},{"$f":"Poblacion!BN41","v":24},{"$f":"Poblacion!BO41","v":30},{"$f":"Poblacion!BP41","v":31},{"$f":"Poblacion!BQ41","v":25},{"$f":"Poblacion!BR41","v":24},{"$f":"Poblacion!BS41","v":23},{"$f":"Poblacion!BT41","v":17},{"$f":"Poblacion!BU41","v":20},{"$f":"Poblacion!BV41","v":31},{"$f":"Poblacion!BY41","v":15},{"$f":"Poblacion!BZ41","v":20},{"$f":"Poblacion!DP41","v":59},{"$f":"Poblacion!DQ41","v":60},{"$f":"Poblacion!DR41","v":20},{"$f":"Poblacion!DS41","v":17},{"$f":"Poblacion!DT41","v":179},{"$f":"Poblacion!DU41","v":209},{"$f":"Poblacion!DV41","v":113},{"$f":"Poblacion!DW41","v":123}]
[null,null,null,null,null,null,null,null,null,null,null,null,null,null,null,null,null,null,null,null,null,null,null,null,null,null,null,null,null,null,null,null,null,null,null,null,null,null,null,null,null,null,null,null,null,null,null,null,null,null,null,null,"05",35,"P.S. PARQUIN",{"$f":"Poblacion!F42","v":249},{"$f":"+SUM(Poblacion!K42,Poblacion!M42,Poblacion!O42,Poblacion!Q42,Poblacion!S42)","v":9},{"$f":"+SUM(Poblacion!L42,Poblacion!N42,Poblacion!P42,Poblacion!R42,Poblacion!T42)","v":7},{"$f":"SUM(Poblacion!U42,Poblacion!W42,Poblacion!Y42,Poblacion!AA42,Poblacion!AC42)","v":6},{"$f":"SUM(Poblacion!V42,Poblacion!X42,Poblacion!Z42,Poblacion!AB42,Poblacion!AD42)","v":6},{"$f":"+SUM(Poblacion!AE42,Poblacion!AG42,Poblacion!AI42,Poblacion!AK42,Poblacion!AM42)","v":6},{"$f":"+SUM(Poblacion!AF42,Poblacion!AH42,Poblacion!AJ42,Poblacion!AL42,Poblacion!AN42)","v":6},{"$f":"+SUM(Poblacion!AO42,Poblacion!AQ42,Poblacion!AS42,Poblacion!AU42,Poblacion!AW42)","v":8},{"$f":"+SUM(Poblacion!AP42,Poblacion!AR42,Poblacion!AT42,Poblacion!AV42,Poblacion!AX42)","v":7},{"$f":"Poblacion!AY42","v":5},{"$f":"Poblacion!AZ42","v":6},{"$f":"Poblacion!BA42","v":6},{"$f":"Poblacion!BB42","v":9},{"$f":"Poblacion!BC42","v":6},{"$f":"Poblacion!BD42","v":9},{"$f":"Poblacion!BE42","v":7},{"$f":"Poblacion!BF42","v":6},{"$f":"Poblacion!BG42","v":6},{"$f":"Poblacion!BH42","v":8},{"$f":"Poblacion!BI42","v":6},{"$f":"Poblacion!BJ42","v":7},{"$f":"Poblacion!BK42","v":7},{"$f":"Poblacion!BL42","v":8},{"$f":"Poblacion!BM42","v":8},{"$f":"Poblacion!BN42","v":8},{"$f":"Poblacion!BO42","v":9},{"$f":"Poblacion!BP42","v":10},{"$f":"Poblacion!BQ42","v":7},{"$f":"Poblacion!BR42","v":8},{"$f":"Poblacion!BS42","v":7},{"$f":"Poblacion!BT42","v":5},{"$f":"Poblacion!BU42","v":6},{"$f":"Poblacion!BV42","v":9},{"$f":"Poblacion!BY42","v":5},{"$f":"Poblacion!BZ42","v":6},{"$f":"Poblacion!DP42","v":20},{"$f":"Poblacion!DQ42","v":18},{"$f":"Poblacion!DR42","v":6},{"$f":"Poblacion!DS42","v":5},{"$f":"Poblacion!DT42","v":54},{"$f":"Poblacion!DU42","v":64},{"$f":"Poblacion!DV42","v":34},{"$f":"Poblacion!DW42","v":38}]
[null,null,null,null,null,null,null,null,null,null,null,null,null,null,null,null,null,null,null,78,null,null,null,null,null,null,null,null,null,null,null,null,null,null,null,null,null,null,null,null,null,null,null,null,null,null,null,null,null,null,null,null,"05",36,"P.S. JUCUL",{"$f":"Poblacion!F43","v":184},{"$f":"+SUM(Poblacion!K43,Poblacion!M43,Poblacion!O43,Poblacion!Q43,Poblacion!S43)","v":6},{"$f":"+SUM(Poblacion!L43,Poblacion!N43,Poblacion!P43,Poblacion!R43,Poblacion!T43)","v":5},{"$f":"SUM(Poblacion!U43,Poblacion!W43,Poblacion!Y43,Poblacion!AA43,Poblacion!AC43)","v":3},{"$f":"SUM(Poblacion!V43,Poblacion!X43,Poblacion!Z43,Poblacion!AB43,Poblacion!AD43)","v":4},{"$f":"+SUM(Poblacion!AE43,Poblacion!AG43,Poblacion!AI43,Poblacion!AK43,Poblacion!AM43)","v":5},{"$f":"+SUM(Poblacion!AF43,Poblacion!AH43,Poblacion!AJ43,Poblacion!AL43,Poblacion!AN43)","v":6},{"$f":"+SUM(Poblacion!AO43,Poblacion!AQ43,Poblacion!AS43,Poblacion!AU43,Poblacion!AW43)","v":5},{"$f":"+SUM(Poblacion!AP43,Poblacion!AR43,Poblacion!AT43,Poblacion!AV43,Poblacion!AX43)","v":6},{"$f":"Poblacion!AY43","v":4},{"$f":"Poblacion!AZ43","v":4},{"$f":"Poblacion!BA43","v":4},{"$f":"Poblacion!BB43","v":6},{"$f":"Poblacion!BC43","v":4},{"$f":"Poblacion!BD43","v":7},{"$f":"Poblacion!BE43","v":5},{"$f":"Poblacion!BF43","v":4},{"$f":"Poblacion!BG43","v":4},{"$f":"Poblacion!BH43","v":6},{"$f":"Poblacion!BI43","v":4},{"$f":"Poblacion!BJ43","v":6},{"$f":"Poblacion!BK43","v":5},{"$f":"Poblacion!BL43","v":6},{"$f":"Poblacion!BM43","v":6},{"$f":"Poblacion!BN43","v":6},{"$f":"Poblacion!BO43","v":7},{"$f":"Poblacion!BP43","v":7},{"$f":"Poblacion!BQ43","v":6},{"$f":"Poblacion!BR43","v":6},{"$f":"Poblacion!BS43","v":5},{"$f":"Poblacion!BT43","v":4},{"$f":"Poblacion!BU43","v":5},{"$f":"Poblacion!BV43","v":7},{"$f":"Poblacion!BY43","v":4},{"$f":"Poblacion!BZ43","v":5},{"$f":"Poblacion!DP43","v":13},{"$f":"Poblacion!DQ43","v":14},{"$f":"Poblacion!DR43","v":4},{"$f":"Poblacion!DS43","v":5},{"$f":"Poblacion!DT43","v":38},{"$f":"Poblacion!DU43","v":47},{"$f":"Poblacion!DV43","v":27},{"$f":"Poblacion!DW43","v":29}]
[null,null,null,null,null,null,null,null,null,null,null,null,null,null,null,null,null,null,null,null,null,null,null,null,null,null,null,null,null,null,null,null,null,null,null,null,null,null,null,null,null,null,null,null,null,null,null,null,null,null,null,null,null,37,"DISTRITO SANTA MARIA",{"$f":"Poblacion!F44","v":45471},{"$f":"+SUM(Poblacion!K44,Poblacion!M44,Poblacion!O44,Poblacion!Q44,Poblacion!S44)","v":1679},{"$f":"+SUM(Poblacion!L44,Poblacion!N44,Poblacion!P44,Poblacion!R44,Poblacion!T44)","v":1640},{"$f":"SUM(Poblacion!U44,Poblacion!W44,Poblacion!Y44,Poblacion!AA44,Poblacion!AC44)","v":1638},{"$f":"SUM(Poblacion!V44,Poblacion!X44,Poblacion!Z44,Poblacion!AB44,Poblacion!AD44)","v":1659},{"$f":"+SUM(Poblacion!AE44,Poblacion!AG44,Poblacion!AI44,Poblacion!AK44,Poblacion!AM44)","v":1440},{"$f":"+SUM(Poblacion!AF44,Poblacion!AH44,Poblacion!AJ44,Poblacion!AL44,Poblacion!AN44)","v":1418},{"$f":"+SUM(Poblacion!AO44,Poblacion!AQ44,Poblacion!AS44,Poblacion!AU44,Poblacion!AW44)","v":1545},{"$f":"+SUM(Poblacion!AP44,Poblacion!AR44,Poblacion!AT44,Poblacion!AV44,Poblacion!AX44)","v":1625},{"$f":"Poblacion!AY44","v":1560},{"$f":"Poblacion!AZ44","v":1635},{"$f":"Poblacion!BA44","v":1576},{"$f":"Poblacion!BB44","v":2089},{"$f":"Poblacion!BC44","v":1499},{"$f":"Poblacion!BD44","v":1843},{"$f":"Poblacion!BE44","v":1537},{"$f":"Poblacion!BF44","v":1665},{"$f":"Poblacion!BG44","v":1490},{"$f":"Poblacion!BH44","v":1600},{"$f":"Poblacion!BI44","v":1402},{"$f":"Poblacion!BJ44","v":1566},{"$f":"Poblacion!BK44","v":1293},{"$f":"Poblacion!BL44","v":1446},{"$f":"Poblacion!BM44","v":1178},{"$f":"Poblacion!BN44","v":1253},{"$f":"Poblacion!BO44","v":1027},{"$f":"Poblacion!BP44","v":1116},{"$f":"Poblacion!BQ44","v":800},{"$f":"Poblacion!BR44","v":876},{"$f":"Poblacion!BS44","v":773},{"$f":"Poblacion!BT44","v":866},{"$f":"Poblacion!BU44","v":608},{"$f":"Poblacion!BV44","v":618},{"$f":"Poblacion!BY44","v":399},{"$f":"Poblacion!BZ44","v":365},{"$f":"Poblacion!DP44","v":4489},{"$f":"Poblacion!DQ44","v":4454},{"$f":"Poblacion!DR44","v":1218},{"$f":"Poblacion!DS44","v":1237},{"$f":"Poblacion!DT44","v":12130},{"$f":"Poblacion!DU44","v":13748},{"$f":"Poblacion!DV44","v":3607},{"$f":"Poblacion!DW44","v":3841}]
[null,null,null,null,null,null,null,null,null,null,null,null,null,null,null,null,null,null,null,null,null,null,null,null,null,null,null,null,null,null,null,null,null,null,null,null,null,null,null,null,null,null,null,null,null,null,null,null,null,null,null,null,null,38,"---"]
[null,null,null,null,null,null,null,null,null,null,null,null,null,null,null,null,null,null,null,null,null,null,null,null,null,null,null,null,null,null,null,null,null,null,null,null,null,null,null,null,null,null,null,null,null,null,null,null,null,null,null,null,"02",39,"C.S. SANTA MARIA",{"$f":"Poblacion!F45","v":12730},{"$f":"+SUM(Poblacion!K45,Poblacion!M45,Poblacion!O45,Poblacion!Q45,Poblacion!S45)","v":469},{"$f":"+SUM(Poblacion!L45,Poblacion!N45,Poblacion!P45,Poblacion!R45,Poblacion!T45)","v":459},{"$f":"SUM(Poblacion!U45,Poblacion!W45,Poblacion!Y45,Poblacion!AA45,Poblacion!AC45)","v":458},{"$f":"SUM(Poblacion!V45,Poblacion!X45,Poblacion!Z45,Poblacion!AB45,Poblacion!AD45)","v":464},{"$f":"+SUM(Poblacion!AE45,Poblacion!AG45,Poblacion!AI45,Poblacion!AK45,Poblacion!AM45)","v":404},{"$f":"+SUM(Poblacion!AF45,Poblacion!AH45,Poblacion!AJ45,Poblacion!AL45,Poblacion!AN45)","v":398},{"$f":"+SUM(Poblacion!AO45,Poblacion!AQ45,Poblacion!AS45,Poblacion!AU45,Poblacion!AW45)","v":432},{"$f":"+SUM(Poblacion!AP45,Poblacion!AR45,Poblacion!AT45,Poblacion!AV45,Poblacion!AX45)","v":456},{"$f":"Poblacion!AY45","v":437},{"$f":"Poblacion!AZ45","v":458},{"$f":"Poblacion!BA45","v":441},{"$f":"Poblacion!BB45","v":585},{"$f":"Poblacion!BC45","v":420},{"$f":"Poblacion!BD45","v":516},{"$f":"Poblacion!BE45","v":430},{"$f":"Poblacion!BF45","v":465},{"$f":"Poblacion!BG45","v":417},{"$f":"Poblacion!BH45","v":448},{"$f":"Poblacion!BI45","v":393},{"$f":"Poblacion!BJ45","v":438},{"$f":"Poblacion!BK45","v":362},{"$f":"Poblacion!BL45","v":405},{"$f":"Poblacion!BM45","v":330},{"$f":"Poblacion!BN45","v":351},{"$f":"Poblacion!BO45","v":288},{"$f":"Poblacion!BP45","v":313},{"$f":"Poblacion!BQ45","v":224},{"$f":"Poblacion!BR45","v":245},{"$f":"Poblacion!BS45","v":217},{"$f":"Poblacion!BT45","v":242},{"$f":"Poblacion!BU45","v":170},{"$f":"Poblacion!BV45","v":173},{"$f":"Poblacion!BY45","v":111},{"$f":"Poblacion!BZ45","v":101},{"$f":"Poblacion!DP45","v":1256},{"$f":"Poblacion!DQ45","v":1247},{"$f":"Poblacion!DR45","v":341},{"$f":"Poblacion!DS45","v":348},{"$f":"Poblacion!DT45","v":3396},{"$f":"Poblacion!DU45","v":3848},{"$f":"Poblacion!DV45","v":1010},{"$f":"Poblacion!DW45","v":1074}]
[null,null,null,null,null,null,null,null,null,null,null,null,null,null,null,null,null,null,null,null,null,null,null,null,null,null,null,null,null,null,null,null,null,null,null,null,null,null,null,null,null,null,null,null,null,null,null,null,null,null,null,null,"02",40,"P.S. CHONTA",{"$f":"Poblacion!F46","v":6820},{"$f":"+SUM(Poblacion!K46,Poblacion!M46,Poblacion!O46,Poblacion!Q46,Poblacion!S46)","v":252},{"$f":"+SUM(Poblacion!L46,Poblacion!N46,Poblacion!P46,Poblacion!R46,Poblacion!T46)","v":245},{"$f":"SUM(Poblacion!U46,Poblacion!W46,Poblacion!Y46,Poblacion!AA46,Poblacion!AC46)","v":246},{"$f":"SUM(Poblacion!V46,Poblacion!X46,Poblacion!Z46,Poblacion!AB46,Poblacion!AD46)","v":248},{"$f":"+SUM(Poblacion!AE46,Poblacion!AG46,Poblacion!AI46,Poblacion!AK46,Poblacion!AM46)","v":215},{"$f":"+SUM(Poblacion!AF46,Poblacion!AH46,Poblacion!AJ46,Poblacion!AL46,Poblacion!AN46)","v":213},{"$f":"+SUM(Poblacion!AO46,Poblacion!AQ46,Poblacion!AS46,Poblacion!AU46,Poblacion!AW46)","v":232},{"$f":"+SUM(Poblacion!AP46,Poblacion!AR46,Poblacion!AT46,Poblacion!AV46,Poblacion!AX46)","v":244},{"$f":"Poblacion!AY46","v":234},{"$f":"Poblacion!AZ46","v":245},{"$f":"Poblacion!BA46","v":237},{"$f":"Poblacion!BB46","v":313},{"$f":"Poblacion!BC46","v":224},{"$f":"Poblacion!BD46","v":276},{"$f":"Poblacion!BE46","v":231},{"$f":"Poblacion!BF46","v":250},{"$f":"Poblacion!BG46","v":224},{"$f":"Poblacion!BH46","v":240},{"$f":"Poblacion!BI46","v":210},{"$f":"Poblacion!BJ46","v":235},{"$f":"Poblacion!BK46","v":194},{"$f":"Poblacion!BL46","v":217},{"$f":"Poblacion!BM46","v":177},{"$f":"Poblacion!BN46","v":188},{"$f":"Poblacion!BO46","v":154},{"$f":"Poblacion!BP46","v":167},{"$f":"Poblacion!BQ46","v":120},{"$f":"Poblacion!BR46","v":131},{"$f":"Poblacion!BS46","v":116},{"$f":"Poblacion!BT46","v":130},{"$f":"Poblacion!BU46","v":92},{"$f":"Poblacion!BV46","v":93},{"$f":"Poblacion!BY46","v":60},{"$f":"Poblacion!BZ46","v":55},{"$f":"Poblacion!DP46","v":673},{"$f":"Poblacion!DQ46","v":667},{"$f":"Poblacion!DR46","v":183},{"$f":"Poblacion!DS46","v":185},{"$f":"Poblacion!DT46","v":1820},{"$f":"Poblacion!DU46","v":2062},{"$f":"Poblacion!DV46","v":542},{"$f":"Poblacion!DW46","v":576}]
[null,null,null,null,null,null,null,null,null,null,null,null,null,null,null,null,null,null,null,null,null,null,null,null,null,null,null,null,null,null,null,null,null,null,null,null,null,null,null,null,null,null,null,null,null,null,null,null,null,null,null,null,"02",41,"P.S. 1RO DE MAYO",{"$f":"Poblacion!F47","v":13638},{"$f":"+SUM(Poblacion!K47,Poblacion!M47,Poblacion!O47,Poblacion!Q47,Poblacion!S47)","v":503},{"$f":"+SUM(Poblacion!L47,Poblacion!N47,Poblacion!P47,Poblacion!R47,Poblacion!T47)","v":492},{"$f":"SUM(Poblacion!U47,Poblacion!W47,Poblacion!Y47,Poblacion!AA47,Poblacion!AC47)","v":491},{"$f":"SUM(Poblacion!V47,Poblacion!X47,Poblacion!Z47,Poblacion!AB47,Poblacion!AD47)","v":496},{"$f":"+SUM(Poblacion!AE47,Poblacion!AG47,Poblacion!AI47,Poblacion!AK47,Poblacion!AM47)","v":432},{"$f":"+SUM(Poblacion!AF47,Poblacion!AH47,Poblacion!AJ47,Poblacion!AL47,Poblacion!AN47)","v":425},{"$f":"+SUM(Poblacion!AO47,Poblacion!AQ47,Poblacion!AS47,Poblacion!AU47,Poblacion!AW47)","v":464},{"$f":"+SUM(Poblacion!AP47,Poblacion!AR47,Poblacion!AT47,Poblacion!AV47,Poblacion!AX47)","v":486},{"$f":"Poblacion!AY47","v":468},{"$f":"Poblacion!AZ47","v":491},{"$f":"Poblacion!BA47","v":472},{"$f":"Poblacion!BB47","v":627},{"$f":"Poblacion!BC47","v":450},{"$f":"Poblacion!BD47","v":553},{"$f":"Poblacion!BE47","v":461},{"$f":"Poblacion!BF47","v":500},{"$f":"Poblacion!BG47","v":447},{"$f":"Poblacion!BH47","v":480},{"$f":"Poblacion!BI47","v":421},{"$f":"Poblacion!BJ47","v":470},{"$f":"Poblacion!BK47","v":388},{"$f":"Poblacion!BL47","v":434},{"$f":"Poblacion!BM47","v":353},{"$f":"Poblacion!BN47","v":375},{"$f":"Poblacion!BO47","v":308},{"$f":"Poblacion!BP47","v":335},{"$f":"Poblacion!BQ47","v":240},{"$f":"Poblacion!BR47","v":263},{"$f":"Poblacion!BS47","v":232},{"$f":"Poblacion!BT47","v":260},{"$f":"Poblacion!BU47","v":182},{"$f":"Poblacion!BV47","v":185},{"$f":"Poblacion!BY47","v":120},{"$f":"Poblacion!BZ47","v":110},{"$f":"Poblacion!DP47","v":1346},{"$f":"Poblacion!DQ47","v":1334},{"$f":"Poblacion!DR47","v":365},{"$f":"Poblacion!DS47","v":370},{"$f":"Poblacion!DT47","v":3639},{"$f":"Poblacion!DU47","v":4125},{"$f":"Poblacion!DV47","v":1082},{"$f":"Poblacion!DW47","v":1153}]
[null,null,null,null,null,null,null,null,null,null,null,null,null,null,null,null,null,null,null,null,null,null,null,null,null,null,null,null,null,null,null,null,null,null,null,null,null,null,null,null,null,null,null,null,null,null,null,null,null,null,null,null,"02",42,"P.S. ZAPATA",{"$f":"Poblacion!F48","v":4098},{"$f":"+SUM(Poblacion!K48,Poblacion!M48,Poblacion!O48,Poblacion!Q48,Poblacion!S48)","v":153},{"$f":"+SUM(Poblacion!L48,Poblacion!N48,Poblacion!P48,Poblacion!R48,Poblacion!T48)","v":148},{"$f":"SUM(Poblacion!U48,Poblacion!W48,Poblacion!Y48,Poblacion!AA48,Poblacion!AC48)","v":149},{"$f":"SUM(Poblacion!V48,Poblacion!X48,Poblacion!Z48,Poblacion!AB48,Poblacion!AD48)","v":151},{"$f":"+SUM(Poblacion!AE48,Poblacion!AG48,Poblacion!AI48,Poblacion!AK48,Poblacion!AM48)","v":131},{"$f":"+SUM(Poblacion!AF48,Poblacion!AH48,Poblacion!AJ48,Poblacion!AL48,Poblacion!AN48)","v":128},{"$f":"+SUM(Poblacion!AO48,Poblacion!AQ48,Poblacion!AS48,Poblacion!AU48,Poblacion!AW48)","v":139},{"$f":"+SUM(Poblacion!AP48,Poblacion!AR48,Poblacion!AT48,Poblacion!AV48,Poblacion!AX48)","v":146},{"$f":"Poblacion!AY48","v":140},{"$f":"Poblacion!AZ48","v":147},{"$f":"Poblacion!BA48","v":142},{"$f":"Poblacion!BB48","v":188},{"$f":"Poblacion!BC48","v":135},{"$f":"Poblacion!BD48","v":166},{"$f":"Poblacion!BE48","v":138},{"$f":"Poblacion!BF48","v":150},{"$f":"Poblacion!BG48","v":134},{"$f":"Poblacion!BH48","v":144},{"$f":"Poblacion!BI48","v":126},{"$f":"Poblacion!BJ48","v":141},{"$f":"Poblacion!BK48","v":116},{"$f":"Poblacion!BL48","v":130},{"$f":"Poblacion!BM48","v":106},{"$f":"Poblacion!BN48","v":113},{"$f":"Poblacion!BO48","v":92},{"$f":"Poblacion!BP48","v":100},{"$f":"Poblacion!BQ48","v":72},{"$f":"Poblacion!BR48","v":79},{"$f":"Poblacion!BS48","v":69},{"$f":"Poblacion!BT48","v":78},{"$f":"Poblacion!BU48","v":55},{"$f":"Poblacion!BV48","v":56},{"$f":"Poblacion!BY48","v":36},{"$f":"Poblacion!BZ48","v":33},{"$f":"Poblacion!DP48","v":408},{"$f":"Poblacion!DQ48","v":403},{"$f":"Poblacion!DR48","v":110},{"$f":"Poblacion!DS48","v":112},{"$f":"Poblacion!DT48","v":1091},{"$f":"Poblacion!DU48","v":1237},{"$f":"Poblacion!DV48","v":324},{"$f":"Poblacion!DW48","v":346}]
[null,null,null,null,null,null,null,null,null,null,null,null,null,null,null,null,null,null,null,null,null,null,null,null,null,null,null,null,null,null,null,null,null,null,null,null,null,null,null,null,null,null,null,null,null,null,null,null,null,null,null,null,"02",43,"P.S. SAN BARTOLOME",{"$f":"Poblacion!F49","v":8185},{"$f":"+SUM(Poblacion!K49,Poblacion!M49,Poblacion!O49,Poblacion!Q49,Poblacion!S49)","v":302},{"$f":"+SUM(Poblacion!L49,Poblacion!N49,Poblacion!P49,Poblacion!R49,Poblacion!T49)","v":296},{"$f":"SUM(Poblacion!U49,Poblacion!W49,Poblacion!Y49,Poblacion!AA49,Poblacion!AC49)","v":294},{"$f":"SUM(Poblacion!V49,Poblacion!X49,Poblacion!Z49,Poblacion!AB49,Poblacion!AD49)","v":300},{"$f":"+SUM(Poblacion!AE49,Poblacion!AG49,Poblacion!AI49,Poblacion!AK49,Poblacion!AM49)","v":258},{"$f":"+SUM(Poblacion!AF49,Poblacion!AH49,Poblacion!AJ49,Poblacion!AL49,Poblacion!AN49)","v":254},{"$f":"+SUM(Poblacion!AO49,Poblacion!AQ49,Poblacion!AS49,Poblacion!AU49,Poblacion!AW49)","v":278},{"$f":"+SUM(Poblacion!AP49,Poblacion!AR49,Poblacion!AT49,Poblacion!AV49,Poblacion!AX49)","v":293},{"$f":"Poblacion!AY49","v":281},{"$f":"Poblacion!AZ49","v":294},{"$f":"Poblacion!BA49","v":284},{"$f":"Poblacion!BB49","v":376},{"$f":"Poblacion!BC49","v":270},{"$f":"Poblacion!BD49","v":332},{"$f":"Poblacion!BE49","v":277},{"$f":"Poblacion!BF49","v":300},{"$f":"Poblacion!BG49","v":268},{"$f":"Poblacion!BH49","v":288},{"$f":"Poblacion!BI49","v":252},{"$f":"Poblacion!BJ49","v":282},{"$f":"Poblacion!BK49","v":233},{"$f":"Poblacion!BL49","v":260},{"$f":"Poblacion!BM49","v":212},{"$f":"Poblacion!BN49","v":226},{"$f":"Poblacion!BO49","v":185},{"$f":"Poblacion!BP49","v":201},{"$f":"Poblacion!BQ49","v":144},{"$f":"Poblacion!BR49","v":158},{"$f":"Poblacion!BS49","v":139},{"$f":"Poblacion!BT49","v":156},{"$f":"Poblacion!BU49","v":109},{"$f":"Poblacion!BV49","v":111},{"$f":"Poblacion!BY49","v":72},{"$f":"Poblacion!BZ49","v":66},{"$f":"Poblacion!DP49","v":806},{"$f":"Poblacion!DQ49","v":803},{"$f":"Poblacion!DR49","v":219},{"$f":"Poblacion!DS49","v":222},{"$f":"Poblacion!DT49","v":2184},{"$f":"Poblacion!DU49","v":2476},{"$f":"Poblacion!DV49","v":649},{"$f":"Poblacion!DW49","v":692}]
[null,null,null,null,null,null,null,null,null,null,null,null,null,null,null,null,null,null,null,null,null,null,null,null,null,null,null,null,null,null,null,null,null,null,null,null,null,null,null,null,null,null,null,null,null,null,null,null,null,null,null,null,null,44,"DISTRITO SAYAN",{"$f":"Poblacion!F50","v":27544},{"$f":"+SUM(Poblacion!K50,Poblacion!M50,Poblacion!O50,Poblacion!Q50,Poblacion!S50)","v":1025},{"$f":"+SUM(Poblacion!L50,Poblacion!N50,Poblacion!P50,Poblacion!R50,Poblacion!T50)","v":994},{"$f":"SUM(Poblacion!U50,Poblacion!W50,Poblacion!Y50,Poblacion!AA50,Poblacion!AC50)","v":993},{"$f":"SUM(Poblacion!V50,Poblacion!X50,Poblacion!Z50,Poblacion!AB50,Poblacion!AD50)","v":1046},{"$f":"+SUM(Poblacion!AE50,Poblacion!AG50,Poblacion!AI50,Poblacion!AK50,Poblacion!AM50)","v":898},{"$f":"+SUM(Poblacion!AF50,Poblacion!AH50,Poblacion!AJ50,Poblacion!AL50,Poblacion!AN50)","v":908},{"$f":"+SUM(Poblacion!AO50,Poblacion!AQ50,Poblacion!AS50,Poblacion!AU50,Poblacion!AW50)","v":989},{"$f":"+SUM(Poblacion!AP50,Poblacion!AR50,Poblacion!AT50,Poblacion!AV50,Poblacion!AX50)","v":1142},{"$f":"Poblacion!AY50","v":851},{"$f":"Poblacion!AZ50","v":1086},{"$f":"Poblacion!BA50","v":939},{"$f":"Poblacion!BB50","v":1274},{"$f":"Poblacion!BC50","v":893},{"$f":"Poblacion!BD50","v":1152},{"$f":"Poblacion!BE50","v":967},{"$f":"Poblacion!BF50","v":1016},{"$f":"Poblacion!BG50","v":914},{"$f":"Poblacion!BH50","v":1038},{"$f":"Poblacion!BI50","v":899},{"$f":"Poblacion!BJ50","v":933},{"$f":"Poblacion!BK50","v":741},{"$f":"Poblacion!BL50","v":857},{"$f":"Poblacion!BM50","v":719},{"$f":"Poblacion!BN50","v":792},{"$f":"Poblacion!BO50","v":660},{"$f":"Poblacion!BP50","v":589},{"$f":"Poblacion!BQ50","v":470},{"$f":"Poblacion!BR50","v":502},{"$f":"Poblacion!BS50","v":447},{"$f":"Poblacion!BT50","v":381},{"$f":"Poblacion!BU50","v":334},{"$f":"Poblacion!BV50","v":310},{"$f":"Poblacion!BY50","v":182},{"$f":"Poblacion!BZ50","v":195},{"$f":"Poblacion!DP50","v":2741},{"$f":"Poblacion!DQ50","v":2770},{"$f":"Poblacion!DR50","v":769},{"$f":"Poblacion!DS50","v":884},{"$f":"Poblacion!DT50","v":7318},{"$f":"Poblacion!DU50","v":8584},{"$f":"Poblacion!DV50","v":2093},{"$f":"Poblacion!DW50","v":1977}]
[null,null,null,null,null,null,null,null,null,null,null,null,null,null,null,null,null,null,null,null,null,null,null,null,null,null,null,null,null,null,null,null,null,null,null,null,null,null,null,null,null,null,null,null,null,null,null,null,null,null,null,null,"03",45,"P.S. 9 DE OCTUBRE",{"$f":"Poblacion!F51","v":7434},{"$f":"+SUM(Poblacion!K51,Poblacion!M51,Poblacion!O51,Poblacion!Q51,Poblacion!S51)","v":276},{"$f":"+SUM(Poblacion!L51,Poblacion!N51,Poblacion!P51,Poblacion!R51,Poblacion!T51)","v":268},{"$f":"SUM(Poblacion!U51,Poblacion!W51,Poblacion!Y51,Poblacion!AA51,Poblacion!AC51)","v":271},{"$f":"SUM(Poblacion!V51,Poblacion!X51,Poblacion!Z51,Poblacion!AB51,Poblacion!AD51)","v":281},{"$f":"+SUM(Poblacion!AE51,Poblacion!AG51,Poblacion!AI51,Poblacion!AK51,Poblacion!AM51)","v":242},{"$f":"+SUM(Poblacion!AF51,Poblacion!AH51,Poblacion!AJ51,Poblacion!AL51,Poblacion!AN51)","v":246},{"$f":"+SUM(Poblacion!AO51,Poblacion!AQ51,Poblacion!AS51,Poblacion!AU51,Poblacion!AW51)","v":268},{"$f":"+SUM(Poblacion!AP51,Poblacion!AR51,Poblacion!AT51,Poblacion!AV51,Poblacion!AX51)","v":309},{"$f":"Poblacion!AY51","v":230},{"$f":"Poblacion!AZ51","v":292},{"$f":"Poblacion!BA51","v":253},{"$f":"Poblacion!BB51","v":344},{"$f":"Poblacion!BC51","v":241},{"$f":"Poblacion!BD51","v":311},{"$f":"Poblacion!BE51","v":261},{"$f":"Poblacion!BF51","v":274},{"$f":"Poblacion!BG51","v":247},{"$f":"Poblacion!BH51","v":280},{"$f":"Poblacion!BI51","v":242},{"$f":"Poblacion!BJ51","v":251},{"$f":"Poblacion!BK51","v":200},{"$f":"Poblacion!BL51","v":231},{"$f":"Poblacion!BM51","v":193},{"$f":"Poblacion!BN51","v":214},{"$f":"Poblacion!BO51","v":178},{"$f":"Poblacion!BP51","v":158},{"$f":"Poblacion!BQ51","v":127},{"$f":"Poblacion!BR51","v":136},{"$f":"Poblacion!BS51","v":121},{"$f":"Poblacion!BT51","v":103},{"$f":"Poblacion!BU51","v":90},{"$f":"Poblacion!BV51","v":84},{"$f":"Poblacion!BY51","v":49},{"$f":"Poblacion!BZ51","v":53},{"$f":"Poblacion!DP51","v":742},{"$f":"Poblacion!DQ51","v":747},{"$f":"Poblacion!DR51","v":208},{"$f":"Poblacion!DS51","v":239},{"$f":"Poblacion!DT51","v":1974},{"$f":"Poblacion!DU51","v":2315},{"$f":"Poblacion!DV51","v":565},{"$f":"Poblacion!DW51","v":534}]
[null,null,null,null,null,null,null,null,null,null,null,null,null,null,null,null,null,null,null,null,null,null,null,null,null,null,null,null,null,null,null,null,null,null,null,null,null,null,null,null,null,null,null,null,null,null,null,null,null,null,null,null,"03",46,"P.S. LA MERCED",{"$f":"Poblacion!F52","v":1112},{"$f":"+SUM(Poblacion!K52,Poblacion!M52,Poblacion!O52,Poblacion!Q52,Poblacion!S52)","v":41},{"$f":"+SUM(Poblacion!L52,Poblacion!N52,Poblacion!P52,Poblacion!R52,Poblacion!T52)","v":43},{"$f":"SUM(Poblacion!U52,Poblacion!W52,Poblacion!Y52,Poblacion!AA52,Poblacion!AC52)","v":38},{"$f":"SUM(Poblacion!V52,Poblacion!X52,Poblacion!Z52,Poblacion!AB52,Poblacion!AD52)","v":43},{"$f":"+SUM(Poblacion!AE52,Poblacion!AG52,Poblacion!AI52,Poblacion!AK52,Poblacion!AM52)","v":36},{"$f":"+SUM(Poblacion!AF52,Poblacion!AH52,Poblacion!AJ52,Poblacion!AL52,Poblacion!AN52)","v":36},{"$f":"+SUM(Poblacion!AO52,Poblacion!AQ52,Poblacion!AS52,Poblacion!AU52,Poblacion!AW52)","v":40},{"$f":"+SUM(Poblacion!AP52,Poblacion!AR52,Poblacion!AT52,Poblacion!AV52,Poblacion!AX52)","v":45},{"$f":"Poblacion!AY52","v":34},{"$f":"Poblacion!AZ52","v":44},{"$f":"Poblacion!BA52","v":38},{"$f":"Poblacion!BB52","v":51},{"$f":"Poblacion!BC52","v":36},{"$f":"Poblacion!BD52","v":46},{"$f":"Poblacion!BE52","v":39},{"$f":"Poblacion!BF52","v":41},{"$f":"Poblacion!BG52","v":37},{"$f":"Poblacion!BH52","v":42},{"$f":"Poblacion!BI52","v":36},{"$f":"Poblacion!BJ52","v":38},{"$f":"Poblacion!BK52","v":30},{"$f":"Poblacion!BL52","v":35},{"$f":"Poblacion!BM52","v":29},{"$f":"Poblacion!BN52","v":32},{"$f":"Poblacion!BO52","v":27},{"$f":"Poblacion!BP52","v":24},{"$f":"Poblacion!BQ52","v":19},{"$f":"Poblacion!BR52","v":20},{"$f":"Poblacion!BS52","v":18},{"$f":"Poblacion!BT52","v":15},{"$f":"Poblacion!BU52","v":13},{"$f":"Poblacion!BV52","v":12},{"$f":"Poblacion!BY52","v":9},{"$f":"Poblacion!BZ52","v":8},{"$f":"Poblacion!DP52","v":108},{"$f":"Poblacion!DQ52","v":115},{"$f":"Poblacion!DR52","v":31},{"$f":"Poblacion!DS52","v":35},{"$f":"Poblacion!DT52","v":295},{"$f":"Poblacion!DU52","v":346},{"$f":"Poblacion!DV52","v":86},{"$f":"Poblacion!DW52","v":79}]
[null,null,null,null,null,null,null,null,null,null,null,null,null,null,null,null,null,null,null,null,null,null,null,null,null,null,null,null,null,null,null,null,null,null,null,null,null,null,null,null,null,null,null,null,null,null,null,null,null,null,null,null,"03",47,"P.S. LA VILLA",{"$f":"Poblacion!F53","v":7974},{"$f":"+SUM(Poblacion!K53,Poblacion!M53,Poblacion!O53,Poblacion!Q53,Poblacion!S53)","v":296},{"$f":"+SUM(Poblacion!L53,Poblacion!N53,Poblacion!P53,Poblacion!R53,Poblacion!T53)","v":288},{"$f":"SUM(Poblacion!U53,Poblacion!W53,Poblacion!Y53,Poblacion!AA53,Poblacion!AC53)","v":288},{"$f":"SUM(Poblacion!V53,Poblacion!X53,Poblacion!Z53,Poblacion!AB53,Poblacion!AD53)","v":302},{"$f":"+SUM(Poblacion!AE53,Poblacion!AG53,Poblacion!AI53,Poblacion!AK53,Poblacion!AM53)","v":260},{"$f":"+SUM(Poblacion!AF53,Poblacion!AH53,Poblacion!AJ53,Poblacion!AL53,Poblacion!AN53)","v":263},{"$f":"+SUM(Poblacion!AO53,Poblacion!AQ53,Poblacion!AS53,Poblacion!AU53,Poblacion!AW53)","v":286},{"$f":"+SUM(Poblacion!AP53,Poblacion!AR53,Poblacion!AT53,Poblacion!AV53,Poblacion!AX53)","v":331},{"$f":"Poblacion!AY53","v":245},{"$f":"Poblacion!AZ53","v":314},{"$f":"Poblacion!BA53","v":272},{"$f":"Poblacion!BB53","v":369},{"$f":"Poblacion!BC53","v":258},{"$f":"Poblacion!BD53","v":333},{"$f":"Poblacion!BE53","v":280},{"$f":"Poblacion!BF53","v":295},{"$f":"Poblacion!BG53","v":265},{"$f":"Poblacion!BH53","v":301},{"$f":"Poblacion!BI53","v":261},{"$f":"Poblacion!BJ53","v":271},{"$f":"Poblacion!BK53","v":215},{"$f":"Poblacion!BL53","v":247},{"$f":"Poblacion!BM53","v":208},{"$f":"Poblacion!BN53","v":229},{"$f":"Poblacion!BO53","v":191},{"$f":"Poblacion!BP53","v":171},{"$f":"Poblacion!BQ53","v":136},{"$f":"Poblacion!BR53","v":146},{"$f":"Poblacion!BS53","v":130},{"$f":"Poblacion!BT53","v":110},{"$f":"Poblacion!BU53","v":97},{"$f":"Poblacion!BV53","v":90},{"$f":"Poblacion!BY53","v":53},{"$f":"Poblacion!BZ53","v":57},{"$f":"Poblacion!DP53","v":793},{"$f":"Poblacion!DQ53","v":801},{"$f":"Poblacion!DR53","v":223},{"$f":"Poblacion!DS53","v":257},{"$f":"Poblacion!DT53","v":2118},{"$f":"Poblacion!DU53","v":2485},{"$f":"Poblacion!DV53","v":607},{"$f":"Poblacion!DW53","v":574}]
[null,null,null,null,null,null,null,null,null,null,null,null,null,null,null,null,null,null,null,null,null,null,null,null,null,null,null,null,null,null,null,null,null,null,null,null,null,null,null,null,null,null,null,null,null,null,null,null,null,null,null,null,"03",48,"P.S. EL AHORCADO",{"$f":"Poblacion!F54","v":833},{"$f":"+SUM(Poblacion!K54,Poblacion!M54,Poblacion!O54,Poblacion!Q54,Poblacion!S54)","v":31},{"$f":"+SUM(Poblacion!L54,Poblacion!N54,Poblacion!P54,Poblacion!R54,Poblacion!T54)","v":29},{"$f":"SUM(Poblacion!U54,Poblacion!W54,Poblacion!Y54,Poblacion!AA54,Poblacion!AC54)","v":29},{"$f":"SUM(Poblacion!V54,Poblacion!X54,Poblacion!Z54,Poblacion!AB54,Poblacion!AD54)","v":33},{"$f":"+SUM(Poblacion!AE54,Poblacion!AG54,Poblacion!AI54,Poblacion!AK54,Poblacion!AM54)","v":29},{"$f":"+SUM(Poblacion!AF54,Poblacion!AH54,Poblacion!AJ54,Poblacion!AL54,Poblacion!AN54)","v":28},{"$f":"+SUM(Poblacion!AO54,Poblacion!AQ54,Poblacion!AS54,Poblacion!AU54,Poblacion!AW54)","v":30},{"$f":"+SUM(Poblacion!AP54,Poblacion!AR54,Poblacion!AT54,Poblacion!AV54,Poblacion!AX54)","v":36},{"$f":"Poblacion!AY54","v":26},{"$f":"Poblacion!AZ54","v":33},{"$f":"Poblacion!BA54","v":29},{"$f":"Poblacion!BB54","v":38},{"$f":"Poblacion!BC54","v":27},{"$f":"Poblacion!BD54","v":35},{"$f":"Poblacion!BE54","v":29},{"$f":"Poblacion!BF54","v":30},{"$f":"Poblacion!BG54","v":27},{"$f":"Poblacion!BH54","v":31},{"$f":"Poblacion!BI54","v":27},{"$f":"Poblacion!BJ54","v":28},{"$f":"Poblacion!BK54","v":22},{"$f":"Poblacion!BL54","v":26},{"$f":"Poblacion!BM54","v":22},{"$f":"Poblacion!BN54","v":24},{"$f":"Poblacion!BO54","v":20},{"$f":"Poblacion!BP54","v":18},{"$f":"Poblacion!BQ54","v":14},{"$f":"Poblacion!BR54","v":15},{"$f":"Poblacion!BS54","v":13},{"$f":"Poblacion!BT54","v":11},{"$f":"Poblacion!BU54","v":10},{"$f":"Poblacion!BV54","v":9},{"$f":"Poblacion!BY54","v":5},{"$f":"Poblacion!BZ54","v":6},{"$f":"Poblacion!DP54","v":83},{"$f":"Poblacion!DQ54","v":85},{"$f":"Poblacion!DR54","v":24},{"$f":"Poblacion!DS54","v":26},{"$f":"Poblacion!DT54","v":221},{"$f":"Poblacion!DU54","v":260},{"$f":"Poblacion!DV54","v":62},{"$f":"Poblacion!DW54","v":59}]
[null,null,null,null,null,null,null,null,null,null,null,null,null,null,null,null,null,null,null,null,null,null,null,null,null,null,null,null,null,null,null,null,null,null,null,null,null,null,null,null,null,null,null,null,null,null,null,null,null,null,null,null,"03",49,"C.S. SAYAN",{"$f":"Poblacion!F55","v":8529},{"$f":"+SUM(Poblacion!K55,Poblacion!M55,Poblacion!O55,Poblacion!Q55,Poblacion!S55)","v":319},{"$f":"+SUM(Poblacion!L55,Poblacion!N55,Poblacion!P55,Poblacion!R55,Poblacion!T55)","v":308},{"$f":"SUM(Poblacion!U55,Poblacion!W55,Poblacion!Y55,Poblacion!AA55,Poblacion!AC55)","v":307},{"$f":"SUM(Poblacion!V55,Poblacion!X55,Poblacion!Z55,Poblacion!AB55,Poblacion!AD55)","v":325},{"$f":"+SUM(Poblacion!AE55,Poblacion!AG55,Poblacion!AI55,Poblacion!AK55,Poblacion!AM55)","v":275},{"$f":"+SUM(Poblacion!AF55,Poblacion!AH55,Poblacion!AJ55,Poblacion!AL55,Poblacion!AN55)","v":279},{"$f":"+SUM(Poblacion!AO55,Poblacion!AQ55,Poblacion!AS55,Poblacion!AU55,Poblacion!AW55)","v":305},{"$f":"+SUM(Poblacion!AP55,Poblacion!AR55,Poblacion!AT55,Poblacion!AV55,Poblacion!AX55)","v":353},{"$f":"Poblacion!AY55","v":264},{"$f":"Poblacion!AZ55","v":337},{"$f":"Poblacion!BA55","v":291},{"$f":"Poblacion!BB55","v":395},{"$f":"Poblacion!BC55","v":277},{"$f":"Poblacion!BD55","v":357},{"$f":"Poblacion!BE55","v":300},{"$f":"Poblacion!BF55","v":315},{"$f":"Poblacion!BG55","v":283},{"$f":"Poblacion!BH55","v":322},{"$f":"Poblacion!BI55","v":279},{"$f":"Poblacion!BJ55","v":289},{"$f":"Poblacion!BK55","v":230},{"$f":"Poblacion!BL55","v":266},{"$f":"Poblacion!BM55","v":223},{"$f":"Poblacion!BN55","v":245},{"$f":"Poblacion!BO55","v":204},{"$f":"Poblacion!BP55","v":182},{"$f":"Poblacion!BQ55","v":146},{"$f":"Poblacion!BR55","v":155},{"$f":"Poblacion!BS55","v":139},{"$f":"Poblacion!BT55","v":118},{"$f":"Poblacion!BU55","v":104},{"$f":"Poblacion!BV55","v":96},{"$f":"Poblacion!BY55","v":56},{"$f":"Poblacion!BZ55","v":59},{"$f":"Poblacion!DP55","v":847},{"$f":"Poblacion!DQ55","v":856},{"$f":"Poblacion!DR55","v":237},{"$f":"Poblacion!DS55","v":275},{"$f":"Poblacion!DT55","v":2269},{"$f":"Poblacion!DU55","v":2660},{"$f":"Poblacion!DV55","v":649},{"$f":"Poblacion!DW55","v":610}]
[null,null,null,null,null,null,null,null,null,null,null,null,null,null,null,null,null,null,null,null,null,null,null,null,null,null,null,null,null,null,null,null,null,null,null,null,null,null,null,null,null,null,null,null,null,null,null,null,null,null,null,null,"03",50,"P.S. CHAMBARA",{"$f":"Poblacion!F56","v":835},{"$f":"+SUM(Poblacion!K56,Poblacion!M56,Poblacion!O56,Poblacion!Q56,Poblacion!S56)","v":31},{"$f":"+SUM(Poblacion!L56,Poblacion!N56,Poblacion!P56,Poblacion!R56,Poblacion!T56)","v":29},{"$f":"SUM(Poblacion!U56,Poblacion!W56,Poblacion!Y56,Poblacion!AA56,Poblacion!AC56)","v":31},{"$f":"SUM(Poblacion!V56,Poblacion!X56,Poblacion!Z56,Poblacion!AB56,Poblacion!AD56)","v":31},{"$f":"+SUM(Poblacion!AE56,Poblacion!AG56,Poblacion!AI56,Poblacion!AK56,Poblacion!AM56)","v":28},{"$f":"+SUM(Poblacion!AF56,Poblacion!AH56,Poblacion!AJ56,Poblacion!AL56,Poblacion!AN56)","v":28},{"$f":"+SUM(Poblacion!AO56,Poblacion!AQ56,Poblacion!AS56,Poblacion!AU56,Poblacion!AW56)","v":30},{"$f":"+SUM(Poblacion!AP56,Poblacion!AR56,Poblacion!AT56,Poblacion!AV56,Poblacion!AX56)","v":34},{"$f":"Poblacion!AY56","v":26},{"$f":"Poblacion!AZ56","v":33},{"$f":"Poblacion!BA56","v":28},{"$f":"Poblacion!BB56","v":39},{"$f":"Poblacion!BC56","v":27},{"$f":"Poblacion!BD56","v":35},{"$f":"Poblacion!BE56","v":29},{"$f":"Poblacion!BF56","v":31},{"$f":"Poblacion!BG56","v":28},{"$f":"Poblacion!BH56","v":31},{"$f":"Poblacion!BI56","v":27},{"$f":"Poblacion!BJ56","v":28},{"$f":"Poblacion!BK56","v":22},{"$f":"Poblacion!BL56","v":26},{"$f":"Poblacion!BM56","v":22},{"$f":"Poblacion!BN56","v":24},{"$f":"Poblacion!BO56","v":20},{"$f":"Poblacion!BP56","v":18},{"$f":"Poblacion!BQ56","v":14},{"$f":"Poblacion!BR56","v":15},{"$f":"Poblacion!BS56","v":13},{"$f":"Poblacion!BT56","v":13},{"$f":"Poblacion!BU56","v":10},{"$f":"Poblacion!BV56","v":10},{"$f":"Poblacion!BY56","v":5},{"$f":"Poblacion!BZ56","v":6},{"$f":"Poblacion!DP56","v":85},{"$f":"Poblacion!DQ56","v":83},{"$f":"Poblacion!DR56","v":23},{"$f":"Poblacion!DS56","v":26},{"$f":"Poblacion!DT56","v":221},{"$f":"Poblacion!DU56","v":260},{"$f":"Poblacion!DV56","v":62},{"$f":"Poblacion!DW56","v":62}]
[null,null,null,null,null,null,null,null,null,null,null,null,null,null,null,null,null,null,null,null,null,null,null,null,null,null,null,null,null,null,null,null,null,null,null,null,null,null,null,null,null,null,null,null,null,null,null,null,null,null,null,null,"03",51,"P.S. LA UNION",{"$f":"Poblacion!F57","v":827},{"$f":"+SUM(Poblacion!K57,Poblacion!M57,Poblacion!O57,Poblacion!Q57,Poblacion!S57)","v":31},{"$f":"+SUM(Poblacion!L57,Poblacion!N57,Poblacion!P57,Poblacion!R57,Poblacion!T57)","v":29},{"$f":"SUM(Poblacion!U57,Poblacion!W57,Poblacion!Y57,Poblacion!AA57,Poblacion!AC57)","v":29},{"$f":"SUM(Poblacion!V57,Poblacion!X57,Poblacion!Z57,Poblacion!AB57,Poblacion!AD57)","v":31},{"$f":"+SUM(Poblacion!AE57,Poblacion!AG57,Poblacion!AI57,Poblacion!AK57,Poblacion!AM57)","v":28},{"$f":"+SUM(Poblacion!AF57,Poblacion!AH57,Poblacion!AJ57,Poblacion!AL57,Poblacion!AN57)","v":28},{"$f":"+SUM(Poblacion!AO57,Poblacion!AQ57,Poblacion!AS57,Poblacion!AU57,Poblacion!AW57)","v":30},{"$f":"+SUM(Poblacion!AP57,Poblacion!AR57,Poblacion!AT57,Poblacion!AV57,Poblacion!AX57)","v":34},{"$f":"Poblacion!AY57","v":26},{"$f":"Poblacion!AZ57","v":33},{"$f":"Poblacion!BA57","v":28},{"$f":"Poblacion!BB57","v":38},{"$f":"Poblacion!BC57","v":27},{"$f":"Poblacion!BD57","v":35},{"$f":"Poblacion!BE57","v":29},{"$f":"Poblacion!BF57","v":30},{"$f":"Poblacion!BG57","v":27},{"$f":"Poblacion!BH57","v":31},{"$f":"Poblacion!BI57","v":27},{"$f":"Poblacion!BJ57","v":28},{"$f":"Poblacion!BK57","v":22},{"$f":"Poblacion!BL57","v":26},{"$f":"Poblacion!BM57","v":22},{"$f":"Poblacion!BN57","v":24},{"$f":"Poblacion!BO57","v":20},{"$f":"Poblacion!BP57","v":18},{"$f":"Poblacion!BQ57","v":14},{"$f":"Poblacion!BR57","v":15},{"$f":"Poblacion!BS57","v":13},{"$f":"Poblacion!BT57","v":11},{"$f":"Poblacion!BU57","v":10},{"$f":"Poblacion!BV57","v":9},{"$f":"Poblacion!BY57","v":5},{"$f":"Poblacion!BZ57","v":6},{"$f":"Poblacion!DP57","v":83},{"$f":"Poblacion!DQ57","v":83},{"$f":"Poblacion!DR57","v":23},{"$f":"Poblacion!DS57","v":26},{"$f":"Poblacion!DT57","v":220},{"$f":"Poblacion!DU57","v":258},{"$f":"Poblacion!DV57","v":62},{"$f":"Poblacion!DW57","v":59}]
[null,null,null,null,null,null,null,null,null,null,null,null,null,null,null,null,null,null,null,null,null,null,null,null,null,null,null,null,null,null,null,null,null,null,null,null,null,null,null,null,null,null,null,null,null,null,null,null,null,null,null,null,null,52,"DISTRITO VEGUETA",{"$f":"Poblacion!F58","v":30644},{"$f":"+SUM(Poblacion!K58,Poblacion!M58,Poblacion!O58,Poblacion!Q58,Poblacion!S58)","v":1368},{"$f":"+SUM(Poblacion!L58,Poblacion!N58,Poblacion!P58,Poblacion!R58,Poblacion!T58)","v":1399},{"$f":"SUM(Poblacion!U58,Poblacion!W58,Poblacion!Y58,Poblacion!AA58,Poblacion!AC58)","v":1210},{"$f":"SUM(Poblacion!V58,Poblacion!X58,Poblacion!Z58,Poblacion!AB58,Poblacion!AD58)","v":1153},{"$f":"+SUM(Poblacion!AE58,Poblacion!AG58,Poblacion!AI58,Poblacion!AK58,Poblacion!AM58)","v":1063},{"$f":"+SUM(Poblacion!AF58,Poblacion!AH58,Poblacion!AJ58,Poblacion!AL58,Poblacion!AN58)","v":1031},{"$f":"+SUM(Poblacion!AO58,Poblacion!AQ58,Poblacion!AS58,Poblacion!AU58,Poblacion!AW58)","v":1123},{"$f":"+SUM(Poblacion!AP58,Poblacion!AR58,Poblacion!AT58,Poblacion!AV58,Poblacion!AX58)","v":1135},{"$f":"Poblacion!AY58","v":898},{"$f":"Poblacion!AZ58","v":1096},{"$f":"Poblacion!BA58","v":1087},{"$f":"Poblacion!BB58","v":1470},{"$f":"Poblacion!BC58","v":1089},{"$f":"Poblacion!BD58","v":1364},{"$f":"Poblacion!BE58","v":1093},{"$f":"Poblacion!BF58","v":1187},{"$f":"Poblacion!BG58","v":986},{"$f":"Poblacion!BH58","v":1091},{"$f":"Poblacion!BI58","v":886},{"$f":"Poblacion!BJ58","v":990},{"$f":"Poblacion!BK58","v":785},{"$f":"Poblacion!BL58","v":905},{"$f":"Poblacion!BM58","v":748},{"$f":"Poblacion!BN58","v":836},{"$f":"Poblacion!BO58","v":625},{"$f":"Poblacion!BP58","v":675},{"$f":"Poblacion!BQ58","v":488},{"$f":"Poblacion!BR58","v":496},{"$f":"Poblacion!BS58","v":434},{"$f":"Poblacion!BT58","v":414},{"$f":"Poblacion!BU58","v":349},{"$f":"Poblacion!BV58","v":313},{"$f":"Poblacion!BY58","v":200},{"$f":"Poblacion!BZ58","v":253},{"$f":"Poblacion!DP58","v":3453},{"$f":"Poblacion!DQ58","v":3401},{"$f":"Poblacion!DR58","v":890},{"$f":"Poblacion!DS58","v":863},{"$f":"Poblacion!DT58","v":7993},{"$f":"Poblacion!DU58","v":9393},{"$f":"Poblacion!DV58","v":2096},{"$f":"Poblacion!DW58","v":2151}]
[null,null,null,null,null,null,null,null,null,null,null,null,null,null,null,null,null,null,null,null,null,null,null,null,null,null,null,null,null,null,null,null,null,null,null,null,null,null,null,null,null,null,null,null,null,null,null,null,null,null,null,null,"04",53,"C.S. VEGUETA",{"$f":"Poblacion!F59","v":8274},{"$f":"+SUM(Poblacion!K59,Poblacion!M59,Poblacion!O59,Poblacion!Q59,Poblacion!S59)","v":369},{"$f":"+SUM(Poblacion!L59,Poblacion!N59,Poblacion!P59,Poblacion!R59,Poblacion!T59)","v":380},{"$f":"SUM(Poblacion!U59,Poblacion!W59,Poblacion!Y59,Poblacion!AA59,Poblacion!AC59)","v":327},{"$f":"SUM(Poblacion!V59,Poblacion!X59,Poblacion!Z59,Poblacion!AB59,Poblacion!AD59)","v":312},{"$f":"+SUM(Poblacion!AE59,Poblacion!AG59,Poblacion!AI59,Poblacion!AK59,Poblacion!AM59)","v":287},{"$f":"+SUM(Poblacion!AF59,Poblacion!AH59,Poblacion!AJ59,Poblacion!AL59,Poblacion!AN59)","v":279},{"$f":"+SUM(Poblacion!AO59,Poblacion!AQ59,Poblacion!AS59,Poblacion!AU59,Poblacion!AW59)","v":303},{"$f":"+SUM(Poblacion!AP59,Poblacion!AR59,Poblacion!AT59,Poblacion!AV59,Poblacion!AX59)","v":305},{"$f":"Poblacion!AY59","v":242},{"$f":"Poblacion!AZ59","v":296},{"$f":"Poblacion!BA59","v":293},{"$f":"Poblacion!BB59","v":397},{"$f":"Poblacion!BC59","v":294},{"$f":"Poblacion!BD59","v":368},{"$f":"Poblacion!BE59","v":295},{"$f":"Poblacion!BF59","v":320},{"$f":"Poblacion!BG59","v":266},{"$f":"Poblacion!BH59","v":295},{"$f":"Poblacion!BI59","v":239},{"$f":"Poblacion!BJ59","v":267},{"$f":"Poblacion!BK59","v":212},{"$f":"Poblacion!BL59","v":244},{"$f":"Poblacion!BM59","v":202},{"$f":"Poblacion!BN59","v":226},{"$f":"Poblacion!BO59","v":169},{"$f":"Poblacion!BP59","v":182},{"$f":"Poblacion!BQ59","v":132},{"$f":"Poblacion!BR59","v":134},{"$f":"Poblacion!BS59","v":117},{"$f":"Poblacion!BT59","v":112},{"$f":"Poblacion!BU59","v":94},{"$f":"Poblacion!BV59","v":85},{"$f":"Poblacion!BY59","v":54},{"$f":"Poblacion!BZ59","v":68},{"$f":"Poblacion!DP59","v":932},{"$f":"Poblacion!DQ59","v":922},{"$f":"Poblacion!DR59","v":241},{"$f":"Poblacion!DS59","v":232},{"$f":"Poblacion!DT59","v":2156},{"$f":"Poblacion!DU59","v":2535},{"$f":"Poblacion!DV59","v":566},{"$f":"Poblacion!DW59","v":581}]
[null,null,null,null,null,null,null,null,null,null,null,null,null,null,null,null,null,null,null,null,null,null,null,null,null,null,null,null,null,null,null,null,null,null,null,null,null,null,null,null,null,null,null,null,null,null,null,null,null,null,null,null,"04",54,"P.S. MAZO",{"$f":"Poblacion!F60","v":1992},{"$f":"+SUM(Poblacion!K60,Poblacion!M60,Poblacion!O60,Poblacion!Q60,Poblacion!S60)","v":89},{"$f":"+SUM(Poblacion!L60,Poblacion!N60,Poblacion!P60,Poblacion!R60,Poblacion!T60)","v":91},{"$f":"SUM(Poblacion!U60,Poblacion!W60,Poblacion!Y60,Poblacion!AA60,Poblacion!AC60)","v":79},{"$f":"SUM(Poblacion!V60,Poblacion!X60,Poblacion!Z60,Poblacion!AB60,Poblacion!AD60)","v":75},{"$f":"+SUM(Poblacion!AE60,Poblacion!AG60,Poblacion!AI60,Poblacion!AK60,Poblacion!AM60)","v":69},{"$f":"+SUM(Poblacion!AF60,Poblacion!AH60,Poblacion!AJ60,Poblacion!AL60,Poblacion!AN60)","v":68},{"$f":"+SUM(Poblacion!AO60,Poblacion!AQ60,Poblacion!AS60,Poblacion!AU60,Poblacion!AW60)","v":73},{"$f":"+SUM(Poblacion!AP60,Poblacion!AR60,Poblacion!AT60,Poblacion!AV60,Poblacion!AX60)","v":73},{"$f":"Poblacion!AY60","v":58},{"$f":"Poblacion!AZ60","v":71},{"$f":"Poblacion!BA60","v":71},{"$f":"Poblacion!BB60","v":96},{"$f":"Poblacion!BC60","v":71},{"$f":"Poblacion!BD60","v":89},{"$f":"Poblacion!BE60","v":71},{"$f":"Poblacion!BF60","v":77},{"$f":"Poblacion!BG60","v":64},{"$f":"Poblacion!BH60","v":71},{"$f":"Poblacion!BI60","v":58},{"$f":"Poblacion!BJ60","v":64},{"$f":"Poblacion!BK60","v":51},{"$f":"Poblacion!BL60","v":59},{"$f":"Poblacion!BM60","v":48},{"$f":"Poblacion!BN60","v":54},{"$f":"Poblacion!BO60","v":41},{"$f":"Poblacion!BP60","v":44},{"$f":"Poblacion!BQ60","v":32},{"$f":"Poblacion!BR60","v":32},{"$f":"Poblacion!BS60","v":28},{"$f":"Poblacion!BT60","v":27},{"$f":"Poblacion!BU60","v":23},{"$f":"Poblacion!BV60","v":20},{"$f":"Poblacion!BY60","v":13},{"$f":"Poblacion!BZ60","v":16},{"$f":"Poblacion!DP60","v":225},{"$f":"Poblacion!DQ60","v":222},{"$f":"Poblacion!DR60","v":58},{"$f":"Poblacion!DS60","v":56},{"$f":"Poblacion!DT60","v":519},{"$f":"Poblacion!DU60","v":610},{"$f":"Poblacion!DV60","v":137},{"$f":"Poblacion!DW60","v":139}]
[null,null,null,null,null,null,null,null,null,null,null,null,null,null,null,null,null,null,null,null,null,null,null,null,null,null,null,null,null,null,null,null,null,null,null,null,null,null,null,null,null,null,null,null,null,null,null,null,null,null,null,null,"04",55,"P.S. PRIMAVERA",{"$f":"Poblacion!F61","v":7354},{"$f":"+SUM(Poblacion!K61,Poblacion!M61,Poblacion!O61,Poblacion!Q61,Poblacion!S61)","v":328},{"$f":"+SUM(Poblacion!L61,Poblacion!N61,Poblacion!P61,Poblacion!R61,Poblacion!T61)","v":336},{"$f":"SUM(Poblacion!U61,Poblacion!W61,Poblacion!Y61,Poblacion!AA61,Poblacion!AC61)","v":290},{"$f":"SUM(Poblacion!V61,Poblacion!X61,Poblacion!Z61,Poblacion!AB61,Poblacion!AD61)","v":276},{"$f":"+SUM(Poblacion!AE61,Poblacion!AG61,Poblacion!AI61,Poblacion!AK61,Poblacion!AM61)","v":256},{"$f":"+SUM(Poblacion!AF61,Poblacion!AH61,Poblacion!AJ61,Poblacion!AL61,Poblacion!AN61)","v":246},{"$f":"+SUM(Poblacion!AO61,Poblacion!AQ61,Poblacion!AS61,Poblacion!AU61,Poblacion!AW61)","v":270},{"$f":"+SUM(Poblacion!AP61,Poblacion!AR61,Poblacion!AT61,Poblacion!AV61,Poblacion!AX61)","v":272},{"$f":"Poblacion!AY61","v":216},{"$f":"Poblacion!AZ61","v":263},{"$f":"Poblacion!BA61","v":261},{"$f":"Poblacion!BB61","v":353},{"$f":"Poblacion!BC61","v":261},{"$f":"Poblacion!BD61","v":327},{"$f":"Poblacion!BE61","v":262},{"$f":"Poblacion!BF61","v":285},{"$f":"Poblacion!BG61","v":237},{"$f":"Poblacion!BH61","v":262},{"$f":"Poblacion!BI61","v":213},{"$f":"Poblacion!BJ61","v":238},{"$f":"Poblacion!BK61","v":188},{"$f":"Poblacion!BL61","v":217},{"$f":"Poblacion!BM61","v":180},{"$f":"Poblacion!BN61","v":201},{"$f":"Poblacion!BO61","v":150},{"$f":"Poblacion!BP61","v":162},{"$f":"Poblacion!BQ61","v":117},{"$f":"Poblacion!BR61","v":119},{"$f":"Poblacion!BS61","v":104},{"$f":"Poblacion!BT61","v":99},{"$f":"Poblacion!BU61","v":84},{"$f":"Poblacion!BV61","v":75},{"$f":"Poblacion!BY61","v":48},{"$f":"Poblacion!BZ61","v":61},{"$f":"Poblacion!DP61","v":829},{"$f":"Poblacion!DQ61","v":814},{"$f":"Poblacion!DR61","v":214},{"$f":"Poblacion!DS61","v":207},{"$f":"Poblacion!DT61","v":1919},{"$f":"Poblacion!DU61","v":2255},{"$f":"Poblacion!DV61","v":503},{"$f":"Poblacion!DW61","v":516}]
[null,null,null,null,null,null,null,null,null,null,null,null,null,null,null,null,null,null,null,null,null,null,null,null,null,null,null,null,null,null,null,null,null,null,null,null,null,null,null,null,null,null,null,null,null,null,null,null,null,null,null,null,"04",56,"P.S. MARIATEGUI",{"$f":"Poblacion!F62","v":10113},{"$f":"+SUM(Poblacion!K62,Poblacion!M62,Poblacion!O62,Poblacion!Q62,Poblacion!S62)","v":452},{"$f":"+SUM(Poblacion!L62,Poblacion!N62,Poblacion!P62,Poblacion!R62,Poblacion!T62)","v":461},{"$f":"SUM(Poblacion!U62,Poblacion!W62,Poblacion!Y62,Poblacion!AA62,Poblacion!AC62)","v":399},{"$f":"SUM(Poblacion!V62,Poblacion!X62,Poblacion!Z62,Poblacion!AB62,Poblacion!AD62)","v":382},{"$f":"+SUM(Poblacion!AE62,Poblacion!AG62,Poblacion!AI62,Poblacion!AK62,Poblacion!AM62)","v":351},{"$f":"+SUM(Poblacion!AF62,Poblacion!AH62,Poblacion!AJ62,Poblacion!AL62,Poblacion!AN62)","v":340},{"$f":"+SUM(Poblacion!AO62,Poblacion!AQ62,Poblacion!AS62,Poblacion!AU62,Poblacion!AW62)","v":370},{"$f":"+SUM(Poblacion!AP62,Poblacion!AR62,Poblacion!AT62,Poblacion!AV62,Poblacion!AX62)","v":375},{"$f":"Poblacion!AY62","v":296},{"$f":"Poblacion!AZ62","v":362},{"$f":"Poblacion!BA62","v":359},{"$f":"Poblacion!BB62","v":485},{"$f":"Poblacion!BC62","v":359},{"$f":"Poblacion!BD62","v":450},{"$f":"Poblacion!BE62","v":361},{"$f":"Poblacion!BF62","v":392},{"$f":"Poblacion!BG62","v":325},{"$f":"Poblacion!BH62","v":360},{"$f":"Poblacion!BI62","v":292},{"$f":"Poblacion!BJ62","v":327},{"$f":"Poblacion!BK62","v":259},{"$f":"Poblacion!BL62","v":299},{"$f":"Poblacion!BM62","v":247},{"$f":"Poblacion!BN62","v":276},{"$f":"Poblacion!BO62","v":206},{"$f":"Poblacion!BP62","v":223},{"$f":"Poblacion!BQ62","v":161},{"$f":"Poblacion!BR62","v":164},{"$f":"Poblacion!BS62","v":142},{"$f":"Poblacion!BT62","v":137},{"$f":"Poblacion!BU62","v":115},{"$f":"Poblacion!BV62","v":103},{"$f":"Poblacion!BY62","v":66},{"$f":"Poblacion!BZ62","v":83},{"$f":"Poblacion!DP62","v":1140},{"$f":"Poblacion!DQ62","v":1123},{"$f":"Poblacion!DR62","v":293},{"$f":"Poblacion!DS62","v":285},{"$f":"Poblacion!DT62","v":2637},{"$f":"Poblacion!DU62","v":3101},{"$f":"Poblacion!DV62","v":690},{"$f":"Poblacion!DW62","v":710}]
[null,null,null,null,null,null,null,null,null,null,null,null,null,null,null,null,null,null,null,null,null,null,null,null,null,null,null,null,null,null,null,null,null,null,null,null,null,null,null,null,null,null,null,null,null,null,null,null,null,null,null,null,"04",57,"P.S. MEDIO MUNDO",{"$f":"Poblacion!F63","v":2758},{"$f":"+SUM(Poblacion!K63,Poblacion!M63,Poblacion!O63,Poblacion!Q63,Poblacion!S63)","v":124},{"$f":"+SUM(Poblacion!L63,Poblacion!N63,Poblacion!P63,Poblacion!R63,Poblacion!T63)","v":126},{"$f":"SUM(Poblacion!U63,Poblacion!W63,Poblacion!Y63,Poblacion!AA63,Poblacion!AC63)","v":110},{"$f":"SUM(Poblacion!V63,Poblacion!X63,Poblacion!Z63,Poblacion!AB63,Poblacion!AD63)","v":103},{"$f":"+SUM(Poblacion!AE63,Poblacion!AG63,Poblacion!AI63,Poblacion!AK63,Poblacion!AM63)","v":95},{"$f":"+SUM(Poblacion!AF63,Poblacion!AH63,Poblacion!AJ63,Poblacion!AL63,Poblacion!AN63)","v":93},{"$f":"+SUM(Poblacion!AO63,Poblacion!AQ63,Poblacion!AS63,Poblacion!AU63,Poblacion!AW63)","v":100},{"$f":"+SUM(Poblacion!AP63,Poblacion!AR63,Poblacion!AT63,Poblacion!AV63,Poblacion!AX63)","v":102},{"$f":"Poblacion!AY63","v":81},{"$f":"Poblacion!AZ63","v":99},{"$f":"Poblacion!BA63","v":98},{"$f":"Poblacion!BB63","v":132},{"$f":"Poblacion!BC63","v":98},{"$f":"Poblacion!BD63","v":123},{"$f":"Poblacion!BE63","v":98},{"$f":"Poblacion!BF63","v":107},{"$f":"Poblacion!BG63","v":89},{"$f":"Poblacion!BH63","v":98},{"$f":"Poblacion!BI63","v":80},{"$f":"Poblacion!BJ63","v":89},{"$f":"Poblacion!BK63","v":71},{"$f":"Poblacion!BL63","v":81},{"$f":"Poblacion!BM63","v":67},{"$f":"Poblacion!BN63","v":75},{"$f":"Poblacion!BO63","v":56},{"$f":"Poblacion!BP63","v":61},{"$f":"Poblacion!BQ63","v":44},{"$f":"Poblacion!BR63","v":45},{"$f":"Poblacion!BS63","v":40},{"$f":"Poblacion!BT63","v":37},{"$f":"Poblacion!BU63","v":31},{"$f":"Poblacion!BV63","v":28},{"$f":"Poblacion!BY63","v":18},{"$f":"Poblacion!BZ63","v":23},{"$f":"Poblacion!DP63","v":312},{"$f":"Poblacion!DQ63","v":306},{"$f":"Poblacion!DR63","v":80},{"$f":"Poblacion!DS63","v":77},{"$f":"Poblacion!DT63","v":719},{"$f":"Poblacion!DU63","v":845},{"$f":"Poblacion!DV63","v":189},{"$f":"Poblacion!DW63","v":194}]
[null,null,null,null,null,null,null,null,null,null,null,null,null,null,null,null,null,null,null,null,null,null,null,null,null,null,null,null,null,null,null,null,null,null,null,null,null,null,null,null,null,null,null,null,null,null,null,null,null,null,null,null,"04",58,"P.S. TIROLER",{"$f":"Poblacion!F64","v":153},{"$f":"+SUM(Poblacion!K64,Poblacion!M64,Poblacion!O64,Poblacion!Q64,Poblacion!S64)","v":6},{"$f":"+SUM(Poblacion!L64,Poblacion!N64,Poblacion!P64,Poblacion!R64,Poblacion!T64)","v":5},{"$f":"SUM(Poblacion!U64,Poblacion!W64,Poblacion!Y64,Poblacion!AA64,Poblacion!AC64)","v":5},{"$f":"SUM(Poblacion!V64,Poblacion!X64,Poblacion!Z64,Poblacion!AB64,Poblacion!AD64)","v":5},{"$f":"+SUM(Poblacion!AE64,Poblacion!AG64,Poblacion!AI64,Poblacion!AK64,Poblacion!AM64)","v":5},{"$f":"+SUM(Poblacion!AF64,Poblacion!AH64,Poblacion!AJ64,Poblacion!AL64,Poblacion!AN64)","v":5},{"$f":"+SUM(Poblacion!AO64,Poblacion!AQ64,Poblacion!AS64,Poblacion!AU64,Poblacion!AW64)","v":7},{"$f":"+SUM(Poblacion!AP64,Poblacion!AR64,Poblacion!AT64,Poblacion!AV64,Poblacion!AX64)","v":8},{"$f":"Poblacion!AY64","v":5},{"$f":"Poblacion!AZ64","v":5},{"$f":"Poblacion!BA64","v":5},{"$f":"Poblacion!BB64","v":7},{"$f":"Poblacion!BC64","v":6},{"$f":"Poblacion!BD64","v":7},{"$f":"Poblacion!BE64","v":6},{"$f":"Poblacion!BF64","v":6},{"$f":"Poblacion!BG64","v":5},{"$f":"Poblacion!BH64","v":5},{"$f":"Poblacion!BI64","v":4},{"$f":"Poblacion!BJ64","v":5},{"$f":"Poblacion!BK64","v":4},{"$f":"Poblacion!BL64","v":5},{"$f":"Poblacion!BM64","v":4},{"$f":"Poblacion!BN64","v":4},{"$f":"Poblacion!BO64","v":3},{"$f":"Poblacion!BP64","v":3},{"$f":"Poblacion!BQ64","v":2},{"$f":"Poblacion!BR64","v":2},{"$f":"Poblacion!BS64","v":3},{"$f":"Poblacion!BT64","v":2},{"$f":"Poblacion!BU64","v":2},{"$f":"Poblacion!BV64","v":2},{"$f":"Poblacion!BY64","v":1},{"$f":"Poblacion!BZ64","v":2},{"$f":"Poblacion!DP64","v":15},{"$f":"Poblacion!DQ64","v":14},{"$f":"Poblacion!DR64","v":4},{"$f":"Poblacion!DS64","v":6},{"$f":"Poblacion!DT64","v":43},{"$f":"Poblacion!DU64","v":47},{"$f":"Poblacion!DV64","v":11},{"$f":"Poblacion!DW64","v":11}]
[null,null,null,null,null,null,null,null,null,null,null,null,null,null,null,null,null,null,null,null,null,null,null,null,null,null,null,null,null,null,null,null,null,null,null,null,null,null,null,null,null,null,null,null,null,null,null,null,null,null,null,null,null,59,"PROVINCIA OYON",{"$f":"Poblacion!F65","v":17137},{"$f":"+SUM(Poblacion!K65,Poblacion!M65,Poblacion!O65,Poblacion!Q65,Poblacion!S65)","v":498},{"$f":"+SUM(Poblacion!L65,Poblacion!N65,Poblacion!P65,Poblacion!R65,Poblacion!T65)","v":542},{"$f":"SUM(Poblacion!U65,Poblacion!W65,Poblacion!Y65,Poblacion!AA65,Poblacion!AC65)","v":620},{"$f":"SUM(Poblacion!V65,Poblacion!X65,Poblacion!Z65,Poblacion!AB65,Poblacion!AD65)","v":613},{"$f":"+SUM(Poblacion!AE65,Poblacion!AG65,Poblacion!AI65,Poblacion!AK65,Poblacion!AM65)","v":673},{"$f":"+SUM(Poblacion!AF65,Poblacion!AH65,Poblacion!AJ65,Poblacion!AL65,Poblacion!AN65)","v":697},{"$f":"+SUM(Poblacion!AO65,Poblacion!AQ65,Poblacion!AS65,Poblacion!AU65,Poblacion!AW65)","v":751},{"$f":"+SUM(Poblacion!AP65,Poblacion!AR65,Poblacion!AT65,Poblacion!AV65,Poblacion!AX65)","v":782},{"$f":"Poblacion!AY65","v":560},{"$f":"Poblacion!AZ65","v":606},{"$f":"Poblacion!BA65","v":538},{"$f":"Poblacion!BB65","v":692},{"$f":"Poblacion!BC65","v":508},{"$f":"Poblacion!BD65","v":636},{"$f":"Poblacion!BE65","v":554},{"$f":"Poblacion!BF65","v":585},{"$f":"Poblacion!BG65","v":512},{"$f":"Poblacion!BH65","v":483},{"$f":"Poblacion!BI65","v":534},{"$f":"Poblacion!BJ65","v":509},{"$f":"Poblacion!BK65","v":498},{"$f":"Poblacion!BL65","v":545},{"$f":"Poblacion!BM65","v":456},{"$f":"Poblacion!BN65","v":478},{"$f":"Poblacion!BO65","v":439},{"$f":"Poblacion!BP65","v":408},{"$f":"Poblacion!BQ65","v":322},{"$f":"Poblacion!BR65","v":334},{"$f":"Poblacion!BS65","v":298},{"$f":"Poblacion!BT65","v":300},{"$f":"Poblacion!BU65","v":218},{"$f":"Poblacion!BV65","v":255},{"$f":"Poblacion!BY65","v":146},{"$f":"Poblacion!BZ65","v":214},{"$f":"Poblacion!DP65","v":1668},{"$f":"Poblacion!DQ65","v":1720},{"$f":"Poblacion!DR65","v":604},{"$f":"Poblacion!DS65","v":653},{"$f":"Poblacion!DT65","v":4430},{"$f":"Poblacion!DU65","v":4795},{"$f":"Poblacion!DV65","v":1423},{"$f":"Poblacion!DW65","v":1511}]
[null,null,null,null,null,null,null,null,null,null,null,null,null,null,null,null,null,null,null,null,null,null,null,null,null,null,null,null,null,null,null,null,null,null,null,null,null,null,null,null,null,null,null,null,null,null,null,null,null,null,null,null,null,60,"DISTRITO OYON",{"$f":"Poblacion!F66","v":11592},{"$f":"+SUM(Poblacion!K66,Poblacion!M66,Poblacion!O66,Poblacion!Q66,Poblacion!S66)","v":255},{"$f":"+SUM(Poblacion!L66,Poblacion!N66,Poblacion!P66,Poblacion!R66,Poblacion!T66)","v":282},{"$f":"SUM(Poblacion!U66,Poblacion!W66,Poblacion!Y66,Poblacion!AA66,Poblacion!AC66)","v":472},{"$f":"SUM(Poblacion!V66,Poblacion!X66,Poblacion!Z66,Poblacion!AB66,Poblacion!AD66)","v":471},{"$f":"+SUM(Poblacion!AE66,Poblacion!AG66,Poblacion!AI66,Poblacion!AK66,Poblacion!AM66)","v":529},{"$f":"+SUM(Poblacion!AF66,Poblacion!AH66,Poblacion!AJ66,Poblacion!AL66,Poblacion!AN66)","v":517},{"$f":"+SUM(Poblacion!AO66,Poblacion!AQ66,Poblacion!AS66,Poblacion!AU66,Poblacion!AW66)","v":553},{"$f":"+SUM(Poblacion!AP66,Poblacion!AR66,Poblacion!AT66,Poblacion!AV66,Poblacion!AX66)","v":558},{"$f":"Poblacion!AY66","v":402},{"$f":"Poblacion!AZ66","v":442},{"$f":"Poblacion!BA66","v":404},{"$f":"Poblacion!BB66","v":488},{"$f":"Poblacion!BC66","v":373},{"$f":"Poblacion!BD66","v":482},{"$f":"Poblacion!BE66","v":405},{"$f":"Poblacion!BF66","v":421},{"$f":"Poblacion!BG66","v":358},{"$f":"Poblacion!BH66","v":335},{"$f":"Poblacion!BI66","v":359},{"$f":"Poblacion!BJ66","v":348},{"$f":"Poblacion!BK66","v":347},{"$f":"Poblacion!BL66","v":377},{"$f":"Poblacion!BM66","v":288},{"$f":"Poblacion!BN66","v":290},{"$f":"Poblacion!BO66","v":260},{"$f":"Poblacion!BP66","v":245},{"$f":"Poblacion!BQ66","v":198},{"$f":"Poblacion!BR66","v":199},{"$f":"Poblacion!BS66","v":171},{"$f":"Poblacion!BT66","v":168},{"$f":"Poblacion!BU66","v":112},{"$f":"Poblacion!BV66","v":136},{"$f":"Poblacion!BY66","v":55},{"$f":"Poblacion!BZ66","v":114},{"$f":"Poblacion!DP66","v":1156},{"$f":"Poblacion!DQ66","v":1171},{"$f":"Poblacion!DR66","v":465},{"$f":"Poblacion!DS66","v":472},{"$f":"Poblacion!DT66","v":3124},{"$f":"Poblacion!DU66","v":3368},{"$f":"Poblacion!DV66","v":796},{"$f":"Poblacion!DW66","v":862}]
[null,null,null,null,null,null,null,null,null,null,null,null,null,null,null,null,null,null,null,null,null,null,null,null,null,null,null,null,null,null,null,null,null,null,null,null,null,null,null,null,null,null,null,null,null,null,null,null,null,null,null,null,"05",61,"P.S. RAPAZ",{"$f":"Poblacion!F67","v":745},{"$f":"+SUM(Poblacion!K67,Poblacion!M67,Poblacion!O67,Poblacion!Q67,Poblacion!S67)","v":16},{"$f":"+SUM(Poblacion!L67,Poblacion!N67,Poblacion!P67,Poblacion!R67,Poblacion!T67)","v":17},{"$f":"SUM(Poblacion!U67,Poblacion!W67,Poblacion!Y67,Poblacion!AA67,Poblacion!AC67)","v":32},{"$f":"SUM(Poblacion!V67,Poblacion!X67,Poblacion!Z67,Poblacion!AB67,Poblacion!AD67)","v":30},{"$f":"+SUM(Poblacion!AE67,Poblacion!AG67,Poblacion!AI67,Poblacion!AK67,Poblacion!AM67)","v":34},{"$f":"+SUM(Poblacion!AF67,Poblacion!AH67,Poblacion!AJ67,Poblacion!AL67,Poblacion!AN67)","v":32},{"$f":"+SUM(Poblacion!AO67,Poblacion!AQ67,Poblacion!AS67,Poblacion!AU67,Poblacion!AW67)","v":34},{"$f":"+SUM(Poblacion!AP67,Poblacion!AR67,Poblacion!AT67,Poblacion!AV67,Poblacion!AX67)","v":36},{"$f":"Poblacion!AY67","v":25},{"$f":"Poblacion!AZ67","v":29},{"$f":"Poblacion!BA67","v":26},{"$f":"Poblacion!BB67","v":32},{"$f":"Poblacion!BC67","v":25},{"$f":"Poblacion!BD67","v":31},{"$f":"Poblacion!BE67","v":26},{"$f":"Poblacion!BF67","v":27},{"$f":"Poblacion!BG67","v":23},{"$f":"Poblacion!BH67","v":22},{"$f":"Poblacion!BI67","v":23},{"$f":"Poblacion!BJ67","v":23},{"$f":"Poblacion!BK67","v":23},{"$f":"Poblacion!BL67","v":25},{"$f":"Poblacion!BM67","v":18},{"$f":"Poblacion!BN67","v":18},{"$f":"Poblacion!BO67","v":17},{"$f":"Poblacion!BP67","v":17},{"$f":"Poblacion!BQ67","v":12},{"$f":"Poblacion!BR67","v":12},{"$f":"Poblacion!BS67","v":11},{"$f":"Poblacion!BT67","v":11},{"$f":"Poblacion!BU67","v":7},{"$f":"Poblacion!BV67","v":9},{"$f":"Poblacion!BY67","v":4},{"$f":"Poblacion!BZ67","v":7},{"$f":"Poblacion!DP67","v":75},{"$f":"Poblacion!DQ67","v":73},{"$f":"Poblacion!DR67","v":29},{"$f":"Poblacion!DS67","v":30},{"$f":"Poblacion!DT67","v":201},{"$f":"Poblacion!DU67","v":219},{"$f":"Poblacion!DV67","v":51},{"$f":"Poblacion!DW67","v":56}]
[null,null,null,null,null,null,null,null,null,null,null,null,null,null,null,null,null,null,null,null,null,null,null,null,null,null,null,null,null,null,null,null,null,null,null,null,null,null,null,null,null,null,null,null,null,null,null,null,null,null,null,null,"05",62,"C.S. OYON",{"$f":"Poblacion!F68","v":9712},{"$f":"+SUM(Poblacion!K68,Poblacion!M68,Poblacion!O68,Poblacion!Q68,Poblacion!S68)","v":215},{"$f":"+SUM(Poblacion!L68,Poblacion!N68,Poblacion!P68,Poblacion!R68,Poblacion!T68)","v":237},{"$f":"SUM(Poblacion!U68,Poblacion!W68,Poblacion!Y68,Poblacion!AA68,Poblacion!AC68)","v":394},{"$f":"SUM(Poblacion!V68,Poblacion!X68,Poblacion!Z68,Poblacion!AB68,Poblacion!AD68)","v":394},{"$f":"+SUM(Poblacion!AE68,Poblacion!AG68,Poblacion!AI68,Poblacion!AK68,Poblacion!AM68)","v":443},{"$f":"+SUM(Poblacion!AF68,Poblacion!AH68,Poblacion!AJ68,Poblacion!AL68,Poblacion!AN68)","v":434},{"$f":"+SUM(Poblacion!AO68,Poblacion!AQ68,Poblacion!AS68,Poblacion!AU68,Poblacion!AW68)","v":463},{"$f":"+SUM(Poblacion!AP68,Poblacion!AR68,Poblacion!AT68,Poblacion!AV68,Poblacion!AX68)","v":468},{"$f":"Poblacion!AY68","v":337},{"$f":"Poblacion!AZ68","v":369},{"$f":"Poblacion!BA68","v":338},{"$f":"Poblacion!BB68","v":409},{"$f":"Poblacion!BC68","v":312},{"$f":"Poblacion!BD68","v":404},{"$f":"Poblacion!BE68","v":339},{"$f":"Poblacion!BF68","v":353},{"$f":"Poblacion!BG68","v":300},{"$f":"Poblacion!BH68","v":281},{"$f":"Poblacion!BI68","v":301},{"$f":"Poblacion!BJ68","v":291},{"$f":"Poblacion!BK68","v":291},{"$f":"Poblacion!BL68","v":316},{"$f":"Poblacion!BM68","v":241},{"$f":"Poblacion!BN68","v":243},{"$f":"Poblacion!BO68","v":218},{"$f":"Poblacion!BP68","v":205},{"$f":"Poblacion!BQ68","v":166},{"$f":"Poblacion!BR68","v":167},{"$f":"Poblacion!BS68","v":143},{"$f":"Poblacion!BT68","v":142},{"$f":"Poblacion!BU68","v":95},{"$f":"Poblacion!BV68","v":113},{"$f":"Poblacion!BY68","v":46},{"$f":"Poblacion!BZ68","v":95},{"$f":"Poblacion!DP68","v":969},{"$f":"Poblacion!DQ68","v":982},{"$f":"Poblacion!DR68","v":389},{"$f":"Poblacion!DS68","v":396},{"$f":"Poblacion!DT68","v":2616},{"$f":"Poblacion!DU68","v":2821},{"$f":"Poblacion!DV68","v":668},{"$f":"Poblacion!DW68","v":722}]
[null,null,null,null,null,null,null,null,null,null,null,null,null,null,null,null,null,null,null,null,null,null,null,null,null,null,null,null,null,null,null,null,null,null,null,null,null,null,null,null,null,null,null,null,null,null,null,null,null,null,null,null,"05",63,"P.S. MALLAY",{"$f":"Poblacion!F69","v":574},{"$f":"+SUM(Poblacion!K69,Poblacion!M69,Poblacion!O69,Poblacion!Q69,Poblacion!S69)","v":12},{"$f":"+SUM(Poblacion!L69,Poblacion!N69,Poblacion!P69,Poblacion!R69,Poblacion!T69)","v":14},{"$f":"SUM(Poblacion!U69,Poblacion!W69,Poblacion!Y69,Poblacion!AA69,Poblacion!AC69)","v":23},{"$f":"SUM(Poblacion!V69,Poblacion!X69,Poblacion!Z69,Poblacion!AB69,Poblacion!AD69)","v":24},{"$f":"+SUM(Poblacion!AE69,Poblacion!AG69,Poblacion!AI69,Poblacion!AK69,Poblacion!AM69)","v":26},{"$f":"+SUM(Poblacion!AF69,Poblacion!AH69,Poblacion!AJ69,Poblacion!AL69,Poblacion!AN69)","v":26},{"$f":"+SUM(Poblacion!AO69,Poblacion!AQ69,Poblacion!AS69,Poblacion!AU69,Poblacion!AW69)","v":29},{"$f":"+SUM(Poblacion!AP69,Poblacion!AR69,Poblacion!AT69,Poblacion!AV69,Poblacion!AX69)","v":28},{"$f":"Poblacion!AY69","v":20},{"$f":"Poblacion!AZ69","v":22},{"$f":"Poblacion!BA69","v":20},{"$f":"Poblacion!BB69","v":24},{"$f":"Poblacion!BC69","v":18},{"$f":"Poblacion!BD69","v":24},{"$f":"Poblacion!BE69","v":20},{"$f":"Poblacion!BF69","v":21},{"$f":"Poblacion!BG69","v":18},{"$f":"Poblacion!BH69","v":16},{"$f":"Poblacion!BI69","v":18},{"$f":"Poblacion!BJ69","v":17},{"$f":"Poblacion!BK69","v":17},{"$f":"Poblacion!BL69","v":18},{"$f":"Poblacion!BM69","v":14},{"$f":"Poblacion!BN69","v":14},{"$f":"Poblacion!BO69","v":13},{"$f":"Poblacion!BP69","v":12},{"$f":"Poblacion!BQ69","v":10},{"$f":"Poblacion!BR69","v":10},{"$f":"Poblacion!BS69","v":8},{"$f":"Poblacion!BT69","v":8},{"$f":"Poblacion!BU69","v":5},{"$f":"Poblacion!BV69","v":7},{"$f":"Poblacion!BY69","v":3},{"$f":"Poblacion!BZ69","v":6},{"$f":"Poblacion!DP69","v":56},{"$f":"Poblacion!DQ69","v":59},{"$f":"Poblacion!DR69","v":24},{"$f":"Poblacion!DS69","v":23},{"$f":"Poblacion!DT69","v":155},{"$f":"Poblacion!DU69","v":166},{"$f":"Poblacion!DV69","v":39},{"$f":"Poblacion!DW69","v":43}]
[null,null,null,null,null,null,null,null,null,null,null,null,null,null,null,null,null,null,null,null,null,null,null,null,null,null,null,null,null,null,null,null,null,null,null,null,null,null,null,null,null,null,null,null,null,null,null,null,null,null,null,null,"05",64,"P.S. NAVA",{"$f":"Poblacion!F70","v":148},{"$f":"+SUM(Poblacion!K70,Poblacion!M70,Poblacion!O70,Poblacion!Q70,Poblacion!S70)","v":5},{"$f":"+SUM(Poblacion!L70,Poblacion!N70,Poblacion!P70,Poblacion!R70,Poblacion!T70)","v":5},{"$f":"SUM(Poblacion!U70,Poblacion!W70,Poblacion!Y70,Poblacion!AA70,Poblacion!AC70)","v":5},{"$f":"SUM(Poblacion!V70,Poblacion!X70,Poblacion!Z70,Poblacion!AB70,Poblacion!AD70)","v":5},{"$f":"+SUM(Poblacion!AE70,Poblacion!AG70,Poblacion!AI70,Poblacion!AK70,Poblacion!AM70)","v":6},{"$f":"+SUM(Poblacion!AF70,Poblacion!AH70,Poblacion!AJ70,Poblacion!AL70,Poblacion!AN70)","v":5},{"$f":"+SUM(Poblacion!AO70,Poblacion!AQ70,Poblacion!AS70,Poblacion!AU70,Poblacion!AW70)","v":7},{"$f":"+SUM(Poblacion!AP70,Poblacion!AR70,Poblacion!AT70,Poblacion!AV70,Poblacion!AX70)","v":7},{"$f":"Poblacion!AY70","v":5},{"$f":"Poblacion!AZ70","v":6},{"$f":"Poblacion!BA70","v":5},{"$f":"Poblacion!BB70","v":6},{"$f":"Poblacion!BC70","v":5},{"$f":"Poblacion!BD70","v":6},{"$f":"Poblacion!BE70","v":5},{"$f":"Poblacion!BF70","v":5},{"$f":"Poblacion!BG70","v":5},{"$f":"Poblacion!BH70","v":4},{"$f":"Poblacion!BI70","v":5},{"$f":"Poblacion!BJ70","v":5},{"$f":"Poblacion!BK70","v":4},{"$f":"Poblacion!BL70","v":5},{"$f":"Poblacion!BM70","v":4},{"$f":"Poblacion!BN70","v":4},{"$f":"Poblacion!BO70","v":3},{"$f":"Poblacion!BP70","v":3},{"$f":"Poblacion!BQ70","v":3},{"$f":"Poblacion!BR70","v":3},{"$f":"Poblacion!BS70","v":2},{"$f":"Poblacion!BT70","v":2},{"$f":"Poblacion!BU70","v":1},{"$f":"Poblacion!BV70","v":2},{"$f":"Poblacion!BY70","v":1},{"$f":"Poblacion!BZ70","v":2},{"$f":"Poblacion!DP70","v":15},{"$f":"Poblacion!DQ70","v":14},{"$f":"Poblacion!DR70","v":6},{"$f":"Poblacion!DS70","v":6},{"$f":"Poblacion!DT70","v":40},{"$f":"Poblacion!DU70","v":43},{"$f":"Poblacion!DV70","v":10},{"$f":"Poblacion!DW70","v":12}]
[null,null,null,null,null,null,null,null,null,null,null,null,null,null,null,null,null,null,null,null,null,null,null,null,null,null,null,null,null,null,null,null,null,null,null,null,null,null,null,null,null,null,null,null,null,null,null,null,null,null,null,null,"05",65,"P.S. TINTA",{"$f":"Poblacion!F71","v":309},{"$f":"+SUM(Poblacion!K71,Poblacion!M71,Poblacion!O71,Poblacion!Q71,Poblacion!S71)","v":6},{"$f":"+SUM(Poblacion!L71,Poblacion!N71,Poblacion!P71,Poblacion!R71,Poblacion!T71)","v":7},{"$f":"SUM(Poblacion!U71,Poblacion!W71,Poblacion!Y71,Poblacion!AA71,Poblacion!AC71)","v":13},{"$f":"SUM(Poblacion!V71,Poblacion!X71,Poblacion!Z71,Poblacion!AB71,Poblacion!AD71)","v":13},{"$f":"+SUM(Poblacion!AE71,Poblacion!AG71,Poblacion!AI71,Poblacion!AK71,Poblacion!AM71)","v":15},{"$f":"+SUM(Poblacion!AF71,Poblacion!AH71,Poblacion!AJ71,Poblacion!AL71,Poblacion!AN71)","v":15},{"$f":"+SUM(Poblacion!AO71,Poblacion!AQ71,Poblacion!AS71,Poblacion!AU71,Poblacion!AW71)","v":15},{"$f":"+SUM(Poblacion!AP71,Poblacion!AR71,Poblacion!AT71,Poblacion!AV71,Poblacion!AX71)","v":14},{"$f":"Poblacion!AY71","v":11},{"$f":"Poblacion!AZ71","v":12},{"$f":"Poblacion!BA71","v":11},{"$f":"Poblacion!BB71","v":13},{"$f":"Poblacion!BC71","v":10},{"$f":"Poblacion!BD71","v":13},{"$f":"Poblacion!BE71","v":11},{"$f":"Poblacion!BF71","v":11},{"$f":"Poblacion!BG71","v":9},{"$f":"Poblacion!BH71","v":9},{"$f":"Poblacion!BI71","v":9},{"$f":"Poblacion!BJ71","v":9},{"$f":"Poblacion!BK71","v":9},{"$f":"Poblacion!BL71","v":10},{"$f":"Poblacion!BM71","v":8},{"$f":"Poblacion!BN71","v":8},{"$f":"Poblacion!BO71","v":7},{"$f":"Poblacion!BP71","v":6},{"$f":"Poblacion!BQ71","v":5},{"$f":"Poblacion!BR71","v":5},{"$f":"Poblacion!BS71","v":5},{"$f":"Poblacion!BT71","v":4},{"$f":"Poblacion!BU71","v":3},{"$f":"Poblacion!BV71","v":4},{"$f":"Poblacion!BY71","v":1},{"$f":"Poblacion!BZ71","v":3},{"$f":"Poblacion!DP71","v":31},{"$f":"Poblacion!DQ71","v":32},{"$f":"Poblacion!DR71","v":13},{"$f":"Poblacion!DS71","v":13},{"$f":"Poblacion!DT71","v":83},{"$f":"Poblacion!DU71","v":89},{"$f":"Poblacion!DV71","v":21},{"$f":"Poblacion!DW71","v":22}]
[null,null,null,null,null,null,null,null,null,null,null,null,null,null,null,null,null,null,null,null,null,null,null,null,null,null,null,null,null,null,null,null,null,null,null,null,null,null,null,null,null,null,null,null,null,null,null,null,null,null,null,null,"05",66,"P.S. QUICHAZ",{"$f":"Poblacion!F72","v":104},{"$f":"+SUM(Poblacion!K72,Poblacion!M72,Poblacion!O72,Poblacion!Q72,Poblacion!S72)","v":1},{"$f":"+SUM(Poblacion!L72,Poblacion!N72,Poblacion!P72,Poblacion!R72,Poblacion!T72)","v":2},{"$f":"SUM(Poblacion!U72,Poblacion!W72,Poblacion!Y72,Poblacion!AA72,Poblacion!AC72)","v":5},{"$f":"SUM(Poblacion!V72,Poblacion!X72,Poblacion!Z72,Poblacion!AB72,Poblacion!AD72)","v":5},{"$f":"+SUM(Poblacion!AE72,Poblacion!AG72,Poblacion!AI72,Poblacion!AK72,Poblacion!AM72)","v":5},{"$f":"+SUM(Poblacion!AF72,Poblacion!AH72,Poblacion!AJ72,Poblacion!AL72,Poblacion!AN72)","v":5},{"$f":"+SUM(Poblacion!AO72,Poblacion!AQ72,Poblacion!AS72,Poblacion!AU72,Poblacion!AW72)","v":5},{"$f":"+SUM(Poblacion!AP72,Poblacion!AR72,Poblacion!AT72,Poblacion!AV72,Poblacion!AX72)","v":5},{"$f":"Poblacion!AY72","v":4},{"$f":"Poblacion!AZ72","v":4},{"$f":"Poblacion!BA72","v":4},{"$f":"Poblacion!BB72","v":4},{"$f":"Poblacion!BC72","v":3},{"$f":"Poblacion!BD72","v":4},{"$f":"Poblacion!BE72","v":4},{"$f":"Poblacion!BF72","v":4},{"$f":"Poblacion!BG72","v":3},{"$f":"Poblacion!BH72","v":3},{"$f":"Poblacion!BI72","v":3},{"$f":"Poblacion!BJ72","v":3},{"$f":"Poblacion!BK72","v":3},{"$f":"Poblacion!BL72","v":3},{"$f":"Poblacion!BM72","v":3},{"$f":"Poblacion!BN72","v":3},{"$f":"Poblacion!BO72","v":2},{"$f":"Poblacion!BP72","v":2},{"$f":"Poblacion!BQ72","v":2},{"$f":"Poblacion!BR72","v":2},{"$f":"Poblacion!BS72","v":2},{"$f":"Poblacion!BT72","v":1},{"$f":"Poblacion!BU72","v":1},{"$f":"Poblacion!BV72","v":1},{"$f":"Poblacion!BY72","v":0},{"$f":"Poblacion!BZ72","v":1},{"$f":"Poblacion!DP72","v":10},{"$f":"Poblacion!DQ72","v":11},{"$f":"Poblacion!DR72","v":4},{"$f":"Poblacion!DS72","v":4},{"$f":"Poblacion!DT72","v":29},{"$f":"Poblacion!DU72","v":30},{"$f":"Poblacion!DV72","v":7},{"$f":"Poblacion!DW72","v":7}]
[null,null,null,null,null,null,null,null,null,null,null,null,null,null,null,null,null,null,null,null,null,null,null,null,null,null,null,null,null,null,null,null,null,null,null,null,null,null,null,null,null,null,null,null,null,null,null,null,null,null,null,null,null,67,"DISTRITO ANDAJES",{"$f":"Poblacion!F73","v":473},{"$f":"+SUM(Poblacion!K73,Poblacion!M73,Poblacion!O73,Poblacion!Q73,Poblacion!S73)","v":13},{"$f":"+SUM(Poblacion!L73,Poblacion!N73,Poblacion!P73,Poblacion!R73,Poblacion!T73)","v":21},{"$f":"SUM(Poblacion!U73,Poblacion!W73,Poblacion!Y73,Poblacion!AA73,Poblacion!AC73)","v":10},{"$f":"SUM(Poblacion!V73,Poblacion!X73,Poblacion!Z73,Poblacion!AB73,Poblacion!AD73)","v":6},{"$f":"+SUM(Poblacion!AE73,Poblacion!AG73,Poblacion!AI73,Poblacion!AK73,Poblacion!AM73)","v":10},{"$f":"+SUM(Poblacion!AF73,Poblacion!AH73,Poblacion!AJ73,Poblacion!AL73,Poblacion!AN73)","v":12},{"$f":"+SUM(Poblacion!AO73,Poblacion!AQ73,Poblacion!AS73,Poblacion!AU73,Poblacion!AW73)","v":10},{"$f":"+SUM(Poblacion!AP73,Poblacion!AR73,Poblacion!AT73,Poblacion!AV73,Poblacion!AX73)","v":12},{"$f":"Poblacion!AY73","v":8},{"$f":"Poblacion!AZ73","v":4},{"$f":"Poblacion!BA73","v":6},{"$f":"Poblacion!BB73","v":6},{"$f":"Poblacion!BC73","v":6},{"$f":"Poblacion!BD73","v":4},{"$f":"Poblacion!BE73","v":9},{"$f":"Poblacion!BF73","v":8},{"$f":"Poblacion!BG73","v":12},{"$f":"Poblacion!BH73","v":6},{"$f":"Poblacion!BI73","v":7},{"$f":"Poblacion!BJ73","v":7},{"$f":"Poblacion!BK73","v":18},{"$f":"Poblacion!BL73","v":7},{"$f":"Poblacion!BM73","v":15},{"$f":"Poblacion!BN73","v":18},{"$f":"Poblacion!BO73","v":34},{"$f":"Poblacion!BP73","v":20},{"$f":"Poblacion!BQ73","v":11},{"$f":"Poblacion!BR73","v":18},{"$f":"Poblacion!BS73","v":16},{"$f":"Poblacion!BT73","v":19},{"$f":"Poblacion!BU73","v":16},{"$f":"Poblacion!BV73","v":22},{"$f":"Poblacion!BY73","v":23},{"$f":"Poblacion!BZ73","v":21},{"$f":"Poblacion!DP73","v":33},{"$f":"Poblacion!DQ73","v":38},{"$f":"Poblacion!DR73","v":8},{"$f":"Poblacion!DS73","v":11},{"$f":"Poblacion!DT73","v":83},{"$f":"Poblacion!DU73","v":62},{"$f":"Poblacion!DV73","v":100},{"$f":"Poblacion!DW73","v":100}]
[null,null,null,null,null,null,null,null,null,null,null,null,null,null,null,null,null,null,null,null,null,null,null,null,null,null,null,null,null,null,null,null,null,null,null,null,null,null,null,null,null,null,null,null,null,null,null,null,null,null,null,null,"05",68,"P.S. ANDAJES",{"$f":"Poblacion!F74","v":473},{"$f":"+SUM(Poblacion!K74,Poblacion!M74,Poblacion!O74,Poblacion!Q74,Poblacion!S74)","v":13},{"$f":"+SUM(Poblacion!L74,Poblacion!N74,Poblacion!P74,Poblacion!R74,Poblacion!T74)","v":21},{"$f":"SUM(Poblacion!U74,Poblacion!W74,Poblacion!Y74,Poblacion!AA74,Poblacion!AC74)","v":10},{"$f":"SUM(Poblacion!V74,Poblacion!X74,Poblacion!Z74,Poblacion!AB74,Poblacion!AD74)","v":6},{"$f":"+SUM(Poblacion!AE74,Poblacion!AG74,Poblacion!AI74,Poblacion!AK74,Poblacion!AM74)","v":10},{"$f":"+SUM(Poblacion!AF74,Poblacion!AH74,Poblacion!AJ74,Poblacion!AL74,Poblacion!AN74)","v":12},{"$f":"+SUM(Poblacion!AO74,Poblacion!AQ74,Poblacion!AS74,Poblacion!AU74,Poblacion!AW74)","v":10},{"$f":"+SUM(Poblacion!AP74,Poblacion!AR74,Poblacion!AT74,Poblacion!AV74,Poblacion!AX74)","v":12},{"$f":"Poblacion!AY74","v":8},{"$f":"Poblacion!AZ74","v":4},{"$f":"Poblacion!BA74","v":6},{"$f":"Poblacion!BB74","v":6},{"$f":"Poblacion!BC74","v":6},{"$f":"Poblacion!BD74","v":4},{"$f":"Poblacion!BE74","v":9},{"$f":"Poblacion!BF74","v":8},{"$f":"Poblacion!BG74","v":12},{"$f":"Poblacion!BH74","v":6},{"$f":"Poblacion!BI74","v":7},{"$f":"Poblacion!BJ74","v":7},{"$f":"Poblacion!BK74","v":18},{"$f":"Poblacion!BL74","v":7},{"$f":"Poblacion!BM74","v":15},{"$f":"Poblacion!BN74","v":18},{"$f":"Poblacion!BO74","v":34},{"$f":"Poblacion!BP74","v":20},{"$f":"Poblacion!BQ74","v":11},{"$f":"Poblacion!BR74","v":18},{"$f":"Poblacion!BS74","v":16},{"$f":"Poblacion!BT74","v":19},{"$f":"Poblacion!BU74","v":16},{"$f":"Poblacion!BV74","v":22},{"$f":"Poblacion!BY74","v":23},{"$f":"Poblacion!BZ74","v":21},{"$f":"Poblacion!DP74","v":33},{"$f":"Poblacion!DQ74","v":38},{"$f":"Poblacion!DR74","v":8},{"$f":"Poblacion!DS74","v":11},{"$f":"Poblacion!DT74","v":83},{"$f":"Poblacion!DU74","v":62},{"$f":"Poblacion!DV74","v":100},{"$f":"Poblacion!DW74","v":100}]
[null,null,null,null,null,null,null,null,null,null,null,null,null,null,null,null,null,null,null,null,null,null,null,null,null,null,null,null,null,null,null,null,null,null,null,null,null,null,null,null,null,null,null,null,null,null,null,null,null,null,null,null,null,69,"DISTRITO CAUJUL",{"$f":"Poblacion!F75","v":445},{"$f":"+SUM(Poblacion!K75,Poblacion!M75,Poblacion!O75,Poblacion!Q75,Poblacion!S75)","v":17},{"$f":"+SUM(Poblacion!L75,Poblacion!N75,Poblacion!P75,Poblacion!R75,Poblacion!T75)","v":22},{"$f":"SUM(Poblacion!U75,Poblacion!W75,Poblacion!Y75,Poblacion!AA75,Poblacion!AC75)","v":9},{"$f":"SUM(Poblacion!V75,Poblacion!X75,Poblacion!Z75,Poblacion!AB75,Poblacion!AD75)","v":11},{"$f":"+SUM(Poblacion!AE75,Poblacion!AG75,Poblacion!AI75,Poblacion!AK75,Poblacion!AM75)","v":8},{"$f":"+SUM(Poblacion!AF75,Poblacion!AH75,Poblacion!AJ75,Poblacion!AL75,Poblacion!AN75)","v":11},{"$f":"+SUM(Poblacion!AO75,Poblacion!AQ75,Poblacion!AS75,Poblacion!AU75,Poblacion!AW75)","v":13},{"$f":"+SUM(Poblacion!AP75,Poblacion!AR75,Poblacion!AT75,Poblacion!AV75,Poblacion!AX75)","v":15},{"$f":"Poblacion!AY75","v":12},{"$f":"Poblacion!AZ75","v":14},{"$f":"Poblacion!BA75","v":10},{"$f":"Poblacion!BB75","v":16},{"$f":"Poblacion!BC75","v":11},{"$f":"Poblacion!BD75","v":11},{"$f":"Poblacion!BE75","v":11},{"$f":"Poblacion!BF75","v":15},{"$f":"Poblacion!BG75","v":10},{"$f":"Poblacion!BH75","v":11},{"$f":"Poblacion!BI75","v":20},{"$f":"Poblacion!BJ75","v":10},{"$f":"Poblacion!BK75","v":9},{"$f":"Poblacion!BL75","v":14},{"$f":"Poblacion!BM75","v":14},{"$f":"Poblacion!BN75","v":17},{"$f":"Poblacion!BO75","v":16},{"$f":"Poblacion!BP75","v":13},{"$f":"Poblacion!BQ75","v":18},{"$f":"Poblacion!BR75","v":9},{"$f":"Poblacion!BS75","v":12},{"$f":"Poblacion!BT75","v":7},{"$f":"Poblacion!BU75","v":8},{"$f":"Poblacion!BV75","v":10},{"$f":"Poblacion!BY75","v":12},{"$f":"Poblacion!BZ75","v":12},{"$f":"Poblacion!DP75","v":33},{"$f":"Poblacion!DQ75","v":41},{"$f":"Poblacion!DR75","v":10},{"$f":"Poblacion!DS75","v":12},{"$f":"Poblacion!DT75","v":101},{"$f":"Poblacion!DU75","v":114},{"$f":"Poblacion!DV75","v":66},{"$f":"Poblacion!DW75","v":51}]
[null,null,null,null,null,null,null,null,null,null,null,null,null,null,null,null,null,null,null,null,null,null,null,null,null,null,null,null,null,null,null,null,null,null,null,null,null,null,null,null,null,null,null,null,null,null,null,null,null,null,null,null,"05",70,"P.S. CAUJUL",{"$f":"Poblacion!F76","v":445},{"$f":"+SUM(Poblacion!K76,Poblacion!M76,Poblacion!O76,Poblacion!Q76,Poblacion!S76)","v":17},{"$f":"+SUM(Poblacion!L76,Poblacion!N76,Poblacion!P76,Poblacion!R76,Poblacion!T76)","v":22},{"$f":"SUM(Poblacion!U76,Poblacion!W76,Poblacion!Y76,Poblacion!AA76,Poblacion!AC76)","v":9},{"$f":"SUM(Poblacion!V76,Poblacion!X76,Poblacion!Z76,Poblacion!AB76,Poblacion!AD76)","v":11},{"$f":"+SUM(Poblacion!AE76,Poblacion!AG76,Poblacion!AI76,Poblacion!AK76,Poblacion!AM76)","v":8},{"$f":"+SUM(Poblacion!AF76,Poblacion!AH76,Poblacion!AJ76,Poblacion!AL76,Poblacion!AN76)","v":11},{"$f":"+SUM(Poblacion!AO76,Poblacion!AQ76,Poblacion!AS76,Poblacion!AU76,Poblacion!AW76)","v":13},{"$f":"+SUM(Poblacion!AP76,Poblacion!AR76,Poblacion!AT76,Poblacion!AV76,Poblacion!AX76)","v":15},{"$f":"Poblacion!AY76","v":12},{"$f":"Poblacion!AZ76","v":14},{"$f":"Poblacion!BA76","v":10},{"$f":"Poblacion!BB76","v":16},{"$f":"Poblacion!BC76","v":11},{"$f":"Poblacion!BD76","v":11},{"$f":"Poblacion!BE76","v":11},{"$f":"Poblacion!BF76","v":15},{"$f":"Poblacion!BG76","v":10},{"$f":"Poblacion!BH76","v":11},{"$f":"Poblacion!BI76","v":20},{"$f":"Poblacion!BJ76","v":10},{"$f":"Poblacion!BK76","v":9},{"$f":"Poblacion!BL76","v":14},{"$f":"Poblacion!BM76","v":14},{"$f":"Poblacion!BN76","v":17},{"$f":"Poblacion!BO76","v":16},{"$f":"Poblacion!BP76","v":13},{"$f":"Poblacion!BQ76","v":18},{"$f":"Poblacion!BR76","v":9},{"$f":"Poblacion!BS76","v":12},{"$f":"Poblacion!BT76","v":7},{"$f":"Poblacion!BU76","v":8},{"$f":"Poblacion!BV76","v":10},{"$f":"Poblacion!BY76","v":12},{"$f":"Poblacion!BZ76","v":12},{"$f":"Poblacion!DP76","v":33},{"$f":"Poblacion!DQ76","v":41},{"$f":"Poblacion!DR76","v":10},{"$f":"Poblacion!DS76","v":12},{"$f":"Poblacion!DT76","v":101},{"$f":"Poblacion!DU76","v":114},{"$f":"Poblacion!DV76","v":66},{"$f":"Poblacion!DW76","v":51}]
[null,null,null,null,null,null,null,null,null,null,null,null,null,null,null,null,null,null,null,null,null,null,null,null,null,null,null,null,null,null,null,null,null,null,null,null,null,null,null,null,null,null,null,null,null,null,null,null,null,null,null,null,null,71,"DISTRITO COCHAMARCA",{"$f":"Poblacion!F77","v":1191},{"$f":"+SUM(Poblacion!K77,Poblacion!M77,Poblacion!O77,Poblacion!Q77,Poblacion!S77)","v":50},{"$f":"+SUM(Poblacion!L77,Poblacion!N77,Poblacion!P77,Poblacion!R77,Poblacion!T77)","v":60},{"$f":"SUM(Poblacion!U77,Poblacion!W77,Poblacion!Y77,Poblacion!AA77,Poblacion!AC77)","v":29},{"$f":"SUM(Poblacion!V77,Poblacion!X77,Poblacion!Z77,Poblacion!AB77,Poblacion!AD77)","v":38},{"$f":"+SUM(Poblacion!AE77,Poblacion!AG77,Poblacion!AI77,Poblacion!AK77,Poblacion!AM77)","v":33},{"$f":"+SUM(Poblacion!AF77,Poblacion!AH77,Poblacion!AJ77,Poblacion!AL77,Poblacion!AN77)","v":55},{"$f":"+SUM(Poblacion!AO77,Poblacion!AQ77,Poblacion!AS77,Poblacion!AU77,Poblacion!AW77)","v":68},{"$f":"+SUM(Poblacion!AP77,Poblacion!AR77,Poblacion!AT77,Poblacion!AV77,Poblacion!AX77)","v":69},{"$f":"Poblacion!AY77","v":50},{"$f":"Poblacion!AZ77","v":56},{"$f":"Poblacion!BA77","v":37},{"$f":"Poblacion!BB77","v":51},{"$f":"Poblacion!BC77","v":35},{"$f":"Poblacion!BD77","v":35},{"$f":"Poblacion!BE77","v":28},{"$f":"Poblacion!BF77","v":33},{"$f":"Poblacion!BG77","v":24},{"$f":"Poblacion!BH77","v":25},{"$f":"Poblacion!BI77","v":38},{"$f":"Poblacion!BJ77","v":44},{"$f":"Poblacion!BK77","v":30},{"$f":"Poblacion!BL77","v":35},{"$f":"Poblacion!BM77","v":38},{"$f":"Poblacion!BN77","v":27},{"$f":"Poblacion!BO77","v":23},{"$f":"Poblacion!BP77","v":26},{"$f":"Poblacion!BQ77","v":14},{"$f":"Poblacion!BR77","v":16},{"$f":"Poblacion!BS77","v":19},{"$f":"Poblacion!BT77","v":27},{"$f":"Poblacion!BU77","v":9},{"$f":"Poblacion!BV77","v":16},{"$f":"Poblacion!BY77","v":14},{"$f":"Poblacion!BZ77","v":18},{"$f":"Poblacion!DP77","v":104},{"$f":"Poblacion!DQ77","v":140},{"$f":"Poblacion!DR77","v":46},{"$f":"Poblacion!DS77","v":54},{"$f":"Poblacion!DT77","v":310},{"$f":"Poblacion!DU77","v":334},{"$f":"Poblacion!DV77","v":79},{"$f":"Poblacion!DW77","v":103}]
[null,null,null,null,null,null,null,null,null,null,null,null,null,null,null,null,null,null,null,null,null,null,null,null,null,null,null,null,null,null,null,null,null,null,null,null,null,null,null,null,null,null,null,null,null,null,null,null,null,null,null,null,"03",72,"P.S. COCHAMARCA",{"$f":"Poblacion!F78","v":507},{"$f":"+SUM(Poblacion!K78,Poblacion!M78,Poblacion!O78,Poblacion!Q78,Poblacion!S78)","v":20},{"$f":"+SUM(Poblacion!L78,Poblacion!N78,Poblacion!P78,Poblacion!R78,Poblacion!T78)","v":26},{"$f":"SUM(Poblacion!U78,Poblacion!W78,Poblacion!Y78,Poblacion!AA78,Poblacion!AC78)","v":13},{"$f":"SUM(Poblacion!V78,Poblacion!X78,Poblacion!Z78,Poblacion!AB78,Poblacion!AD78)","v":16},{"$f":"+SUM(Poblacion!AE78,Poblacion!AG78,Poblacion!AI78,Poblacion!AK78,Poblacion!AM78)","v":13},{"$f":"+SUM(Poblacion!AF78,Poblacion!AH78,Poblacion!AJ78,Poblacion!AL78,Poblacion!AN78)","v":23},{"$f":"+SUM(Poblacion!AO78,Poblacion!AQ78,Poblacion!AS78,Poblacion!AU78,Poblacion!AW78)","v":30},{"$f":"+SUM(Poblacion!AP78,Poblacion!AR78,Poblacion!AT78,Poblacion!AV78,Poblacion!AX78)","v":29},{"$f":"Poblacion!AY78","v":21},{"$f":"Poblacion!AZ78","v":24},{"$f":"Poblacion!BA78","v":16},{"$f":"Poblacion!BB78","v":22},{"$f":"Poblacion!BC78","v":15},{"$f":"Poblacion!BD78","v":15},{"$f":"Poblacion!BE78","v":12},{"$f":"Poblacion!BF78","v":14},{"$f":"Poblacion!BG78","v":10},{"$f":"Poblacion!BH78","v":11},{"$f":"Poblacion!BI78","v":16},{"$f":"Poblacion!BJ78","v":19},{"$f":"Poblacion!BK78","v":13},{"$f":"Poblacion!BL78","v":15},{"$f":"Poblacion!BM78","v":16},{"$f":"Poblacion!BN78","v":11},{"$f":"Poblacion!BO78","v":10},{"$f":"Poblacion!BP78","v":11},{"$f":"Poblacion!BQ78","v":6},{"$f":"Poblacion!BR78","v":7},{"$f":"Poblacion!BS78","v":8},{"$f":"Poblacion!BT78","v":11},{"$f":"Poblacion!BU78","v":4},{"$f":"Poblacion!BV78","v":7},{"$f":"Poblacion!BY78","v":6},{"$f":"Poblacion!BZ78","v":8},{"$f":"Poblacion!DP78","v":43},{"$f":"Poblacion!DQ78","v":59},{"$f":"Poblacion!DR78","v":20},{"$f":"Poblacion!DS78","v":23},{"$f":"Poblacion!DT78","v":132},{"$f":"Poblacion!DU78","v":143},{"$f":"Poblacion!DV78","v":34},{"$f":"Poblacion!DW78","v":44}]
[null,null,null,null,null,null,null,null,null,null,null,null,null,null,null,null,null,null,null,null,null,null,null,null,null,null,null,null,null,null,null,null,null,null,null,null,null,null,null,null,null,null,null,null,null,null,null,null,null,null,null,null,"03",73,"P.S. COLCAPAMPA",{"$f":"Poblacion!F79","v":570},{"$f":"+SUM(Poblacion!K79,Poblacion!M79,Poblacion!O79,Poblacion!Q79,Poblacion!S79)","v":24},{"$f":"+SUM(Poblacion!L79,Poblacion!N79,Poblacion!P79,Poblacion!R79,Poblacion!T79)","v":29},{"$f":"SUM(Poblacion!U79,Poblacion!W79,Poblacion!Y79,Poblacion!AA79,Poblacion!AC79)","v":14},{"$f":"SUM(Poblacion!V79,Poblacion!X79,Poblacion!Z79,Poblacion!AB79,Poblacion!AD79)","v":17},{"$f":"+SUM(Poblacion!AE79,Poblacion!AG79,Poblacion!AI79,Poblacion!AK79,Poblacion!AM79)","v":15},{"$f":"+SUM(Poblacion!AF79,Poblacion!AH79,Poblacion!AJ79,Poblacion!AL79,Poblacion!AN79)","v":27},{"$f":"+SUM(Poblacion!AO79,Poblacion!AQ79,Poblacion!AS79,Poblacion!AU79,Poblacion!AW79)","v":32},{"$f":"+SUM(Poblacion!AP79,Poblacion!AR79,Poblacion!AT79,Poblacion!AV79,Poblacion!AX79)","v":34},{"$f":"Poblacion!AY79","v":24},{"$f":"Poblacion!AZ79","v":27},{"$f":"Poblacion!BA79","v":18},{"$f":"Poblacion!BB79","v":24},{"$f":"Poblacion!BC79","v":17},{"$f":"Poblacion!BD79","v":17},{"$f":"Poblacion!BE79","v":13},{"$f":"Poblacion!BF79","v":16},{"$f":"Poblacion!BG79","v":12},{"$f":"Poblacion!BH79","v":12},{"$f":"Poblacion!BI79","v":18},{"$f":"Poblacion!BJ79","v":21},{"$f":"Poblacion!BK79","v":14},{"$f":"Poblacion!BL79","v":17},{"$f":"Poblacion!BM79","v":18},{"$f":"Poblacion!BN79","v":13},{"$f":"Poblacion!BO79","v":11},{"$f":"Poblacion!BP79","v":13},{"$f":"Poblacion!BQ79","v":7},{"$f":"Poblacion!BR79","v":8},{"$f":"Poblacion!BS79","v":9},{"$f":"Poblacion!BT79","v":13},{"$f":"Poblacion!BU79","v":4},{"$f":"Poblacion!BV79","v":8},{"$f":"Poblacion!BY79","v":7},{"$f":"Poblacion!BZ79","v":7},{"$f":"Poblacion!DP79","v":49},{"$f":"Poblacion!DQ79","v":67},{"$f":"Poblacion!DR79","v":22},{"$f":"Poblacion!DS79","v":26},{"$f":"Poblacion!DT79","v":148},{"$f":"Poblacion!DU79","v":161},{"$f":"Poblacion!DV79","v":38},{"$f":"Poblacion!DW79","v":49}]
[null,null,null,null,null,null,null,null,null,null,null,null,null,null,null,null,null,null,null,null,null,null,null,null,null,null,null,null,null,null,null,null,null,null,null,null,null,null,null,null,null,null,null,null,null,null,null,null,null,null,null,null,"03",74,"P.S. YARUCAYA",{"$f":"Poblacion!F80","v":114},{"$f":"+SUM(Poblacion!K80,Poblacion!M80,Poblacion!O80,Poblacion!Q80,Poblacion!S80)","v":6},{"$f":"+SUM(Poblacion!L80,Poblacion!N80,Poblacion!P80,Poblacion!R80,Poblacion!T80)","v":5},{"$f":"SUM(Poblacion!U80,Poblacion!W80,Poblacion!Y80,Poblacion!AA80,Poblacion!AC80)","v":2},{"$f":"SUM(Poblacion!V80,Poblacion!X80,Poblacion!Z80,Poblacion!AB80,Poblacion!AD80)","v":5},{"$f":"+SUM(Poblacion!AE80,Poblacion!AG80,Poblacion!AI80,Poblacion!AK80,Poblacion!AM80)","v":5},{"$f":"+SUM(Poblacion!AF80,Poblacion!AH80,Poblacion!AJ80,Poblacion!AL80,Poblacion!AN80)","v":5},{"$f":"+SUM(Poblacion!AO80,Poblacion!AQ80,Poblacion!AS80,Poblacion!AU80,Poblacion!AW80)","v":6},{"$f":"+SUM(Poblacion!AP80,Poblacion!AR80,Poblacion!AT80,Poblacion!AV80,Poblacion!AX80)","v":6},{"$f":"Poblacion!AY80","v":5},{"$f":"Poblacion!AZ80","v":5},{"$f":"Poblacion!BA80","v":3},{"$f":"Poblacion!BB80","v":5},{"$f":"Poblacion!BC80","v":3},{"$f":"Poblacion!BD80","v":3},{"$f":"Poblacion!BE80","v":3},{"$f":"Poblacion!BF80","v":3},{"$f":"Poblacion!BG80","v":2},{"$f":"Poblacion!BH80","v":2},{"$f":"Poblacion!BI80","v":4},{"$f":"Poblacion!BJ80","v":4},{"$f":"Poblacion!BK80","v":3},{"$f":"Poblacion!BL80","v":3},{"$f":"Poblacion!BM80","v":4},{"$f":"Poblacion!BN80","v":3},{"$f":"Poblacion!BO80","v":2},{"$f":"Poblacion!BP80","v":2},{"$f":"Poblacion!BQ80","v":1},{"$f":"Poblacion!BR80","v":1},{"$f":"Poblacion!BS80","v":2},{"$f":"Poblacion!BT80","v":3},{"$f":"Poblacion!BU80","v":1},{"$f":"Poblacion!BV80","v":1},{"$f":"Poblacion!BY80","v":1},{"$f":"Poblacion!BZ80","v":3},{"$f":"Poblacion!DP80","v":12},{"$f":"Poblacion!DQ80","v":14},{"$f":"Poblacion!DR80","v":4},{"$f":"Poblacion!DS80","v":5},{"$f":"Poblacion!DT80","v":30},{"$f":"Poblacion!DU80","v":30},{"$f":"Poblacion!DV80","v":7},{"$f":"Poblacion!DW80","v":10}]
[null,null,null,null,null,null,null,null,null,null,null,null,null,null,null,null,null,null,null,null,null,null,null,null,null,null,null,null,null,null,null,null,null,null,null,null,null,null,null,null,null,null,null,null,null,null,null,null,null,null,null,null,null,75,"DISTRITO NAVAN",{"$f":"Poblacion!F81","v":814},{"$f":"+SUM(Poblacion!K81,Poblacion!M81,Poblacion!O81,Poblacion!Q81,Poblacion!S81)","v":25},{"$f":"+SUM(Poblacion!L81,Poblacion!N81,Poblacion!P81,Poblacion!R81,Poblacion!T81)","v":29},{"$f":"SUM(Poblacion!U81,Poblacion!W81,Poblacion!Y81,Poblacion!AA81,Poblacion!AC81)","v":20},{"$f":"SUM(Poblacion!V81,Poblacion!X81,Poblacion!Z81,Poblacion!AB81,Poblacion!AD81)","v":14},{"$f":"+SUM(Poblacion!AE81,Poblacion!AG81,Poblacion!AI81,Poblacion!AK81,Poblacion!AM81)","v":22},{"$f":"+SUM(Poblacion!AF81,Poblacion!AH81,Poblacion!AJ81,Poblacion!AL81,Poblacion!AN81)","v":25},{"$f":"+SUM(Poblacion!AO81,Poblacion!AQ81,Poblacion!AS81,Poblacion!AU81,Poblacion!AW81)","v":23},{"$f":"+SUM(Poblacion!AP81,Poblacion!AR81,Poblacion!AT81,Poblacion!AV81,Poblacion!AX81)","v":38},{"$f":"Poblacion!AY81","v":20},{"$f":"Poblacion!AZ81","v":20},{"$f":"Poblacion!BA81","v":13},{"$f":"Poblacion!BB81","v":19},{"$f":"Poblacion!BC81","v":12},{"$f":"Poblacion!BD81","v":26},{"$f":"Poblacion!BE81","v":31},{"$f":"Poblacion!BF81","v":25},{"$f":"Poblacion!BG81","v":20},{"$f":"Poblacion!BH81","v":23},{"$f":"Poblacion!BI81","v":29},{"$f":"Poblacion!BJ81","v":29},{"$f":"Poblacion!BK81","v":39},{"$f":"Poblacion!BL81","v":26},{"$f":"Poblacion!BM81","v":28},{"$f":"Poblacion!BN81","v":32},{"$f":"Poblacion!BO81","v":32},{"$f":"Poblacion!BP81","v":25},{"$f":"Poblacion!BQ81","v":23},{"$f":"Poblacion!BR81","v":21},{"$f":"Poblacion!BS81","v":19},{"$f":"Poblacion!BT81","v":23},{"$f":"Poblacion!BU81","v":14},{"$f":"Poblacion!BV81","v":17},{"$f":"Poblacion!BY81","v":15},{"$f":"Poblacion!BZ81","v":18},{"$f":"Poblacion!DP81","v":65},{"$f":"Poblacion!DQ81","v":65},{"$f":"Poblacion!DR81","v":13},{"$f":"Poblacion!DS81","v":30},{"$f":"Poblacion!DT81","v":204},{"$f":"Poblacion!DU81","v":211},{"$f":"Poblacion!DV81","v":103},{"$f":"Poblacion!DW81","v":104}]
[null,null,null,null,null,null,null,null,null,null,null,null,null,null,null,null,null,null,null,null,null,null,null,null,null,null,null,null,null,null,null,null,null,null,null,null,null,null,null,null,null,null,null,null,null,null,null,null,null,null,null,null,"05",76,"P.S. NAVAN",{"$f":"Poblacion!F82","v":814},{"$f":"+SUM(Poblacion!K82,Poblacion!M82,Poblacion!O82,Poblacion!Q82,Poblacion!S82)","v":25},{"$f":"+SUM(Poblacion!L82,Poblacion!N82,Poblacion!P82,Poblacion!R82,Poblacion!T82)","v":29},{"$f":"SUM(Poblacion!U82,Poblacion!W82,Poblacion!Y82,Poblacion!AA82,Poblacion!AC82)","v":20},{"$f":"SUM(Poblacion!V82,Poblacion!X82,Poblacion!Z82,Poblacion!AB82,Poblacion!AD82)","v":14},{"$f":"+SUM(Poblacion!AE82,Poblacion!AG82,Poblacion!AI82,Poblacion!AK82,Poblacion!AM82)","v":22},{"$f":"+SUM(Poblacion!AF82,Poblacion!AH82,Poblacion!AJ82,Poblacion!AL82,Poblacion!AN82)","v":25},{"$f":"+SUM(Poblacion!AO82,Poblacion!AQ82,Poblacion!AS82,Poblacion!AU82,Poblacion!AW82)","v":23},{"$f":"+SUM(Poblacion!AP82,Poblacion!AR82,Poblacion!AT82,Poblacion!AV82,Poblacion!AX82)","v":38},{"$f":"Poblacion!AY82","v":20},{"$f":"Poblacion!AZ82","v":20},{"$f":"Poblacion!BA82","v":13},{"$f":"Poblacion!BB82","v":19},{"$f":"Poblacion!BC82","v":12},{"$f":"Poblacion!BD82","v":26},{"$f":"Poblacion!BE82","v":31},{"$f":"Poblacion!BF82","v":25},{"$f":"Poblacion!BG82","v":20},{"$f":"Poblacion!BH82","v":23},{"$f":"Poblacion!BI82","v":29},{"$f":"Poblacion!BJ82","v":29},{"$f":"Poblacion!BK82","v":39},{"$f":"Poblacion!BL82","v":26},{"$f":"Poblacion!BM82","v":28},{"$f":"Poblacion!BN82","v":32},{"$f":"Poblacion!BO82","v":32},{"$f":"Poblacion!BP82","v":25},{"$f":"Poblacion!BQ82","v":23},{"$f":"Poblacion!BR82","v":21},{"$f":"Poblacion!BS82","v":19},{"$f":"Poblacion!BT82","v":23},{"$f":"Poblacion!BU82","v":14},{"$f":"Poblacion!BV82","v":17},{"$f":"Poblacion!BY82","v":15},{"$f":"Poblacion!BZ82","v":18},{"$f":"Poblacion!DP82","v":65},{"$f":"Poblacion!DQ82","v":65},{"$f":"Poblacion!DR82","v":13},{"$f":"Poblacion!DS82","v":30},{"$f":"Poblacion!DT82","v":204},{"$f":"Poblacion!DU82","v":211},{"$f":"Poblacion!DV82","v":103},{"$f":"Poblacion!DW82","v":104}]
[null,null,null,null,null,null,null,null,null,null,null,null,null,null,null,null,null,null,null,null,null,null,null,null,null,null,null,null,null,null,null,null,null,null,null,null,null,null,null,null,null,null,null,null,null,null,null,null,null,null,null,null,null,77,"DISTRITO PACHANGARA",{"$f":"Poblacion!F83","v":2622},{"$f":"+SUM(Poblacion!K83,Poblacion!M83,Poblacion!O83,Poblacion!Q83,Poblacion!S83)","v":138},{"$f":"+SUM(Poblacion!L83,Poblacion!N83,Poblacion!P83,Poblacion!R83,Poblacion!T83)","v":128},{"$f":"SUM(Poblacion!U83,Poblacion!W83,Poblacion!Y83,Poblacion!AA83,Poblacion!AC83)","v":80},{"$f":"SUM(Poblacion!V83,Poblacion!X83,Poblacion!Z83,Poblacion!AB83,Poblacion!AD83)","v":73},{"$f":"+SUM(Poblacion!AE83,Poblacion!AG83,Poblacion!AI83,Poblacion!AK83,Poblacion!AM83)","v":71},{"$f":"+SUM(Poblacion!AF83,Poblacion!AH83,Poblacion!AJ83,Poblacion!AL83,Poblacion!AN83)","v":77},{"$f":"+SUM(Poblacion!AO83,Poblacion!AQ83,Poblacion!AS83,Poblacion!AU83,Poblacion!AW83)","v":84},{"$f":"+SUM(Poblacion!AP83,Poblacion!AR83,Poblacion!AT83,Poblacion!AV83,Poblacion!AX83)","v":90},{"$f":"Poblacion!AY83","v":68},{"$f":"Poblacion!AZ83","v":70},{"$f":"Poblacion!BA83","v":68},{"$f":"Poblacion!BB83","v":112},{"$f":"Poblacion!BC83","v":71},{"$f":"Poblacion!BD83","v":78},{"$f":"Poblacion!BE83","v":70},{"$f":"Poblacion!BF83","v":83},{"$f":"Poblacion!BG83","v":88},{"$f":"Poblacion!BH83","v":83},{"$f":"Poblacion!BI83","v":81},{"$f":"Poblacion!BJ83","v":71},{"$f":"Poblacion!BK83","v":55},{"$f":"Poblacion!BL83","v":86},{"$f":"Poblacion!BM83","v":73},{"$f":"Poblacion!BN83","v":94},{"$f":"Poblacion!BO83","v":74},{"$f":"Poblacion!BP83","v":79},{"$f":"Poblacion!BQ83","v":58},{"$f":"Poblacion!BR83","v":71},{"$f":"Poblacion!BS83","v":61},{"$f":"Poblacion!BT83","v":56},{"$f":"Poblacion!BU83","v":59},{"$f":"Poblacion!BV83","v":54},{"$f":"Poblacion!BY83","v":27},{"$f":"Poblacion!BZ83","v":31},{"$f":"Poblacion!DP83","v":277},{"$f":"Poblacion!DQ83","v":265},{"$f":"Poblacion!DR83","v":62},{"$f":"Poblacion!DS83","v":74},{"$f":"Poblacion!DT83","v":608},{"$f":"Poblacion!DU83","v":706},{"$f":"Poblacion!DV83","v":279},{"$f":"Poblacion!DW83","v":291}]
[null,null,null,null,null,null,null,null,null,null,null,null,null,null,null,null,null,null,null,null,null,null,null,null,null,null,null,null,null,null,null,null,null,null,null,null,null,null,null,null,null,null,null,null,null,null,null,null,null,null,null,null,"05",78,"P.S. HUANCAHUASI",{"$f":"Poblacion!F84","v":476},{"$f":"+SUM(Poblacion!K84,Poblacion!M84,Poblacion!O84,Poblacion!Q84,Poblacion!S84)","v":26},{"$f":"+SUM(Poblacion!L84,Poblacion!N84,Poblacion!P84,Poblacion!R84,Poblacion!T84)","v":23},{"$f":"SUM(Poblacion!U84,Poblacion!W84,Poblacion!Y84,Poblacion!AA84,Poblacion!AC84)","v":15},{"$f":"SUM(Poblacion!V84,Poblacion!X84,Poblacion!Z84,Poblacion!AB84,Poblacion!AD84)","v":15},{"$f":"+SUM(Poblacion!AE84,Poblacion!AG84,Poblacion!AI84,Poblacion!AK84,Poblacion!AM84)","v":13},{"$f":"+SUM(Poblacion!AF84,Poblacion!AH84,Poblacion!AJ84,Poblacion!AL84,Poblacion!AN84)","v":13},{"$f":"+SUM(Poblacion!AO84,Poblacion!AQ84,Poblacion!AS84,Poblacion!AU84,Poblacion!AW84)","v":15},{"$f":"+SUM(Poblacion!AP84,Poblacion!AR84,Poblacion!AT84,Poblacion!AV84,Poblacion!AX84)","v":17},{"$f":"Poblacion!AY84","v":12},{"$f":"Poblacion!AZ84","v":13},{"$f":"Poblacion!BA84","v":12},{"$f":"Poblacion!BB84","v":20},{"$f":"Poblacion!BC84","v":12},{"$f":"Poblacion!BD84","v":14},{"$f":"Poblacion!BE84","v":13},{"$f":"Poblacion!BF84","v":15},{"$f":"Poblacion!BG84","v":16},{"$f":"Poblacion!BH84","v":15},{"$f":"Poblacion!BI84","v":15},{"$f":"Poblacion!BJ84","v":13},{"$f":"Poblacion!BK84","v":10},{"$f":"Poblacion!BL84","v":16},{"$f":"Poblacion!BM84","v":13},{"$f":"Poblacion!BN84","v":17},{"$f":"Poblacion!BO84","v":13},{"$f":"Poblacion!BP84","v":14},{"$f":"Poblacion!BQ84","v":10},{"$f":"Poblacion!BR84","v":13},{"$f":"Poblacion!BS84","v":11},{"$f":"Poblacion!BT84","v":10},{"$f":"Poblacion!BU84","v":11},{"$f":"Poblacion!BV84","v":10},{"$f":"Poblacion!BY84","v":5},{"$f":"Poblacion!BZ84","v":6},{"$f":"Poblacion!DP84","v":52},{"$f":"Poblacion!DQ84","v":49},{"$f":"Poblacion!DR84","v":11},{"$f":"Poblacion!DS84","v":14},{"$f":"Poblacion!DT84","v":109},{"$f":"Poblacion!DU84","v":128},{"$f":"Poblacion!DV84","v":50},{"$f":"Poblacion!DW84","v":53}]
[null,null,null,null,null,null,null,null,null,null,null,null,null,null,null,null,null,null,null,null,null,null,null,null,null,null,null,null,null,null,null,null,null,null,null,null,null,null,null,null,null,null,null,null,null,null,null,null,null,null,null,null,"05",79,"C.S. CHURIN",{"$f":"Poblacion!F85","v":1750},{"$f":"+SUM(Poblacion!K85,Poblacion!M85,Poblacion!O85,Poblacion!Q85,Poblacion!S85)","v":90},{"$f":"+SUM(Poblacion!L85,Poblacion!N85,Poblacion!P85,Poblacion!R85,Poblacion!T85)","v":85},{"$f":"SUM(Poblacion!U85,Poblacion!W85,Poblacion!Y85,Poblacion!AA85,Poblacion!AC85)","v":53},{"$f":"SUM(Poblacion!V85,Poblacion!X85,Poblacion!Z85,Poblacion!AB85,Poblacion!AD85)","v":47},{"$f":"+SUM(Poblacion!AE85,Poblacion!AG85,Poblacion!AI85,Poblacion!AK85,Poblacion!AM85)","v":47},{"$f":"+SUM(Poblacion!AF85,Poblacion!AH85,Poblacion!AJ85,Poblacion!AL85,Poblacion!AN85)","v":52},{"$f":"+SUM(Poblacion!AO85,Poblacion!AQ85,Poblacion!AS85,Poblacion!AU85,Poblacion!AW85)","v":56},{"$f":"+SUM(Poblacion!AP85,Poblacion!AR85,Poblacion!AT85,Poblacion!AV85,Poblacion!AX85)","v":60},{"$f":"Poblacion!AY85","v":46},{"$f":"Poblacion!AZ85","v":47},{"$f":"Poblacion!BA85","v":46},{"$f":"Poblacion!BB85","v":75},{"$f":"Poblacion!BC85","v":48},{"$f":"Poblacion!BD85","v":52},{"$f":"Poblacion!BE85","v":47},{"$f":"Poblacion!BF85","v":56},{"$f":"Poblacion!BG85","v":59},{"$f":"Poblacion!BH85","v":56},{"$f":"Poblacion!BI85","v":54},{"$f":"Poblacion!BJ85","v":47},{"$f":"Poblacion!BK85","v":37},{"$f":"Poblacion!BL85","v":57},{"$f":"Poblacion!BM85","v":49},{"$f":"Poblacion!BN85","v":63},{"$f":"Poblacion!BO85","v":50},{"$f":"Poblacion!BP85","v":53},{"$f":"Poblacion!BQ85","v":39},{"$f":"Poblacion!BR85","v":47},{"$f":"Poblacion!BS85","v":41},{"$f":"Poblacion!BT85","v":38},{"$f":"Poblacion!BU85","v":39},{"$f":"Poblacion!BV85","v":36},{"$f":"Poblacion!BY85","v":18},{"$f":"Poblacion!BZ85","v":20},{"$f":"Poblacion!DP85","v":182},{"$f":"Poblacion!DQ85","v":175},{"$f":"Poblacion!DR85","v":41},{"$f":"Poblacion!DS85","v":49},{"$f":"Poblacion!DT85","v":409},{"$f":"Poblacion!DU85","v":473},{"$f":"Poblacion!DV85","v":187},{"$f":"Poblacion!DW85","v":194}]
[null,null,null,null,null,null,null,null,null,null,null,null,null,null,null,null,null,null,null,null,null,null,null,null,null,null,null,null,null,null,null,null,null,null,null,null,null,null,null,null,null,null,null,null,null,null,null,null,null,null,null,null,"05",80,"P.S. PACHANGARA",{"$f":"Poblacion!F86","v":396},{"$f":"+SUM(Poblacion!K86,Poblacion!M86,Poblacion!O86,Poblacion!Q86,Poblacion!S86)","v":22},{"$f":"+SUM(Poblacion!L86,Poblacion!N86,Poblacion!P86,Poblacion!R86,Poblacion!T86)","v":20},{"$f":"SUM(Poblacion!U86,Poblacion!W86,Poblacion!Y86,Poblacion!AA86,Poblacion!AC86)","v":12},{"$f":"SUM(Poblacion!V86,Poblacion!X86,Poblacion!Z86,Poblacion!AB86,Poblacion!AD86)","v":11},{"$f":"+SUM(Poblacion!AE86,Poblacion!AG86,Poblacion!AI86,Poblacion!AK86,Poblacion!AM86)","v":11},{"$f":"+SUM(Poblacion!AF86,Poblacion!AH86,Poblacion!AJ86,Poblacion!AL86,Poblacion!AN86)","v":12},{"$f":"+SUM(Poblacion!AO86,Poblacion!AQ86,Poblacion!AS86,Poblacion!AU86,Poblacion!AW86)","v":13},{"$f":"+SUM(Poblacion!AP86,Poblacion!AR86,Poblacion!AT86,Poblacion!AV86,Poblacion!AX86)","v":13},{"$f":"Poblacion!AY86","v":10},{"$f":"Poblacion!AZ86","v":10},{"$f":"Poblacion!BA86","v":10},{"$f":"Poblacion!BB86","v":17},{"$f":"Poblacion!BC86","v":11},{"$f":"Poblacion!BD86","v":12},{"$f":"Poblacion!BE86","v":10},{"$f":"Poblacion!BF86","v":12},{"$f":"Poblacion!BG86","v":13},{"$f":"Poblacion!BH86","v":12},{"$f":"Poblacion!BI86","v":12},{"$f":"Poblacion!BJ86","v":11},{"$f":"Poblacion!BK86","v":8},{"$f":"Poblacion!BL86","v":13},{"$f":"Poblacion!BM86","v":11},{"$f":"Poblacion!BN86","v":14},{"$f":"Poblacion!BO86","v":11},{"$f":"Poblacion!BP86","v":12},{"$f":"Poblacion!BQ86","v":9},{"$f":"Poblacion!BR86","v":11},{"$f":"Poblacion!BS86","v":9},{"$f":"Poblacion!BT86","v":8},{"$f":"Poblacion!BU86","v":9},{"$f":"Poblacion!BV86","v":8},{"$f":"Poblacion!BY86","v":4},{"$f":"Poblacion!BZ86","v":5},{"$f":"Poblacion!DP86","v":43},{"$f":"Poblacion!DQ86","v":41},{"$f":"Poblacion!DR86","v":10},{"$f":"Poblacion!DS86","v":11},{"$f":"Poblacion!DT86","v":90},{"$f":"Poblacion!DU86","v":105},{"$f":"Poblacion!DV86","v":42},{"$f":"Poblacion!DW86","v":44}]
[null,null,null,null,null,null,null,null,null,null,null,null,null,null,null,null,null,null,null,null,null,null,null,null,null,null,null,null,null,null,null,null,null,null,null,null,null,null,null,null,null,null,null,null,null,null,null,null,null,null,null,null,null,81,"PROVINCIA HUARAL",{"$f":"Poblacion!F87","v":977},{"$f":"+SUM(Poblacion!K87,Poblacion!M87,Poblacion!O87,Poblacion!Q87,Poblacion!S87)","v":29},{"$f":"+SUM(Poblacion!L87,Poblacion!N87,Poblacion!P87,Poblacion!R87,Poblacion!T87)","v":26},{"$f":"SUM(Poblacion!U87,Poblacion!W87,Poblacion!Y87,Poblacion!AA87,Poblacion!AC87)","v":22},{"$f":"SUM(Poblacion!V87,Poblacion!X87,Poblacion!Z87,Poblacion!AB87,Poblacion!AD87)","v":22},{"$f":"+SUM(Poblacion!AE87,Poblacion!AG87,Poblacion!AI87,Poblacion!AK87,Poblacion!AM87)","v":22},{"$f":"+SUM(Poblacion!AF87,Poblacion!AH87,Poblacion!AJ87,Poblacion!AL87,Poblacion!AN87)","v":29},{"$f":"+SUM(Poblacion!AO87,Poblacion!AQ87,Poblacion!AS87,Poblacion!AU87,Poblacion!AW87)","v":27},{"$f":"+SUM(Poblacion!AP87,Poblacion!AR87,Poblacion!AT87,Poblacion!AV87,Poblacion!AX87)","v":36},{"$f":"Poblacion!AY87","v":26},{"$f":"Poblacion!AZ87","v":32},{"$f":"Poblacion!BA87","v":27},{"$f":"Poblacion!BB87","v":33},{"$f":"Poblacion!BC87","v":37},{"$f":"Poblacion!BD87","v":34},{"$f":"Poblacion!BE87","v":33},{"$f":"Poblacion!BF87","v":31},{"$f":"Poblacion!BG87","v":21},{"$f":"Poblacion!BH87","v":35},{"$f":"Poblacion!BI87","v":32},{"$f":"Poblacion!BJ87","v":34},{"$f":"Poblacion!BK87","v":26},{"$f":"Poblacion!BL87","v":32},{"$f":"Poblacion!BM87","v":31},{"$f":"Poblacion!BN87","v":32},{"$f":"Poblacion!BO87","v":31},{"$f":"Poblacion!BP87","v":36},{"$f":"Poblacion!BQ87","v":21},{"$f":"Poblacion!BR87","v":22},{"$f":"Poblacion!BS87","v":22},{"$f":"Poblacion!BT87","v":21},{"$f":"Poblacion!BU87","v":20},{"$f":"Poblacion!BV87","v":17},{"$f":"Poblacion!BY87","v":12},{"$f":"Poblacion!BZ87","v":26},{"$f":"Poblacion!DP87","v":68},{"$f":"Poblacion!DQ87","v":70},{"$f":"Poblacion!DR87","v":20},{"$f":"Poblacion!DS87","v":29},{"$f":"Poblacion!DT87","v":245},{"$f":"Poblacion!DU87","v":277},{"$f":"Poblacion!DV87","v":106},{"$f":"Poblacion!DW87","v":122}]
[null,null,null,null,null,null,null,null,null,null,null,null,null,null,null,null,null,null,null,null,null,null,null,null,null,null,null,null,null,null,null,null,null,null,null,null,null,null,null,null,null,null,null,null,null,null,null,null,null,null,null,null,"03",82,"IHUARI - P.S. ACOTAMA",{"$f":"Poblacion!F88","v":977},{"$f":"+SUM(Poblacion!K88,Poblacion!M88,Poblacion!O88,Poblacion!Q88,Poblacion!S88)","v":29},{"$f":"+SUM(Poblacion!L88,Poblacion!N88,Poblacion!P88,Poblacion!R88,Poblacion!T88)","v":26},{"$f":"SUM(Poblacion!U88,Poblacion!W88,Poblacion!Y88,Poblacion!AA88,Poblacion!AC88)","v":22},{"$f":"SUM(Poblacion!V88,Poblacion!X88,Poblacion!Z88,Poblacion!AB88,Poblacion!AD88)","v":22},{"$f":"+SUM(Poblacion!AE88,Poblacion!AG88,Poblacion!AI88,Poblacion!AK88,Poblacion!AM88)","v":22},{"$f":"+SUM(Poblacion!AF88,Poblacion!AH88,Poblacion!AJ88,Poblacion!AL88,Poblacion!AN88)","v":29},{"$f":"+SUM(Poblacion!AO88,Poblacion!AQ88,Poblacion!AS88,Poblacion!AU88,Poblacion!AW88)","v":27},{"$f":"+SUM(Poblacion!AP88,Poblacion!AR88,Poblacion!AT88,Poblacion!AV88,Poblacion!AX88)","v":36},{"$f":"Poblacion!AY88","v":26},{"$f":"Poblacion!AZ88","v":32},{"$f":"Poblacion!BA88","v":27},{"$f":"Poblacion!BB88","v":33},{"$f":"Poblacion!BC88","v":37},{"$f":"Poblacion!BD88","v":34},{"$f":"Poblacion!BE88","v":33},{"$f":"Poblacion!BF88","v":31},{"$f":"Poblacion!BG88","v":21},{"$f":"Poblacion!BH88","v":35},{"$f":"Poblacion!BI88","v":32},{"$f":"Poblacion!BJ88","v":34},{"$f":"Poblacion!BK88","v":26},{"$f":"Poblacion!BL88","v":32},{"$f":"Poblacion!BM88","v":31},{"$f":"Poblacion!BN88","v":32},{"$f":"Poblacion!BO88","v":31},{"$f":"Poblacion!BP88","v":36},{"$f":"Poblacion!BQ88","v":21},{"$f":"Poblacion!BR88","v":22},{"$f":"Poblacion!BS88","v":22},{"$f":"Poblacion!BT88","v":21},{"$f":"Poblacion!BU88","v":20},{"$f":"Poblacion!BV88","v":17},{"$f":"Poblacion!BY88","v":12},{"$f":"Poblacion!BZ88","v":26},{"$f":"Poblacion!DP88","v":68},{"$f":"Poblacion!DQ88","v":70},{"$f":"Poblacion!DR88","v":20},{"$f":"Poblacion!DS88","v":29},{"$f":"Poblacion!DT88","v":245},{"$f":"Poblacion!DU88","v":277},{"$f":"Poblacion!DV88","v":106},{"$f":"Poblacion!DW88","v":122}]
[null,null,null,null,null,null,null,null,null,null,null,null,null,null,null,null,null,null,null,null,null,null,null,null,null,null,null,null,null,null,null,null,null,null,null,null,null,null,null,null,null,null,null,null,null,null,null,null,null,null,null,null,null,83,"---"]
[null,null,null,null,null,null,null,null,null,null,null,null,null,null,null,null,null,null,null,null,null,null,null,null,null,null,null,null,null,null,null,null,null,null,null,null,null,null,null,null,null,null,null,null,null,null,null,null,null,null,null,null,"01",84,"MICRORED HUAURA",{"$f":"Poblacion!F90","v":44336},{"$f":"+SUM(Poblacion!K90,Poblacion!M90,Poblacion!O90,Poblacion!Q90,Poblacion!S90)","v":1477},{"$f":"+SUM(Poblacion!L90,Poblacion!N90,Poblacion!P90,Poblacion!R90,Poblacion!T90)","v":1455},{"$f":"SUM(Poblacion!U90,Poblacion!W90,Poblacion!Y90,Poblacion!AA90,Poblacion!AC90)","v":1626},{"$f":"SUM(Poblacion!V90,Poblacion!X90,Poblacion!Z90,Poblacion!AB90,Poblacion!AD90)","v":1537},{"$f":"+SUM(Poblacion!AE90,Poblacion!AG90,Poblacion!AI90,Poblacion!AK90,Poblacion!AM90)","v":1398},{"$f":"+SUM(Poblacion!AF90,Poblacion!AH90,Poblacion!AJ90,Poblacion!AL90,Poblacion!AN90)","v":1509},{"$f":"+SUM(Poblacion!AO90,Poblacion!AQ90,Poblacion!AS90,Poblacion!AU90,Poblacion!AW90)","v":1470},{"$f":"+SUM(Poblacion!AP90,Poblacion!AR90,Poblacion!AT90,Poblacion!AV90,Poblacion!AX90)","v":1699},{"$f":"Poblacion!AY90","v":1377},{"$f":"Poblacion!AZ90","v":1607},{"$f":"Poblacion!BA90","v":1581},{"$f":"Poblacion!BB90","v":2084},{"$f":"Poblacion!BC90","v":1615},{"$f":"Poblacion!BD90","v":1836},{"$f":"Poblacion!BE90","v":1505},{"$f":"Poblacion!BF90","v":1670},{"$f":"Poblacion!BG90","v":1544},{"$f":"Poblacion!BH90","v":1625},{"$f":"Poblacion!BI90","v":1371},{"$f":"Poblacion!BJ90","v":1604},{"$f":"Poblacion!BK90","v":1220},{"$f":"Poblacion!BL90","v":1578},{"$f":"Poblacion!BM90","v":1207},{"$f":"Poblacion!BN90","v":1345},{"$f":"Poblacion!BO90","v":1067},{"$f":"Poblacion!BP90","v":1081},{"$f":"Poblacion!BQ90","v":752},{"$f":"Poblacion!BR90","v":830},{"$f":"Poblacion!BS90","v":655},{"$f":"Poblacion!BT90","v":691},{"$f":"Poblacion!BU90","v":522},{"$f":"Poblacion!BV90","v":460},{"$f":"Poblacion!BY90","v":282},{"$f":"Poblacion!BZ90","v":349},{"$f":"Poblacion!DP90","v":4236},{"$f":"Poblacion!DQ90","v":4213},{"$f":"Poblacion!DR90","v":1141},{"$f":"Poblacion!DS90","v":1329},{"$f":"Poblacion!DT90","v":12014},{"$f":"Poblacion!DU90","v":14007},{"$f":"Poblacion!DV90","v":3278},{"$f":"Poblacion!DW90","v":3411}]
[null,null,null,null,null,null,null,null,null,null,null,null,null,null,null,null,null,null,null,null,null,null,null,null,null,null,null,null,null,null,null,null,null,null,null,null,null,null,null,null,null,null,null,null,null,null,null,null,null,null,null,null,"02",85,"MICRORED HUALMAY",{"$f":"Poblacion!F91","v":165315},{"$f":"+SUM(Poblacion!K91,Poblacion!M91,Poblacion!O91,Poblacion!Q91,Poblacion!S91)","v":4687},{"$f":"+SUM(Poblacion!L91,Poblacion!N91,Poblacion!P91,Poblacion!R91,Poblacion!T91)","v":4563},{"$f":"SUM(Poblacion!U91,Poblacion!W91,Poblacion!Y91,Poblacion!AA91,Poblacion!AC91)","v":5711},{"$f":"SUM(Poblacion!V91,Poblacion!X91,Poblacion!Z91,Poblacion!AB91,Poblacion!AD91)","v":5504},{"$f":"+SUM(Poblacion!AE91,Poblacion!AG91,Poblacion!AI91,Poblacion!AK91,Poblacion!AM91)","v":5012},{"$f":"+SUM(Poblacion!AF91,Poblacion!AH91,Poblacion!AJ91,Poblacion!AL91,Poblacion!AN91)","v":4893},{"$f":"+SUM(Poblacion!AO91,Poblacion!AQ91,Poblacion!AS91,Poblacion!AU91,Poblacion!AW91)","v":5496},{"$f":"+SUM(Poblacion!AP91,Poblacion!AR91,Poblacion!AT91,Poblacion!AV91,Poblacion!AX91)","v":5586},{"$f":"Poblacion!AY91","v":5219},{"$f":"Poblacion!AZ91","v":5498},{"$f":"Poblacion!BA91","v":5365},{"$f":"Poblacion!BB91","v":7040},{"$f":"Poblacion!BC91","v":5410},{"$f":"Poblacion!BD91","v":6347},{"$f":"Poblacion!BE91","v":5711},{"$f":"Poblacion!BF91","v":5889},{"$f":"Poblacion!BG91","v":5674},{"$f":"Poblacion!BH91","v":6032},{"$f":"Poblacion!BI91","v":5565},{"$f":"Poblacion!BJ91","v":5911},{"$f":"Poblacion!BK91","v":5165},{"$f":"Poblacion!BL91","v":5621},{"$f":"Poblacion!BM91","v":4904},{"$f":"Poblacion!BN91","v":5180},{"$f":"Poblacion!BO91","v":4317},{"$f":"Poblacion!BP91","v":4435},{"$f":"Poblacion!BQ91","v":3344},{"$f":"Poblacion!BR91","v":3698},{"$f":"Poblacion!BS91","v":3031},{"$f":"Poblacion!BT91","v":3389},{"$f":"Poblacion!BU91","v":2318},{"$f":"Poblacion!BV91","v":2449},{"$f":"Poblacion!BY91","v":1396},{"$f":"Poblacion!BZ91","v":1698},{"$f":"Poblacion!DP91","v":14440},{"$f":"Poblacion!DQ91","v":14015},{"$f":"Poblacion!DR91","v":4326},{"$f":"Poblacion!DS91","v":4368},{"$f":"Poblacion!DT91","v":45153},{"$f":"Poblacion!DU91","v":49681},{"$f":"Poblacion!DV91","v":14406},{"$f":"Poblacion!DW91","v":15669}]
[null,null,null,null,null,null,null,null,null,null,null,null,null,null,null,null,null,null,null,null,null,null,null,null,null,null,null,null,null,null,null,null,null,null,null,null,null,null,null,null,null,null,null,null,null,null,null,null,null,null,null,null,"03",86,"MICRORED SAYAN",{"$f":"Poblacion!F92","v":32202},{"$f":"+SUM(Poblacion!K92,Poblacion!M92,Poblacion!O92,Poblacion!Q92,Poblacion!S92)","v":1200},{"$f":"+SUM(Poblacion!L92,Poblacion!N92,Poblacion!P92,Poblacion!R92,Poblacion!T92)","v":1156},{"$f":"SUM(Poblacion!U92,Poblacion!W92,Poblacion!Y92,Poblacion!AA92,Poblacion!AC92)","v":1099},{"$f":"SUM(Poblacion!V92,Poblacion!X92,Poblacion!Z92,Poblacion!AB92,Poblacion!AD92)","v":1181},{"$f":"+SUM(Poblacion!AE92,Poblacion!AG92,Poblacion!AI92,Poblacion!AK92,Poblacion!AM92)","v":1008},{"$f":"+SUM(Poblacion!AF92,Poblacion!AH92,Poblacion!AJ92,Poblacion!AL92,Poblacion!AN92)","v":1077},{"$f":"+SUM(Poblacion!AO92,Poblacion!AQ92,Poblacion!AS92,Poblacion!AU92,Poblacion!AW92)","v":1168},{"$f":"+SUM(Poblacion!AP92,Poblacion!AR92,Poblacion!AT92,Poblacion!AV92,Poblacion!AX92)","v":1349},{"$f":"Poblacion!AY92","v":1013},{"$f":"Poblacion!AZ92","v":1293},{"$f":"Poblacion!BA92","v":1057},{"$f":"Poblacion!BB92","v":1460},{"$f":"Poblacion!BC92","v":1047},{"$f":"Poblacion!BD92","v":1315},{"$f":"Poblacion!BE92","v":1102},{"$f":"Poblacion!BF92","v":1171},{"$f":"Poblacion!BG92","v":1033},{"$f":"Poblacion!BH92","v":1179},{"$f":"Poblacion!BI92","v":1047},{"$f":"Poblacion!BJ92","v":1101},{"$f":"Poblacion!BK92","v":858},{"$f":"Poblacion!BL92","v":1011},{"$f":"Poblacion!BM92","v":851},{"$f":"Poblacion!BN92","v":913},{"$f":"Poblacion!BO92","v":775},{"$f":"Poblacion!BP92","v":727},{"$f":"Poblacion!BQ92","v":568},{"$f":"Poblacion!BR92","v":620},{"$f":"Poblacion!BS92","v":526},{"$f":"Poblacion!BT92","v":472},{"$f":"Poblacion!BU92","v":392},{"$f":"Poblacion!BV92","v":388},{"$f":"Poblacion!BY92","v":238},{"$f":"Poblacion!BZ92","v":282},{"$f":"Poblacion!DP92","v":3107},{"$f":"Poblacion!DQ92","v":3197},{"$f":"Poblacion!DR92","v":895},{"$f":"Poblacion!DS92","v":1048},{"$f":"Poblacion!DT92","v":8481},{"$f":"Poblacion!DU92","v":9961},{"$f":"Poblacion!DV92","v":2499},{"$f":"Poblacion!DW92","v":2489}]
[null,null,null,null,null,null,null,null,null,null,null,null,null,null,null,null,null,null,null,null,null,null,null,null,null,null,null,null,null,null,null,null,null,null,null,null,null,null,null,null,null,null,null,null,null,null,null,null,null,null,null,null,"04",87,"MICRORED VEGUETA",{"$f":"Poblacion!F93","v":30644},{"$f":"+SUM(Poblacion!K93,Poblacion!M93,Poblacion!O93,Poblacion!Q93,Poblacion!S93)","v":1368},{"$f":"+SUM(Poblacion!L93,Poblacion!N93,Poblacion!P93,Poblacion!R93,Poblacion!T93)","v":1399},{"$f":"SUM(Poblacion!U93,Poblacion!W93,Poblacion!Y93,Poblacion!AA93,Poblacion!AC93)","v":1210},{"$f":"SUM(Poblacion!V93,Poblacion!X93,Poblacion!Z93,Poblacion!AB93,Poblacion!AD93)","v":1153},{"$f":"+SUM(Poblacion!AE93,Poblacion!AG93,Poblacion!AI93,Poblacion!AK93,Poblacion!AM93)","v":1063},{"$f":"+SUM(Poblacion!AF93,Poblacion!AH93,Poblacion!AJ93,Poblacion!AL93,Poblacion!AN93)","v":1031},{"$f":"+SUM(Poblacion!AO93,Poblacion!AQ93,Poblacion!AS93,Poblacion!AU93,Poblacion!AW93)","v":1123},{"$f":"+SUM(Poblacion!AP93,Poblacion!AR93,Poblacion!AT93,Poblacion!AV93,Poblacion!AX93)","v":1135},{"$f":"Poblacion!AY93","v":898},{"$f":"Poblacion!AZ93","v":1096},{"$f":"Poblacion!BA93","v":1087},{"$f":"Poblacion!BB93","v":1470},{"$f":"Poblacion!BC93","v":1089},{"$f":"Poblacion!BD93","v":1364},{"$f":"Poblacion!BE93","v":1093},{"$f":"Poblacion!BF93","v":1187},{"$f":"Poblacion!BG93","v":986},{"$f":"Poblacion!BH93","v":1091},{"$f":"Poblacion!BI93","v":886},{"$f":"Poblacion!BJ93","v":990},{"$f":"Poblacion!BK93","v":785},{"$f":"Poblacion!BL93","v":905},{"$f":"Poblacion!BM93","v":748},{"$f":"Poblacion!BN93","v":836},{"$f":"Poblacion!BO93","v":625},{"$f":"Poblacion!BP93","v":675},{"$f":"Poblacion!BQ93","v":488},{"$f":"Poblacion!BR93","v":496},{"$f":"Poblacion!BS93","v":434},{"$f":"Poblacion!BT93","v":414},{"$f":"Poblacion!BU93","v":349},{"$f":"Poblacion!BV93","v":313},{"$f":"Poblacion!BY93","v":200},{"$f":"Poblacion!BZ93","v":253},{"$f":"Poblacion!DP93","v":3453},{"$f":"Poblacion!DQ93","v":3401},{"$f":"Poblacion!DR93","v":890},{"$f":"Poblacion!DS93","v":863},{"$f":"Poblacion!DT93","v":7993},{"$f":"Poblacion!DU93","v":9393},{"$f":"Poblacion!DV93","v":2096},{"$f":"Poblacion!DW93","v":2151}]
[null,null,null,null,null,null,null,null,null,null,null,null,null,null,null,null,null,null,null,null,null,null,null,null,null,null,null,null,null,null,null,null,null,null,null,null,null,null,null,null,null,null,null,null,null,null,null,null,null,null,null,null,"05",88,"MICRORED CHURIN - OYON",{"$f":"Poblacion!F94","v":19920},{"$f":"+SUM(Poblacion!K94,Poblacion!M94,Poblacion!O94,Poblacion!Q94,Poblacion!S94)","v":534},{"$f":"+SUM(Poblacion!L94,Poblacion!N94,Poblacion!P94,Poblacion!R94,Poblacion!T94)","v":572},{"$f":"SUM(Poblacion!U94,Poblacion!W94,Poblacion!Y94,Poblacion!AA94,Poblacion!AC94)","v":676},{"$f":"SUM(Poblacion!V94,Poblacion!X94,Poblacion!Z94,Poblacion!AB94,Poblacion!AD94)","v":649},{"$f":"+SUM(Poblacion!AE94,Poblacion!AG94,Poblacion!AI94,Poblacion!AK94,Poblacion!AM94)","v":730},{"$f":"+SUM(Poblacion!AF94,Poblacion!AH94,Poblacion!AJ94,Poblacion!AL94,Poblacion!AN94)","v":743},{"$f":"+SUM(Poblacion!AO94,Poblacion!AQ94,Poblacion!AS94,Poblacion!AU94,Poblacion!AW94)","v":816},{"$f":"+SUM(Poblacion!AP94,Poblacion!AR94,Poblacion!AT94,Poblacion!AV94,Poblacion!AX94)","v":833},{"$f":"Poblacion!AY94","v":590},{"$f":"Poblacion!AZ94","v":657},{"$f":"Poblacion!BA94","v":590},{"$f":"Poblacion!BB94","v":758},{"$f":"Poblacion!BC94","v":554},{"$f":"Poblacion!BD94","v":710},{"$f":"Poblacion!BE94","v":628},{"$f":"Poblacion!BF94","v":638},{"$f":"Poblacion!BG94","v":584},{"$f":"Poblacion!BH94","v":557},{"$f":"Poblacion!BI94","v":605},{"$f":"Poblacion!BJ94","v":575},{"$f":"Poblacion!BK94","v":589},{"$f":"Poblacion!BL94","v":669},{"$f":"Poblacion!BM94","v":561},{"$f":"Poblacion!BN94","v":585},{"$f":"Poblacion!BO94","v":551},{"$f":"Poblacion!BP94","v":514},{"$f":"Poblacion!BQ94","v":431},{"$f":"Poblacion!BR94","v":445},{"$f":"Poblacion!BS94","v":393},{"$f":"Poblacion!BT94","v":397},{"$f":"Poblacion!BU94","v":321},{"$f":"Poblacion!BV94","v":380},{"$f":"Poblacion!BY94","v":232},{"$f":"Poblacion!BZ94","v":336},{"$f":"Poblacion!DP94","v":1806},{"$f":"Poblacion!DQ94","v":1826},{"$f":"Poblacion!DR94","v":667},{"$f":"Poblacion!DS94","v":693},{"$f":"Poblacion!DT94","v":4984},{"$f":"Poblacion!DU94","v":5427},{"$f":"Poblacion!DV94","v":1928},{"$f":"Poblacion!DW94","v":2072}]
[]
[null,null,null,null,null,null,null,null,null,null,null,null,null,null,null,null,null,"PIRAMIDE POBLACIONAL",null,null,null,null,"DATOS PIRAMIDE",null,null,null,null,"TOTAL",null,null,null,null,"ZONA URBANA",null,null,null,null,"ZONA RURAL",null,null,null,null,"DIRECCION DE SALUD",null,"URBANA\n%","RURAL\n%",null,"DIRECCION DE SALUD","URBANA\n(ABSOLUTO)","RURAL\n(ABSOLUTO)","TOTAL",null,null,"N°","DESCRIPCION","GRUPOS DE EDADES  - PIRAMIDE",null,null,null,null,null,null,null,null,null,null,null,null,null,null,null,null,null,null,null,null,null,null,null,null,null,null,null,null,null,null,null,null,null,null,null,"DESCRIPCION","ZONA URBANA",null,null,null,null,null,null,null,null,null,null,null,null,null,null,null,null,null,null,null,null,null,null,null,null,null,null,null,null,null,null,null,null,null,null,null,"DESCRIPCION","ZONA RURAL"]
[null,null,null,null,null,null,null,null,null,null,null,null,null,null,null,null,null,"GRUPO DE EDAD",null,"HOMBRES","MUJERES",null,"GRUPO DE EDAD",null,"HOMBRES","MUJERES",null,"GRUPO DE EDAD",null,"HOMBRES","MUJERES",null,"GRUPO DE EDAD",null,"HOMBRES","MUJERES",null,"GRUPO DE EDAD",null,"HOMBRES","MUJERES",null,"PROVINCIA",null,null,null,null,"PROVINCIA",null,null,null,null,"Microredes",null,null,"TOTAL","Menor de 5 años",null,"5 - 9",null,"10 - 14",null,"15 - 19",null,"20 - 24",null,"25 - 29",null,"30 - 34",null,"35 - 39",null,"40 - 44",null,"45 - 49",null,"50 - 54",null,"55 - 59",null,"60 - 64",null,"65 - 69",null,"70 - 74",null,"75 - 79",null,"80 +++",null,null,null,"TOTAL","Menor de 5 años",null,"5 - 9",null,"10 - 14",null,"15 - 19",null,"20 - 24",null,"25 - 29",null,"30 - 34",null,"35 - 39",null,"40 - 44",null,"45 - 49",null,"50 - 54",null,"55 - 59",null,"60 - 64",null,"65 - 69",null,"70 - 74",null,"75 - 79",null,"80 +++",null,null,null,"TOTAL","Menor de 5 años",null,"5 - 9",null,"10 - 14",null,"15 - 19",null,"20 - 24",null,"25 - 29",null,"30 - 34",null,"35 - 39",null,"40 - 44",null,"45 - 49",null,"50 - 54",null,"55 - 59",null,"60 - 64",null,"65 - 69",null,"70 - 74",null,"75 - 79",null,"80 +++"]
[null,null,null,null,null,null,null,null,null,null,null,null,null,null,null,null,null,"MENORES DE 5 AÑOS",null,{"$f":"Y104","v":17},{"$f":"-Z104","v":-22},null,"MENORES DE 5 AÑOS",null,{"$f":"+IF($A$16=1,AD104,IF($A$16=2,AI104,AN104))","v":17},22,null,"MENORES DE 5 AÑOS",null,{"$f":"+LOOKUP($A$15,numeropiramidedistrito,BE105:BE127)","v":17},{"$f":"+LOOKUP($A$15,numeropiramidedistrito,BF105:BF127)","v":22},null,"MENORES DE 5 AÑOS",null,{"$f":"+LOOKUP($A$15,numeropiramidedistrito,CP105:CP127)","v":7.65},{"$f":"+LOOKUP($A$15,numeropiramidedistrito,CQ105:CQ127)","v":9.9},null,"MENORES DE 5 AÑOS",null,{"$f":"+LOOKUP($A$15,numeropiramidedistrito,EA105:EA127)","v":9.3500000000000014},{"$f":"+LOOKUP($A$15,numeropiramidedistrito,EB105:EB127)","v":12.100000000000001},null,"DISTRITO",null,null,null,null,"DISTRITO",null,null,null,null,null,null,null,null,"M","F","M","F","M","F","M","F","M","F","M","F","M","F","M","F","M","F","M","F","M","F","M","F","M","F","M","F","M","F","M","F","M","F",null,null,null,"M","F","M","F","M","F","M","F","M","F","M","F","M","F","M","F","M","F","M","F","M","F","M","F","M","F","M","F","M","F","M","F","M","F",null,null,null,"M","F","M","F","M","F","M","F","M","F","M","F","M","F","M","F","M","F","M","F","M","F","M","F","M","F","M","F","M","F","M","F","M","F"]
[null,null,null,null,null,null,null,null,null,null,null,null,null,null,null,null,null,"DE 5 A 9 AÑOS",null,{"$f":"Y105","v":9},{"$f":"-Z105","v":-11},null,"DE 5 A 9 AÑOS",null,9,11,null,"DE 5 A 9 AÑOS",null,{"$f":"+LOOKUP($A$15,numeropiramidedistrito,BG105:BG127)","v":9},{"$f":"+LOOKUP($A$15,numeropiramidedistrito,BH105:BH127)","v":11},null,"DE 5 A 9 AÑOS",null,{"$f":"+LOOKUP($A$15,numeropiramidedistrito,CR105:CR127)","v":4.05},{"$f":"+LOOKUP($A$15,numeropiramidedistrito,CS105:CS127)","v":4.95},null,"DE 5 A 9 AÑOS",null,{"$f":"+LOOKUP($A$15,numeropiramidedistrito,EC105:EC127)","v":4.95},{"$f":"+LOOKUP($A$15,numeropiramidedistrito,ED105:ED127)","v":6.0500000000000007},null,"HUAURA - OYON",null,null,null,null,"HUAURA - OYON",{"$f":"+AW106+AW119+AW126","v":250283.06000000003},{"$f":"+AX106+AX119+AX126","v":42133.939999999995},{"$f":"Poblacion!F8","v":292417},null,null,1,"HUAURA - OYON",{"$f":"BD13","v":292417},9266,9145,10322,10024,9211,9253,10073,10602,9097,10151,9680,12812,9715,11572,10039,10555,9821,10484,9474,10181,8617,9784,8271,8859,7335,7432,5583,6089,5039,5363,3902,3990,2348,2918,null,"HUAURA - OYON",{"$f":"AW105","v":250283.06000000003},{"$f":"+CP133*$CO$105","v":7930.8755440347186},{"$f":"+CQ133*$CO$105","v":7827.3102579535398},{"$f":"+CR133*$CO$105","v":8834.7180407431861},8579.656427088712,7883.8004139978193,7919.7486951169058,8621.5960883943135,9074.3732482037649,7786.2265081031555,8688.3571819011904,8285.2228864942881,10965.937564231903,8315.1797874268614,9904.6073597636259,8592.4950989169593,9034.145409808596,8405.9064016797947,8973.3756964882359,8108.9051267197192,8714.0345255576794,7375.3890095993056,8374.2376778367889,7079.2436460944482,7582.5195817616632,6278.1105240119432,6361.133935167928,4778.5536544728939,5211.6448508123685,4312.9378228351979,4590.2531343252967,3339.7664982542055,3415.086706313245,2009.6800968479947,2497.5496263213154,null,"HUAURA - OYON",{"$f":"AX105","v":42133.939999999995},{"$f":"+EA133*$DZ$105","v":1335.1244559652823},{"$f":"+EB133*$DZ$105","v":1317.6897420464609},1487.2819592568146,1444.3435729112873,1327.1995860021816,1333.2513048830949,1451.4039116056861,1527.626751796236,1310.7734918968458,1462.6428180988109,1394.7771135057126,1846.0624357680979,1399.8202125731405,1667.3926402363745,1446.5049010830423,1520.8545901914044,1415.0935983202071,1510.6243035117657,1365.094873280281,1466.9654744423201,1241.6109904006948,1409.762322163212,1191.7563539055525,1276.4804182383375,1056.8894759880582,1070.8660648320717,804.44634552710681,877.35514918763272,726.06217716480216,772.74686567470428,562.23350174579446,574.91329368675554,338.31990315200551,420.45037367868485]
[null,null,null,null,null,null,null,null,null,null,null,null,null,null,null,null,null,"DE 10 A 14 AÑOS",null,8,-11,null,"DE 10 A 14 AÑOS",null,8,11,null,"DE 10 A 14 AÑOS",null,{"$f":"+LOOKUP($A$15,numeropiramidedistrito,BI105:BI127)","v":8},{"$f":"+LOOKUP($A$15,numeropiramidedistrito,BJ105:BJ127)","v":11},null,"DE 10 A 14 AÑOS",null,{"$f":"+LOOKUP($A$15,numeropiramidedistrito,CT105:CT127)","v":3.6000000000000005},{"$f":"+LOOKUP($A$15,numeropiramidedistrito,CU105:CU127)","v":4.95},null,"DE 10 A 14 AÑOS",null,{"$f":"+LOOKUP($A$15,numeropiramidedistrito,EE105:EE127)","v":4.4000000000000012},{"$f":"+LOOKUP($A$15,numeropiramidedistrito,EF105:EF127)","v":6.0500000000000007},null,"PROVINCIA HUAURA",null,null,null,null,"PROVINCIA HUAURA",{"$f":"+SUM(AW107:AW118)","v":238862.35},{"$f":"+SUM(AX107:AX118)","v":35440.65},{"$f":"Poblacion!F9","v":274303},null,null,2,"PROVINCIA HUAURA",{"$f":"BD14","v":274303},8739,8577,9680,9389,8516,8527,9295,9784,8511,9513,9115,12087,9170,10902,9452,9939,9288,9966,8908,9638,8093,9207,7784,8349,6865,6988,5240,5733,4719,5042,3664,3718,2190,2678,null,"PROVINCIA HUAURA",{"$f":"AW106","v":238862.35},{"$f":"+CP134*$CO$106","v":7609.8988222877624},{"$f":"+CQ134*$CO$106","v":7468.8296371166189},8429.3192126954509,8175.9171578509904,7415.7109933176089,7425.2897651502171,8094.0621985541538,8519.8821463855656,7411.3570061209684,8283.8960403276669,7937.318659475106,10525.328649158047,7985.2125186381481,9493.4336835543181,8230.777396528656,8654.855749481414,8087.9666164788568,8678.3672803432692,7757.0635895342011,8392.7457202436726,7047.3636764818475,8017.4320238932869,6778.2872677294818,7270.2878209498258,5978.0244209870107,6085.1325060243607,4562.9785820789421,4992.2817196676669,4109.2931161890319,4390.5606890919889,3190.6018176979474,3237.6248794216613,1907.0463921284127,2331.9955425204976,null,"PROVINCIA HUAURA",{"$f":"AX106","v":35440.65},{"$f":"+EA134*$DZ$106","v":1129.101177712238},{"$f":"+EB134*$DZ$106","v":1108.1703628833807},1250.6807873045502,1213.0828421490105,1100.2890066823913,1101.7102348497829,1200.9378014458464,1264.1178536144337,1099.6429938790316,1229.1039596723333,1177.681340524894,1561.6713508419523,1184.7874813618516,1408.5663164456826,1221.2226034713437,1284.1442505185873,1200.0333835211427,1287.6327196567299,1150.9364104657989,1245.2542797563281,1045.6363235181534,1189.5679761067142,1005.7127322705185,1078.7121790501747,886.97557901298921,902.86749397564017,677.02141792105817,740.71828033233317,609.70688381096818,651.4393109080105,473.39818230205287,480.37512057833857,282.95360787158728,346.00445747950261]
[null,null,null,null,null,null,null,null,null,null,null,null,null,null,null,null,null,"DE 15 A 19 AÑOS",null,13,-15,null,"DE 15 A 19 AÑOS",null,{"$f":"+IF($A$16=1,AD107,IF($A$16=2,AI107,AN107))","v":13},15,null,"DE 15 A 19 AÑOS",null,{"$f":"+LOOKUP($A$15,numeropiramidedistrito,BK105:BK127)","v":13},{"$f":"+LOOKUP($A$15,numeropiramidedistrito,BL105:BL127)","v":15},null,"DE 15 A 19 AÑOS",null,{"$f":"+LOOKUP($A$15,numeropiramidedistrito,CV105:CV127)","v":5.8500000000000005},{"$f":"+LOOKUP($A$15,numeropiramidedistrito,CW105:CW127)","v":6.75},null,"DE 15 A 19 AÑOS",null,{"$f":"+LOOKUP($A$15,numeropiramidedistrito,EG105:EG127)","v":7.1500000000000012},{"$f":"+LOOKUP($A$15,numeropiramidedistrito,EH105:EH127)","v":8.25},null,"DISTRITO HUACHO",null,0.97,0.03,null,"DISTRITO HUACHO",{"$f":"+AS107*AY107","v":51681.599999999999},{"$f":"+AT107*AY107","v":1598.3999999999999},{"$f":"Poblacion!F10","v":53280},null,"02",3,"DISTRITO HUACHO",{"$f":"BD15","v":53280},1212,1201,1775,1655,1536,1468,1746,1688,1578,1626,1630,2134,1685,1955,1829,1800,1865,1933,1836,1923,1754,1932,1716,1810,1551,1591,1230,1323,1071,1218,805,841,498,649,null,"DISTRITO HUACHO",51681.599999999999,{"$f":"+CP135*$CO$107","v":1175.6399999999999},{"$f":"+CQ135*$CO$107","v":1164.97},1721.75,1605.35,1489.92,1423.96,1693.62,1637.36,1530.6599999999999,1577.22,1581.1,2069.98,1634.4499999999998,1896.3500000000001,1774.1299999999999,1746,1809.05,1875.01,1780.92,1865.31,1701.3799999999999,1874.0399999999997,1664.5199999999998,1755.6999999999998,1504.47,1543.27,1193.0999999999999,1283.31,1038.8699999999999,1181.4599999999998,780.84999999999991,815.77,483.06,629.53,null,"DISTRITO HUACHO",1598.3999999999999,{"$f":"+EA135*$DZ$107","v":36.36},{"$f":"+EB135*$DZ$107","v":36.029999999999994},53.25,49.65,46.08,44.04,52.379999999999995,50.639999999999993,47.339999999999996,48.779999999999994,48.9,64.02,50.54999999999999,58.65,54.86999999999999,54,55.949999999999996,57.989999999999995,55.08,57.689999999999991,52.62,57.959999999999994,51.47999999999999,54.29999999999999,46.53,47.73,36.9,39.69,32.129999999999995,36.539999999999992,24.15,25.229999999999997,14.94,19.47]
[null,null,null,null,null,null,null,null,null,null,null,null,null,null,null,null,null,"DE 20 A 24 AÑOS",null,12,-14,null,"DE 20 A 24 AÑOS",null,{"$f":"+IF($A$16=1,AD108,IF($A$16=2,AI108,AN108))","v":12},14,null,"DE 20 A 24 AÑOS",null,{"$f":"+LOOKUP($A$15,numeropiramidedistrito,BM105:BM127)","v":12},{"$f":"+LOOKUP($A$15,numeropiramidedistrito,BN105:BN127)","v":14},null,"DE 20 A 24 AÑOS",null,{"$f":"+LOOKUP($A$15,numeropiramidedistrito,CX105:CX127)","v":5.4},{"$f":"+LOOKUP($A$15,numeropiramidedistrito,CY105:CY127)","v":6.3000000000000007},null,"DE 20 A 24 AÑOS",null,{"$f":"+LOOKUP($A$15,numeropiramidedistrito,EI105:EI127)","v":6.6000000000000005},{"$f":"+LOOKUP($A$15,numeropiramidedistrito,EJ105:EJ127)","v":7.7000000000000011},null,"DISTRITO AMBAR",null,0.16,0.84,null,"DISTRITO AMBAR",{"$f":"+AS108*AY108","v":454.56},{"$f":"+AT108*AY108","v":2386.44},{"$f":"Poblacion!F13","v":2841},null,"01",4,"DISTRITO AMBAR",{"$f":"BD18","v":2841},{"$f":"BE18","v":106},{"$f":"BF18","v":103},93,74,74,87,84,101,91,107,79,128,66,104,85,121,80,81,88,95,72,97,88,74,67,81,73,79,64,51,70,30,26,48,null,"DISTRITO AMBAR",454.56,{"$f":"+CP136*$CO$108","v":16.96},{"$f":"+CQ136*$CO$108","v":16.48},14.88,11.84,11.84,13.92,13.44,16.16,14.56,17.12,12.64,20.48,10.56,16.64,13.6,19.36,12.8,12.959999999999999,14.08,15.2,11.520000000000001,15.520000000000001,14.08,11.84,10.72,12.959999999999999,11.68,12.64,10.24,8.16,11.2,4.8,4.16,7.68,null,"DISTRITO AMBAR",2386.44,{"$f":"+EA136*$DZ$108","v":89.04},{"$f":"+EB136*$DZ$108","v":86.52},78.12,62.160000000000004,62.160000000000004,73.08,70.56,84.84,76.440000000000012,89.88,66.36,107.52,55.440000000000005,87.360000000000014,71.399999999999991,101.64,67.2,68.040000000000006,73.92,79.8,60.480000000000004,81.48,73.92,62.160000000000004,56.28,68.040000000000006,61.32,66.36,53.76,42.839999999999996,58.800000000000004,25.2,21.840000000000003,40.32]
[null,null,null,null,null,null,null,null,null,null,null,null,null,null,null,null,null,"DE 25 A 29 AÑOS",null,10,-16,null,"DE 25 A 29 AÑOS",null,{"$f":"+IF($A$16=1,AD109,IF($A$16=2,AI109,AN109))","v":10},16,null,"DE 25 A 29 AÑOS",null,{"$f":"+LOOKUP($A$15,numeropiramidedistrito,BO105:BO127)","v":10},{"$f":"+LOOKUP($A$15,numeropiramidedistrito,BP105:BP127)","v":16},null,"DE 25 A 29 AÑOS",null,{"$f":"+LOOKUP($A$15,numeropiramidedistrito,CZ105:CZ127)","v":4.5},{"$f":"+LOOKUP($A$15,numeropiramidedistrito,DA105:DA127)","v":7.2000000000000011},null,"DE 25 A 29 AÑOS",null,{"$f":"+LOOKUP($A$15,numeropiramidedistrito,EK105:EK127)","v":5.5000000000000009},{"$f":"+LOOKUP($A$15,numeropiramidedistrito,EL105:EL127)","v":8.8000000000000025},null,"DISTRITO CARQUIN",null,0.98,0.02,null,"DISTRITO CARQUIN",9357.0399999999991,{"$f":"+AT109*AY109","v":190.96},{"$f":"Poblacion!F16","v":9548},null,"02",5,"DISTRITO CARQUIN",{"$f":"BD21","v":9548},{"$f":"BE21","v":236},{"$f":"BF21","v":230},319,303,325,331,328,369,305,346,305,388,320,411,356,355,340,406,326,343,269,310,284,309,248,222,159,202,179,179,116,124,49,70,null,"DISTRITO CARQUIN",9357.0399999999991,{"$f":"+CP137*$CO$109","v":231.27999999999997},{"$f":"+CQ137*$CO$109","v":225.39999999999998},312.62,296.93999999999994,318.5,324.38,321.43999999999994,361.62,298.89999999999998,339.08,298.89999999999998,380.24,313.59999999999997,402.78,348.88,347.89999999999992,333.19999999999993,397.87999999999994,319.47999999999996,336.14,263.61999999999995,303.79999999999995,278.32,302.81999999999994,243.04,217.55999999999997,155.82,197.95999999999998,175.42,175.42,113.67999999999999,121.52,48.019999999999996,68.599999999999994,null,"DISTRITO CARQUIN",190.96,{"$f":"+EA137*$DZ$109","v":4.7200000000000006},{"$f":"+EB137*$DZ$109","v":4.6000000000000005},6.3800000000000008,6.06,6.5000000000000009,6.620000000000001,6.56,7.3800000000000008,6.1000000000000005,6.92,6.1000000000000005,7.7600000000000007,6.4,8.2200000000000006,7.120000000000001,7.1,6.8,8.1199999999999992,6.5200000000000005,6.8600000000000012,5.38,6.1999999999999993,5.6800000000000006,6.18,4.9600000000000009,4.4399999999999995,3.18,4.04,3.58,3.58,2.3200000000000003,2.4800000000000004,0.98,1.4000000000000001]
[null,null,null,null,null,null,null,null,null,null,null,null,null,null,null,null,null,"DE 30 A 34 AÑOS",null,11,-11,null,"DE 30 A 34 AÑOS",null,11,11,null,"DE 30 A 34 AÑOS",null,{"$f":"+LOOKUP($A$15,numeropiramidedistrito,BQ105:BQ127)","v":11},{"$f":"+LOOKUP($A$15,numeropiramidedistrito,BR105:BR127)","v":11},null,"DE 30 A 34 AÑOS",null,{"$f":"+LOOKUP($A$15,numeropiramidedistrito,DB105:DB127)","v":4.95},{"$f":"+LOOKUP($A$15,numeropiramidedistrito,DC105:DC127)","v":4.95},null,"DE 30 A 34 AÑOS",null,{"$f":"+LOOKUP($A$15,numeropiramidedistrito,EM105:EM127)","v":6.0500000000000007},{"$f":"+LOOKUP($A$15,numeropiramidedistrito,EN105:EN127)","v":6.0500000000000007},null,"DISTRITO CHECRAS",null,0.68,0.32,null,"DISTRITO CHECRAS",694.96,{"$f":"+AT110*AY110","v":327.04000000000002},{"$f":"Poblacion!F18","v":1022},null,"05",6,"DISTRITO CHECRAS",{"$f":"BD23","v":1022},{"$f":"BE23","v":13},{"$f":"BF23","v":21},21,13,23,25,44,36,18,29,27,28,17,22,20,24,27,16,27,17,30,39,42,37,34,31,35,38,36,42,19,31,29,49,null,"DISTRITO CHECRAS",694.96,{"$f":"+CP138*$CO$110","v":8.84},{"$f":"+CQ138*$CO$110","v":14.28},14.28,8.84,15.64,17,29.919999999999998,24.48,12.24,19.72,18.36,19.04,11.56,14.959999999999999,13.6,16.32,18.36,10.88,18.36,11.56,20.399999999999999,26.52,28.56,25.16,23.12,21.08,23.8,25.84,24.48,28.56,12.92,21.08,19.72,33.32,null,"DISTRITO CHECRAS",327.04000000000002,{"$f":"+EA138*$DZ$110","v":4.16},{"$f":"+EB138*$DZ$110","v":6.72},6.72,4.16,7.36,8,14.08,11.52,5.76,9.2799999999999994,8.64,8.9600000000000009,5.44,7.04,6.4,7.68,8.64,5.12,8.64,5.44,9.6,12.48,13.44,11.84,10.88,9.92,11.2,12.16,11.52,13.44,6.08,9.92,9.2799999999999994,15.68]
[null,null,null,null,null,null,null,null,null,null,null,null,null,null,null,null,null,"DE 35 A 39 AÑOS",null,11,-15,null,"DE 35 A 39 AÑOS",null,11,15,null,"DE 35 A 39 AÑOS",null,{"$f":"+LOOKUP($A$15,numeropiramidedistrito,BS105:BS127)","v":11},{"$f":"+LOOKUP($A$15,numeropiramidedistrito,BT105:BT127)","v":15},null,"DE 35 A 39 AÑOS",null,{"$f":"+LOOKUP($A$15,numeropiramidedistrito,DD105:DD127)","v":4.95},{"$f":"+LOOKUP($A$15,numeropiramidedistrito,DE105:DE127)","v":6.75},null,"DE 35 A 39 AÑOS",null,{"$f":"+LOOKUP($A$15,numeropiramidedistrito,EO105:EO127)","v":6.0500000000000007},{"$f":"+LOOKUP($A$15,numeropiramidedistrito,EP105:EP127)","v":8.25},null,"DISTRITO HUALMAY",null,1,0,null,"DISTRITO HUALMAY",57016,{"$f":"+AT111*AY111","v":0},{"$f":"Poblacion!F20","v":57016},null,"02",7,"DISTRITO HUALMAY",{"$f":"BD25","v":57016},{"$f":"BE25","v":1560},{"$f":"BF25","v":1492},1979,1887,1711,1676,1877,1904,1776,1891,1854,2429,1906,2138,1989,2069,1979,2093,2001,2079,1849,1933,1726,1808,1491,1506,1155,1297,1008,1126,789,866,450,614,null,"DISTRITO HUALMAY",57016,{"$f":"+CP139*$CO$111","v":1560},{"$f":"+CQ139*$CO$111","v":1492},1978.9999999999998,1887,1711,1676,1877,1904,1776,1891,1854,2429,1906,2138,1989.0000000000002,2069,1978.9999999999998,2093,2001.0000000000002,2079,1849,1933,1726,1808.0000000000002,1491,1506,1155,1297,1008.0000000000001,1126,789,866,450,614,null,"DISTRITO HUALMAY",0,{"$f":"+EA139*$DZ$111","v":0},{"$f":"+EB139*$DZ$111","v":0},0,0,0,0,0,0,0,0,0,0,0,0,0,0,0,0,0,0,0,0,0,0,0,0,0,0,0,0,0,0,0,0]
[null,null,null,null,null,null,null,null,null,null,null,null,null,null,null,null,null,"DE 40 A 44 AÑOS",null,10,-11,null,"DE 40 A 44 AÑOS",null,10,11,null,"DE 40 A 44 AÑOS",null,{"$f":"+LOOKUP($A$15,numeropiramidedistrito,BU105:BU127)","v":10},{"$f":"+LOOKUP($A$15,numeropiramidedistrito,BV105:BV127)","v":11},null,"DE 40 A 44 AÑOS",null,{"$f":"+LOOKUP($A$15,numeropiramidedistrito,DF105:DF127)","v":4.5},{"$f":"+LOOKUP($A$15,numeropiramidedistrito,DG105:DG127)","v":4.95},null,"DE 40 A 44 AÑOS",null,{"$f":"+LOOKUP($A$15,numeropiramidedistrito,EQ105:EQ127)","v":5.5000000000000009},{"$f":"+LOOKUP($A$15,numeropiramidedistrito,ER105:ER127)","v":6.0500000000000007},null,"DISTRITO HUAURA                   ",null,0.86,0.14000000000000001,null,"DISTRITO HUAURA                   ",35685.699999999997,{"$f":"+AT112*AY112","v":5809.3},{"$f":"Poblacion!F24","v":41495},null,"01",8,"DISTRITO HUAURA                   ",{"$f":"BD29","v":41495},{"$f":"BE29","v":1371},{"$f":"BF29","v":1352},1533,1463,1324,1422,1386,1598,1286,1500,1502,1956,1549,1732,1420,1549,1464,1544,1283,1509,1148,1481,1119,1271,1000,1000,679,751,591,640,452,430,256,301,null,"DISTRITO HUAURA                   ",35685.699999999997,{"$f":"+CP140*$CO$112","v":1179.06},{"$f":"+CQ140*$CO$112","v":1162.72},1318.3799999999999,1258.1799999999998,1138.6399999999999,1222.9199999999998,1191.9599999999998,1374.28,1105.9599999999998,1289.9999999999998,1291.72,1682.1599999999999,1332.1399999999999,1489.5199999999998,1221.1999999999998,1332.1399999999999,1259.04,1327.84,1103.3799999999999,1297.74,987.28,1273.6599999999999,962.33999999999992,1093.06,860,860,583.93999999999994,645.86,508.25999999999993,550.4,388.71999999999997,369.8,220.16,258.85999999999996,null,"DISTRITO HUAURA                   ",5809.3,{"$f":"+EA140*$DZ$112","v":191.94},{"$f":"+EB140*$DZ$112","v":189.28000000000003},214.62,204.82000000000002,185.36,199.08,194.04,223.72000000000003,180.04,210,210.28000000000003,273.84000000000003,216.86,242.48000000000002,198.8,216.86,204.96000000000004,216.16,179.62,211.26000000000002,160.72,207.34,156.66,177.94,140,140,95.06,105.14000000000001,82.74,89.600000000000009,63.28,60.2,35.840000000000003,42.14]
[null,null,null,null,null,null,null,null,null,null,null,null,null,null,null,null,null,"DE 45 A 49 AÑOS",null,20,-10,null,"DE 45 A 49 AÑOS",null,20,10,null,"DE 45 A 49 AÑOS",null,{"$f":"+LOOKUP($A$15,numeropiramidedistrito,BW105:BW127)","v":20},{"$f":"+LOOKUP($A$15,numeropiramidedistrito,BX105:BX127)","v":10},null,"DE 45 A 49 AÑOS",null,{"$f":"+LOOKUP($A$15,numeropiramidedistrito,DH105:DH127)","v":9},{"$f":"+LOOKUP($A$15,numeropiramidedistrito,DI105:DI127)","v":4.5},null,"DE 45 A 49 AÑOS",null,{"$f":"+LOOKUP($A$15,numeropiramidedistrito,ES105:ES127)","v":11.000000000000002},{"$f":"+LOOKUP($A$15,numeropiramidedistrito,ET105:ET127)","v":5.5000000000000009},null,"DISTRITO LEONCIO PRADO",null,0.16,0.84,null,"DISTRITO LEONCIO PRADO",398.40000000000003,2091.6,{"$f":"Poblacion!F30","v":2490},null,"03",9,"DISTRITO LEONCIO PRADO",{"$f":"BD35","v":2490},{"$f":"BE35","v":96},{"$f":"BF35","v":76},55,75,55,85,84,102,86,119,54,102,82,94,74,91,74,81,78,90,61,87,63,62,61,76,63,80,38,43,29,45,30,43,null,"DISTRITO LEONCIO PRADO",398.40000000000003,{"$f":"+CP141*$CO$113","v":15.360000000000003},{"$f":"+CQ141*$CO$113","v":12.160000000000002},8.8000000000000007,12.000000000000002,8.8000000000000007,13.600000000000001,13.440000000000001,16.32,13.760000000000002,19.040000000000003,8.64,16.32,13.120000000000001,15.040000000000003,11.84,14.56,11.84,12.96,12.480000000000002,14.4,9.76,13.920000000000002,10.080000000000002,9.92,9.76,12.160000000000002,10.080000000000002,12.8,6.080000000000001,6.8800000000000008,4.6400000000000006,7.2,4.8000000000000007,6.8800000000000008,null,"DISTRITO LEONCIO PRADO",2091.6,{"$f":"+EA141*$DZ$113","v":80.64},{"$f":"+EB141*$DZ$113","v":63.839999999999996},46.199999999999996,63,46.199999999999996,71.400000000000006,70.56,85.679999999999993,72.239999999999995,99.96,45.36,85.679999999999993,68.88,78.959999999999994,62.16,76.44,62.16,68.039999999999992,65.52,75.599999999999994,51.239999999999995,73.08,52.92,52.08,51.239999999999995,63.839999999999996,52.92,67.199999999999989,31.919999999999998,36.119999999999997,24.36,37.799999999999997,25.2,36.119999999999997]
[null,null,null,null,null,null,null,null,null,null,null,null,null,null,null,null,null,"DE 50 A 54 AÑOS",null,9,-14,null,"DE 50 A 54 AÑOS",null,9,14,null,"DE 50 A 54 AÑOS",null,{"$f":"+LOOKUP($A$15,numeropiramidedistrito,BY105:BY127)","v":9},{"$f":"+LOOKUP($A$15,numeropiramidedistrito,BZ105:BZ127)","v":14},null,"DE 50 A 54 AÑOS",null,{"$f":"+LOOKUP($A$15,numeropiramidedistrito,DJ105:DJ127)","v":4.05},{"$f":"+LOOKUP($A$15,numeropiramidedistrito,DK105:DK127)","v":6.3000000000000007},null,"DE 50 A 54 AÑOS",null,{"$f":"+LOOKUP($A$15,numeropiramidedistrito,EU105:EU127)","v":4.95},{"$f":"+LOOKUP($A$15,numeropiramidedistrito,EV105:EV127)","v":7.7000000000000011},null,"DISTRITO PACCHO",null,0.63,0.37,null,"DISTRITO PACCHO",1075.4100000000001,631.59,{"$f":"Poblacion!F35","v":1707},null,"05",10,"DISTRITO PACCHO",{"$f":"BD40","v":1707},{"$f":"BE40","v":32},{"$f":"BF40","v":37},37,33,38,39,49,46,35,50,33,46,35,40,46,33,39,43,53,55,55,79,61,59,55,53,50,51,43,56,62,63,47,60,null,"DISTRITO PACCHO",1075.4100000000001,{"$f":"+CP142*$CO$114","v":20.16},{"$f":"+CQ142*$CO$114","v":23.310000000000002},23.310000000000002,20.79,23.94,24.570000000000004,30.870000000000005,28.98,22.050000000000004,31.500000000000004,20.79,28.98,22.050000000000004,25.200000000000003,28.98,20.79,24.570000000000004,27.09,33.39,34.650000000000006,34.650000000000006,49.77,38.43,37.17,34.650000000000006,33.39,31.500000000000004,32.130000000000003,27.09,35.28,39.06,39.69,29.610000000000003,37.800000000000004,null,"DISTRITO PACCHO",631.59,{"$f":"+EA142*$DZ$114","v":11.84},{"$f":"+EB142*$DZ$114","v":13.690000000000001},13.690000000000001,12.21,14.06,14.430000000000001,18.130000000000003,17.02,12.950000000000001,18.5,12.21,17.02,12.950000000000001,14.8,17.02,12.21,14.430000000000001,15.91,19.610000000000003,20.350000000000001,20.350000000000001,29.23,22.57,21.830000000000002,20.350000000000001,19.610000000000003,18.5,18.87,15.91,20.72,22.94,23.31,17.39,22.200000000000003]
[null,null,null,null,null,null,null,null,null,null,null,null,null,null,null,null,null,"DE 55 A 59 AÑOS",null,14,-17,null,"DE 55 A 59 AÑOS",null,14,17,null,"DE 55 A 59 AÑOS",null,{"$f":"+LOOKUP($A$15,numeropiramidedistrito,CA105:CA127)","v":14},{"$f":"+LOOKUP($A$15,numeropiramidedistrito,CB105:CB127)","v":17},null,"DE 55 A 59 AÑOS",null,{"$f":"+LOOKUP($A$15,numeropiramidedistrito,DL105:DL127)","v":6.3000000000000007},{"$f":"+LOOKUP($A$15,numeropiramidedistrito,DM105:DM127)","v":7.65},null,"DE 55 A 59 AÑOS",null,{"$f":"+LOOKUP($A$15,numeropiramidedistrito,EW105:EW127)","v":7.7000000000000011},{"$f":"+LOOKUP($A$15,numeropiramidedistrito,EX105:EX127)","v":9.3500000000000014},null,"DISTRITO SANTA LEONOR",null,0.63,0.37,null,"DISTRITO SANTA LEONOR",784.35,460.65,{"$f":"Poblacion!F40","v":1245},null,"05",11,"DISTRITO SANTA LEONOR",{"$f":"BD45","v":1245},{"$f":"BE45","v":41},{"$f":"BF45","v":32},27,28,29,37,40,38,27,28,29,43,29,47,36,29,30,40,29,38,36,41,40,38,46,48,38,38,35,26,31,47,24,31,null,"DISTRITO SANTA LEONOR",784.35,{"$f":"+CP143*$CO$115","v":25.83},{"$f":"+CQ143*$CO$115","v":20.16},17.010000000000002,17.64,18.27,23.31,25.2,23.94,17.010000000000002,17.64,18.27,27.090000000000003,18.27,29.610000000000003,22.68,18.27,18.900000000000002,25.2,18.27,23.94,22.68,25.83,25.2,23.94,28.98,30.240000000000002,23.94,23.94,22.05,16.380000000000003,19.53,29.610000000000003,15.120000000000001,19.53,null,"DISTRITO SANTA LEONOR",460.65,{"$f":"+EA143*$DZ$115","v":15.169999999999998},{"$f":"+EB143*$DZ$115","v":11.84},9.99,10.36,10.729999999999999,13.69,14.799999999999997,14.06,9.99,10.36,10.729999999999999,15.91,10.729999999999999,17.39,13.32,10.729999999999999,11.1,14.799999999999997,10.729999999999999,14.06,13.32,15.169999999999998,14.799999999999997,14.06,17.02,17.760000000000002,14.06,14.06,12.95,9.620000000000001,11.469999999999999,17.39,8.8800000000000008,11.469999999999999]
[null,null,null,null,null,null,null,null,null,null,null,null,null,null,null,null,null,"DE 60 A 64 AÑOS",null,16,-13,null,"DE 60 A 64 AÑOS",null,16,13,null,"DE 60 A 64 AÑOS",null,{"$f":"+LOOKUP($A$15,numeropiramidedistrito,CC105:CC127)","v":16},{"$f":"+LOOKUP($A$15,numeropiramidedistrito,CD105:CD127)","v":13},null,"DE 60 A 64 AÑOS",null,{"$f":"+LOOKUP($A$15,numeropiramidedistrito,DN105:DN127)","v":7.2000000000000011},{"$f":"+LOOKUP($A$15,numeropiramidedistrito,DO105:DO127)","v":5.8500000000000005},null,"DE 60 A 64 AÑOS",null,{"$f":"+LOOKUP($A$15,numeropiramidedistrito,EY105:EY127)","v":8.8000000000000025},{"$f":"+LOOKUP($A$15,numeropiramidedistrito,EZ105:EZ127)","v":7.1500000000000012},null,"DISTRITO SANTA MARIA",null,0.91,0.09,null,"DISTRITO SANTA MARIA",41378.61,4092.39,{"$f":"Poblacion!F44","v":45471},null,"02",12,"DISTRITO SANTA MARIA",{"$f":"BD49","v":45471},{"$f":"BE49","v":1679},{"$f":"BF49","v":1640},1638,1659,1440,1418,1545,1625,1560,1635,1576,2089,1499,1843,1537,1665,1490,1600,1402,1566,1293,1446,1178,1253,1027,1116,800,876,773,866,608,618,399,365,null,"DISTRITO SANTA MARIA",41378.61,{"$f":"+CP144*$CO$116","v":1527.89},{"$f":"+CQ144*$CO$116","v":1492.4},1490.5800000000002,1509.69,1310.4000000000001,1290.3800000000001,1405.95,1478.75,1419.6,1487.85,1434.1599999999999,1900.9900000000002,1364.09,1677.1299999999999,1398.67,1515.15,1355.9,1456,1275.82,1425.06,1176.6300000000001,1315.8600000000001,1071.98,1140.23,934.56999999999994,1015.5600000000001,728,797.16,703.43000000000006,788.06000000000006,553.28000000000009,562.38,363.09000000000003,332.15,null,"DISTRITO SANTA MARIA",4092.39,{"$f":"+EA144*$DZ$116","v":151.11000000000001},{"$f":"+EB144*$DZ$116","v":147.6},147.42000000000002,149.31,129.6,127.62,139.05000000000001,146.25,140.39999999999998,147.14999999999998,141.83999999999997,188.01000000000002,134.91,165.86999999999998,138.33000000000001,149.85,134.1,144,126.17999999999999,140.94,116.36999999999999,130.14000000000001,106.02,112.77,92.429999999999993,100.44,72,78.839999999999989,69.570000000000007,77.94,54.72,55.62,35.910000000000004,32.849999999999994]
[null,null,null,null,null,null,null,null,null,null,null,null,null,null,null,null,null,"DE 65 A 69 AÑOS",null,18,-9,null,"DE 65 A 69 AÑOS",null,18,9,null,"DE 65 A 69 AÑOS",null,{"$f":"+LOOKUP($A$15,numeropiramidedistrito,CE105:CE127)","v":18},{"$f":"+LOOKUP($A$15,numeropiramidedistrito,CF105:CF127)","v":9},null,"DE 65 A 69 AÑOS",null,{"$f":"+LOOKUP($A$15,numeropiramidedistrito,DP105:DP127)","v":8.1},{"$f":"+LOOKUP($A$15,numeropiramidedistrito,DQ105:DQ127)","v":4.05},null,"DE 65 A 69 AÑOS",null,{"$f":"+LOOKUP($A$15,numeropiramidedistrito,FA105:FA127)","v":9.9},{"$f":"+LOOKUP($A$15,numeropiramidedistrito,FB105:FB127)","v":4.95},null,"DISTRITO SAYAN",null,0.63,0.37,null,"DISTRITO SAYAN",17352.72,10191.280000000001,{"$f":"Poblacion!F50","v":27544},null,"03",13,"DISTRITO SAYAN",{"$f":"BD56","v":27544},{"$f":"BE56","v":1025},{"$f":"BF56","v":994},993,1046,898,908,989,1142,851,1086,939,1274,893,1152,967,1016,914,1038,899,933,741,857,719,792,660,589,470,502,447,381,334,310,182,195,null,"DISTRITO SAYAN",17352.72,{"$f":"+CP145*$CO$117","v":645.75},{"$f":"+CQ145*$CO$117","v":626.22000000000014},625.59,658.98,565.74,572.04000000000008,623.07000000000005,719.46,536.13000000000011,684.18000000000006,591.57000000000005,802.62,562.59,725.76,609.21,640.08000000000004,575.81999999999994,653.94000000000005,566.37,587.79,466.83000000000004,539.91,452.97,498.96000000000004,415.8,371.07,296.10000000000002,316.26,281.61,240.03000000000003,210.42000000000002,195.3,114.66000000000001,122.85000000000001,null,"DISTRITO SAYAN",10191.280000000001,{"$f":"+EA145*$DZ$117","v":379.25},{"$f":"+EB145*$DZ$117","v":367.78000000000003},367.41,387.02,332.26000000000005,335.96000000000004,365.93,422.54,314.87,401.82000000000005,347.43,471.38,330.40999999999997,426.24,357.79,375.92,338.18,384.06000000000006,332.63,345.21,274.17,317.09000000000003,266.03000000000003,293.04000000000002,244.20000000000002,217.93,173.9,185.74,165.39000000000001,140.97000000000003,123.58000000000001,114.7,67.34,72.150000000000006]
[null,null,null,null,null,null,null,null,null,null,null,null,null,null,null,null,null,"DE 70 A 74 AÑOS",null,12,-7,null,"DE 70 A 74 AÑOS",null,12,7,null,"DE 70 A 74 AÑOS",null,{"$f":"+LOOKUP($A$15,numeropiramidedistrito,CG105:CG127)","v":12},{"$f":"+LOOKUP($A$15,numeropiramidedistrito,CH105:CH127)","v":7},null,"DE 70 A 74 AÑOS",null,{"$f":"+LOOKUP($A$15,numeropiramidedistrito,DR105:DR127)","v":5.4},{"$f":"+LOOKUP($A$15,numeropiramidedistrito,DS105:DS127)","v":3.1500000000000004},null,"DE 70 A 74 AÑOS",null,{"$f":"+LOOKUP($A$15,numeropiramidedistrito,FC105:FC127)","v":6.6000000000000005},{"$f":"+LOOKUP($A$15,numeropiramidedistrito,FD105:FD127)","v":3.8500000000000005},null,"DISTRITO VEGUETA",null,0.75,0.25,null,"DISTRITO VEGUETA",22983,7661,{"$f":"Poblacion!F58","v":30644},null,"04",14,"DISTRITO VEGUETA",{"$f":"BD64","v":30644},{"$f":"BE64","v":1368},{"$f":"BF64","v":1399},1210,1153,1063,1031,1123,1135,898,1096,1087,1470,1089,1364,1093,1187,986,1091,886,990,785,905,748,836,625,675,488,496,434,414,349,313,200,253,null,"DISTRITO VEGUETA",22983,{"$f":"+CP146*$CO$118","v":1026},{"$f":"+CQ146*$CO$118","v":1049.25},907.50000000000011,864.75,797.24999999999989,773.25,842.24999999999989,851.25,673.5,822,815.25000000000011,1102.5,816.75,1023,819.75,890.24999999999989,739.5,818.25,664.5,742.5,588.75,678.75,561,627,468.75000000000006,506.24999999999994,366,372,325.5,310.5,261.75,234.75000000000003,150,189.75,null,"DISTRITO VEGUETA",7661,{"$f":"+EA146*$DZ$118","v":342},{"$f":"+EB146*$DZ$118","v":349.75},302.5,288.25,265.75,257.75,280.75,283.75,224.5,274,271.75,367.5,272.25,341,273.25,296.75,246.5,272.75,221.5,247.5,196.25,226.25,187,209,156.25,168.75,122,124,108.5,103.5,87.25,78.25,50,63.25]
[null,null,null,null,null,null,null,null,null,null,null,null,null,null,null,null,null,"DE 75 A 79 AÑOS",null,8,-10,null,"DE 75 A 79 AÑOS",null,{"$f":"+IF($A$16=1,AD119,IF($A$16=2,AI119,AN119))","v":8},10,null,"DE 75 A 79 AÑOS",null,{"$f":"+LOOKUP($A$15,numeropiramidedistrito,CI105:CI127)","v":8},{"$f":"+LOOKUP($A$15,numeropiramidedistrito,CJ105:CJ127)","v":10},null,"DE 75 A 79 AÑOS",null,{"$f":"+LOOKUP($A$15,numeropiramidedistrito,DT105:DT127)","v":3.6000000000000005},{"$f":"+LOOKUP($A$15,numeropiramidedistrito,DU105:DU127)","v":4.5},null,"DE 75 A 79 AÑOS",null,{"$f":"+LOOKUP($A$15,numeropiramidedistrito,FE105:FE127)","v":4.4000000000000012},{"$f":"+LOOKUP($A$15,numeropiramidedistrito,FF105:FF127)","v":5.5000000000000009},null,"PROVINCIA OYON",null,null,null,null,"PROVINCIA OYON",{"$f":"+SUM(AW120:AW125)","v":11186.23},{"$f":"+SUM(AX120:AX125)","v":5950.7699999999995},{"$f":"Poblacion!F65","v":17137},null,null,15,"PROVINCIA OYON",{"$f":"BD71","v":17137},498,542,620,613,673,697,751,782,560,606,538,692,508,636,554,585,512,483,534,509,498,545,456,478,439,408,322,334,298,300,218,255,146,214,null,"PROVINCIA OYON",11186.23,{"$f":"+CP147*$CO$119","v":325.07104744120903},{"$f":"+CQ147*$CO$119","v":353.79218416292235},404.70692653323215,400.1376547820505,439.30284122075045,454.96891579623031,490.21758359106025,510.45292991772186,365.54174009453232,395.5683830308688,351.18117173367568,451.705150259672,331.59857851432571,415.15097625021883,361.62522145066225,381.86056777732392,334.20959094357238,315.2797508315341,348.57015930442901,332.25133162163735,325.07104744120903,355.75044348485733,297.6554169341191,312.01598529497574,286.55861410982084,266.32326778315928,210.18650055435606,218.01953784209604,194.52042597887609,195.82593219349943,142.30017739394293,166.45204236447452,95.301953667503071,139.68916496469626,null,"PROVINCIA OYON",5950.7699999999995,{"$f":"+EA147*$DZ$119","v":172.92895255879088},{"$f":"+EB147*$DZ$119","v":188.20781583707767},215.29307346676779,212.86234521794944,233.69715877924958,242.03108420376958,260.7824164089397,271.54707008227808,194.45825990546768,210.43161696913108,186.81882826632432,240.29484974032792,176.40142148567426,220.84902374978117,192.37477854933766,203.13943222267608,177.79040905642759,167.72024916846587,185.42984069557099,176.74866837836259,172.92895255879088,189.24955651514267,158.34458306588081,165.98401470502421,152.44138589017913,141.67673221684075,111.81349944564393,115.98046215790394,103.47957402112387,104.17406780650055,75.699822606057054,88.547957635525464,50.698046332496936,74.310835035303725]
[null,null,null,null,null,null,null,null,null,null,null,null,null,null,null,null,null,"DE 80 A MAS AÑOS",null,12,-12,null,"DE 80 A MAS AÑOS",null,{"$f":"+IF($A$16=1,AD120,IF($A$16=2,AI120,AN120))","v":12},{"$f":"+IF($A$16=1,AE120,IF($A$16=2,AJ120,AO120))","v":12},null,"DE 80 A MAS AÑOS",null,{"$f":"+LOOKUP($A$15,numeropiramidedistrito,CK105:CK127)","v":12},{"$f":"+LOOKUP($A$15,numeropiramidedistrito,CL105:CL127)","v":12},null,"DE 80 A MAS AÑOS",null,{"$f":"+LOOKUP($A$15,numeropiramidedistrito,DV105:DV127)","v":5.4},{"$f":"+LOOKUP($A$15,numeropiramidedistrito,DW105:DW127)","v":5.4},null,"DE 80 A MAS AÑOS",null,{"$f":"+LOOKUP($A$15,numeropiramidedistrito,FG105:FG127)","v":6.6000000000000005},{"$f":"+LOOKUP($A$15,numeropiramidedistrito,FH105:FH127)","v":6.6000000000000005},null,"DISTRITO OYON",null,0.71,0.28999999999999998,null,"DISTRITO OYON",{"$f":"+AS120*AY120","v":8230.32},{"$f":"+AT120*AY120","v":3361.68},{"$f":"Poblacion!F66","v":11592},null,"05",16,"DISTRITO OYON",{"$f":"BD72","v":11592},255,282,472,471,529,517,553,558,402,442,404,488,373,482,405,421,358,335,359,348,347,377,288,290,260,245,198,199,171,168,112,136,55,114,null,"DISTRITO OYON",8230.32,{"$f":"+CP148*$CO$120","v":181.05},{"$f":"+CQ148*$CO$120","v":200.21999999999997},335.11999999999995,334.40999999999997,375.59,367.07,392.62999999999994,396.18,285.41999999999996,313.82,286.83999999999997,346.48,264.83,342.21999999999997,287.54999999999995,298.90999999999997,254.18,237.85,254.89,247.07999999999998,246.37,267.67,204.48,205.9,184.6,173.95,140.58000000000001,141.29,121.41,119.28,79.52,96.56,39.050000000000004,80.94,null,"DISTRITO OYON",3361.68,{"$f":"+EA148*$DZ$120","v":73.95},{"$f":"+EB148*$DZ$120","v":81.779999999999987},136.88,136.58999999999997,153.41,149.92999999999998,160.36999999999998,161.82,116.57999999999998,128.18,117.15999999999998,141.52000000000001,108.17,139.78,117.44999999999999,122.09,103.82,97.149999999999991,104.11,100.92,100.63,109.33,83.52,84.1,75.400000000000006,71.05,57.42,57.71,49.589999999999996,48.72,32.479999999999997,39.44,15.950000000000001,33.059999999999995]
[null,null,null,null,null,null,null,null,null,null,null,null,null,null,null,null,null,"SUB TOTAL",null,{"$f":"+SUM(T104:T120)","v":210},{"$f":"+SUM(U104:U120)","v":-218},null,"SUB TOTAL",null,{"$f":"+SUM(Y104:Y120)","v":210},{"$f":"+SUM(Z104:Z120)","v":218},null,"SUB TOTAL",null,{"$f":"+SUM(AD104:AD120)","v":210},{"$f":"+SUM(AE104:AE120)","v":218},null,"SUB TOTAL",null,{"$f":"+SUM(AI104:AI120)","v":94.500000000000014},{"$f":"+SUM(AJ104:AJ120)","v":98.100000000000023},null,"SUB TOTAL",null,{"$f":"+SUM(AN104:AN120)","v":115.5},{"$f":"+SUM(AO104:AO120)","v":119.90000000000002},null,"DISTRITO ANDAJES",null,0.6,0.4,null,"DISTRITO ANDAJES",283.8,189.20000000000002,{"$f":"Poblacion!F73","v":473},null,"05",17,"DISTRITO ANDAJES",{"$f":"BD79","v":473},{"$f":"BE79","v":13},{"$f":"BF79","v":21},10,6,10,12,10,12,8,4,6,6,6,4,9,8,12,6,7,7,18,7,15,18,34,20,11,18,16,19,16,22,23,21,null,"DISTRITO ANDAJES",283.8,{"$f":"+CP149*$CO$121","v":7.8},{"$f":"+CQ149*$CO$121","v":12.600000000000001},6,3.6,6,7.2,6,7.2,4.8000000000000007,2.4000000000000004,3.6,3.6,3.6,2.4000000000000004,5.4,4.8000000000000007,7.2,3.6,4.2,4.2,10.8,4.2,9,10.8,20.399999999999999,12,6.6000000000000005,10.8,9.6000000000000014,11.4,9.6000000000000014,13.200000000000001,13.8,12.600000000000001,null,"DISTRITO ANDAJES",189.20000000000002,{"$f":"+EA149*$DZ$121","v":5.2},{"$f":"+EB149*$DZ$121","v":8.4000000000000021},4,2.4000000000000004,4,4.8000000000000007,4,4.8000000000000007,3.2000000000000006,1.6000000000000003,2.4000000000000004,2.4000000000000004,2.4000000000000004,1.6000000000000003,3.6000000000000005,3.2000000000000006,4.8000000000000007,2.4000000000000004,2.8000000000000003,2.8000000000000003,7.2000000000000011,2.8000000000000003,6,7.2000000000000011,13.6,8,4.4000000000000004,7.2000000000000011,6.4000000000000012,7.6000000000000005,6.4000000000000012,8.8000000000000007,9.2000000000000011,8.4000000000000021]
[null,null,null,null,null,null,null,null,null,null,null,null,null,null,null,null,null,null,null,null,null,null,null,null,null,null,null,null,null,null,null,null,null,null,null,null,null,null,null,null,null,null,"DISTRITO CAUJUL",null,0.45,0.55000000000000004,null,"DISTRITO CAUJUL",200.25,244.75000000000003,{"$f":"Poblacion!F75","v":445},null,"05",18,"DISTRITO CAUJUL",{"$f":"BD81","v":445},{"$f":"BE81","v":17},{"$f":"BF81","v":22},9,11,8,11,13,15,12,14,10,16,11,11,11,15,10,11,20,10,9,14,14,17,16,13,18,9,12,7,8,10,12,12,null,"DISTRITO CAUJUL",200.25,{"$f":"+CP150*$CO$122","v":7.65},{"$f":"+CQ150*$CO$122","v":9.9},4.05,4.95,3.6000000000000005,4.95,5.8500000000000005,6.75,5.4,6.3000000000000007,4.5,7.2000000000000011,4.95,4.95,4.95,6.75,4.5,4.95,9,4.5,4.05,6.3000000000000007,6.3000000000000007,7.65,7.2000000000000011,5.8500000000000005,8.1,4.05,5.4,3.1500000000000004,3.6000000000000005,4.5,5.4,5.4,null,"DISTRITO CAUJUL",244.75000000000003,{"$f":"+EA150*$DZ$122","v":9.3500000000000014},{"$f":"+EB150*$DZ$122","v":12.100000000000001},4.95,6.0500000000000007,4.4000000000000012,6.0500000000000007,7.1500000000000012,8.25,6.6000000000000005,7.7000000000000011,5.5000000000000009,8.8000000000000025,6.0500000000000007,6.0500000000000007,6.0500000000000007,8.25,5.5000000000000009,6.0500000000000007,11.000000000000002,5.5000000000000009,4.95,7.7000000000000011,7.7000000000000011,9.3500000000000014,8.8000000000000025,7.1500000000000012,9.9,4.95,6.6000000000000005,3.8500000000000005,4.4000000000000012,5.5000000000000009,6.6000000000000005,6.6000000000000005]
[null,null,null,null,null,null,null,null,null,null,null,null,null,null,null,null,null,null,null,null,null,null,null,null,null,null,null,null,null,null,null,null,null,null,null,null,null,null,null,null,null,null,"DISTRITO COCHAMARCA",null,0.28000000000000003,0.72,null,"DISTRITO COCHAMARCA",333.48,857.52,{"$f":"Poblacion!F77","v":1191},null,"03",19,"DISTRITO COCHAMARCA",{"$f":"BD83","v":1191},{"$f":"BE83","v":50},{"$f":"BF83","v":60},29,38,33,55,68,69,50,56,37,51,35,35,28,33,24,25,38,44,30,35,38,27,23,26,14,16,19,27,9,16,14,18,null,"DISTRITO COCHAMARCA",333.48,{"$f":"+CP151*$CO$123","v":14.000000000000002},{"$f":"+CQ151*$CO$123","v":16.8},8.120000000000001,10.64,9.24,15.4,19.040000000000003,19.32,14.000000000000002,15.68,10.360000000000001,14.280000000000001,9.8000000000000007,9.8000000000000007,7.84,9.24,6.72,7.0000000000000009,10.64,12.320000000000002,8.4,9.8000000000000007,10.64,7.56,6.4399999999999995,7.2800000000000011,3.92,4.4800000000000004,5.32,7.56,2.52,4.4800000000000004,3.92,5.04,null,"DISTRITO COCHAMARCA",857.52,{"$f":"+EA151*$DZ$123","v":36},{"$f":"+EB151*$DZ$123","v":43.2},20.88,27.359999999999996,23.759999999999998,39.599999999999994,48.96,49.68,36,40.32,26.64,36.72,25.2,25.2,20.16,23.759999999999998,17.279999999999998,18,27.359999999999996,31.68,21.6,25.2,27.359999999999996,19.439999999999998,16.559999999999999,18.72,10.08,11.52,13.679999999999998,19.439999999999998,6.4799999999999995,11.52,10.08,12.959999999999999]
[null,null,null,null,null,null,null,null,null,null,null,null,null,null,null,null,null,null,null,null,null,null,null,null,null,null,null,null,null,null,null,null,null,null,null,null,null,null,null,null,null,null,"DISTRITO NAVAN",null,0.34,0.66,null,"DISTRITO NAVAN",276.76000000000005,537.24,{"$f":"Poblacion!F81","v":814},null,"05",20,"DISTRITO NAVAN",{"$f":"BD87","v":814},{"$f":"BE87","v":25},{"$f":"BF87","v":29},20,14,22,25,23,38,20,20,13,19,12,26,31,25,20,23,29,29,39,26,28,32,32,25,23,21,19,23,14,17,15,18,null,"DISTRITO NAVAN",276.76000000000005,{"$f":"+CP152*$CO$124","v":8.5000000000000018},{"$f":"+CQ152*$CO$124","v":9.860000000000003},6.8000000000000007,4.7600000000000007,7.4800000000000013,8.5000000000000018,7.8200000000000021,12.920000000000002,6.8000000000000007,6.8000000000000007,4.4200000000000008,6.4600000000000009,4.080000000000001,8.8400000000000016,10.540000000000003,8.5000000000000018,6.8000000000000007,7.8200000000000021,9.860000000000003,9.860000000000003,13.260000000000003,8.8400000000000016,9.5200000000000014,10.88,10.88,8.5000000000000018,7.8200000000000021,7.1400000000000006,6.4600000000000009,7.8200000000000021,4.7600000000000007,5.7800000000000011,5.1000000000000005,6.120000000000001,null,"DISTRITO NAVAN",537.24,{"$f":"+EA152*$DZ$124","v":16.5},{"$f":"+EB152*$DZ$124","v":19.14},13.2,9.24,14.520000000000001,16.5,15.180000000000001,25.08,13.2,13.2,8.58,12.54,7.9200000000000008,17.16,20.46,16.5,13.2,15.180000000000001,19.14,19.14,25.740000000000002,17.16,18.48,21.12,21.12,16.5,15.180000000000001,13.86,12.54,15.180000000000001,9.24,11.22,9.9,11.879999999999999]
[null,null,null,null,null,null,null,null,null,null,null,null,null,null,null,null,null,null,null,null,null,null,null,null,null,null,null,null,null,null,null,null,null,null,null,null,null,null,null,null,null,null,"DISTRITO PACHANGARA",null,0.71,0.28999999999999998,null,"DISTRITO PACHANGARA",1861.62,760.38,{"$f":"Poblacion!F83","v":2622},null,"05",21,"DISTRITO PACHANGARA",{"$f":"BD89","v":2622},{"$f":"BE89","v":138},{"$f":"BF89","v":128},80,73,71,77,84,90,68,70,68,112,71,78,70,83,88,83,81,71,55,86,73,94,74,79,58,71,61,56,59,54,27,31,null,"DISTRITO PACHANGARA",1861.62,{"$f":"+CP153*$CO$125","v":97.97999999999999},{"$f":"+CQ153*$CO$125","v":90.88},56.8,51.83,50.41,54.669999999999995,59.64,63.9,48.279999999999994,49.699999999999996,48.279999999999994,79.52,50.41,55.38,49.699999999999996,58.93,62.480000000000004,58.93,57.51,50.41,39.049999999999997,61.059999999999995,51.83,66.739999999999995,52.54,56.089999999999996,41.18,50.41,43.31,39.76,41.89,38.339999999999996,19.169999999999998,22.009999999999998,null,"DISTRITO PACHANGARA",760.38,{"$f":"+EA153*$DZ$125","v":40.019999999999996},{"$f":"+EB153*$DZ$125","v":37.120000000000005},23.2,21.17,20.59,22.33,24.36,26.1,19.72,20.3,19.72,32.480000000000004,20.59,22.62,20.3,24.07,25.520000000000003,24.07,23.490000000000002,20.59,15.95,24.939999999999998,21.17,27.26,21.46,22.91,16.82,20.59,17.690000000000001,16.240000000000002,17.11,15.66,7.83,8.99]
[null,null,null,null,null,null,null,null,null,null,null,null,null,null,null,null,null,null,null,null,null,null,null,null,null,null,null,null,null,null,null,null,null,null,null,null,null,null,null,null,null,null,"PROVINCIA HUARAL",null,null,null,null,"PROVINCIA HUARAL",{"$f":"+AW127","v":234.48},{"$f":"+AX127","v":742.52},{"$f":"Poblacion!F87","v":977},null,null,22,"PROVINCIA HUARAL",{"$f":"BD93","v":977},{"$f":"BE93","v":29},{"$f":"BF93","v":26},22,22,22,29,27,36,26,32,27,33,37,34,33,31,21,35,32,34,26,32,31,32,31,36,21,22,22,21,20,17,12,26,null,"PROVINCIA HUARAL",234.48,{"$f":"+CP154*$CO$126","v":6.9599999999999991},{"$f":"+CQ154*$CO$126","v":6.24},5.2799999999999994,5.2799999999999994,5.2799999999999994,6.9599999999999991,6.4799999999999995,8.6399999999999988,6.24,7.68,6.4799999999999995,7.919999999999999,8.879999999999999,8.16,7.919999999999999,7.4399999999999995,5.04,8.4,7.68,8.16,6.24,7.68,7.4399999999999995,7.68,7.4399999999999995,8.6399999999999988,5.04,5.2799999999999994,5.2799999999999994,5.04,4.8,4.08,2.88,6.24,null,"PROVINCIA HUARAL",742.52,{"$f":"+EA154*$DZ$126","v":22.04},{"$f":"+EB154*$DZ$126","v":19.760000000000002},16.72,16.72,16.72,22.04,20.52,27.36,19.760000000000002,24.32,20.52,25.08,28.12,25.84,25.08,23.56,15.96,26.6,24.32,25.84,19.760000000000002,24.32,23.56,24.32,23.56,27.36,15.96,16.72,16.72,15.96,15.200000000000001,12.92,9.1199999999999992,19.760000000000002]
[null,null,null,null,null,null,null,null,null,null,null,null,null,null,null,null,null,null,null,null,null,null,null,null,null,null,null,null,null,null,null,null,null,null,null,null,null,null,null,null,null,null,"IHUARI - ACOTAMA",null,0.24,0.76,null,"IHUARI - ACOTAMA",{"$f":"+AS127*AY127","v":234.48},{"$f":"+AT127*AY127","v":742.52},{"$f":"Poblacion!F88","v":977},null,"03",23,"IHUARI - ACOTAMA",{"$f":"BD94","v":977},{"$f":"BE94","v":29},26,22,22,22,29,27,36,26,32,27,33,37,34,33,31,21,35,32,34,26,32,31,32,31,36,21,22,22,21,20,17,12,26,null,"IHUARI - ACOTAMA",234.48,{"$f":"+CP155*$CO$127","v":6.9599999999999991},{"$f":"+CQ155*$CO$127","v":6.24},5.2799999999999994,5.2799999999999994,5.2799999999999994,6.9599999999999991,6.4799999999999995,8.6399999999999988,6.24,7.68,6.4799999999999995,7.919999999999999,8.879999999999999,8.16,7.919999999999999,7.4399999999999995,5.04,8.4,7.68,8.16,6.24,7.68,7.4399999999999995,7.68,7.4399999999999995,8.6399999999999988,5.04,5.2799999999999994,5.2799999999999994,5.04,4.8,4.08,2.88,6.24,null,"IHUARI - ACOTAMA",742.52,{"$f":"+EA155*$DZ$127","v":22.04},{"$f":"+EB155*$DZ$127","v":19.760000000000002},16.72,16.72,16.72,22.04,20.52,27.36,19.760000000000002,24.32,20.52,25.08,28.12,25.84,25.08,23.56,15.96,26.6,24.32,25.84,19.760000000000002,24.32,23.56,24.32,23.56,27.36,15.96,16.72,16.72,15.96,15.200000000000001,12.92,9.1199999999999992,19.760000000000002]
[]
[]
[null,null,null,null,null,null,null,null,null,null,null,null,null,null,null,null,null,null,null,null,null,null,null,null,null,null,null,null,null,null,null,null,null,null,null,null,null,null,null,null,null,null,null,null,"DIRECCION DE SALUD","URBANA\n%","RURAL\n%",null,null,null,null,null,null,null,null,null,null,null,null,null,null,null,null,null,null,null,null,null,null,null,null,null,null,null,null,null,null,null,null,null,null,null,null,null,null,null,null,null,null,null,null,"DESCRIPCION",null,"ZONA URBANA",null,null,null,null,null,null,null,null,null,null,null,null,null,null,null,null,null,null,null,null,null,null,null,null,null,null,null,null,null,null,null,null,null,null,"DESCRIPCION",null,"ZONA RURAL"]
[null,null,null,null,null,null,null,null,null,null,null,null,null,null,null,null,null,null,null,null,null,null,null,null,null,null,null,null,null,null,null,null,null,null,null,null,null,null,null,null,null,null,null,null,"PROVINCIA",null,null,null,null,null,null,null,null,null,null,null,null,null,null,null,null,null,null,null,null,null,null,null,null,null,null,null,null,null,null,null,null,null,null,null,null,null,null,null,null,null,null,null,null,null,null,null,null,"Menor de 5 años",null,"5 - 9",null,"10 - 14",null,"15 - 19",null,"20 - 24",null,"25 - 29",null,"30 - 34",null,"35 - 39",null,"40 - 44",null,"45 - 49",null,"50 - 54",null,"55 - 59",null,"60 - 64",null,"65 - 69",null,"70 - 74",null,"75 - 79",null,"80 +++",null,null,null,null,"Menor de 5 años",null,"5 - 9",null,"10 - 14",null,"15 - 19",null,"20 - 24",null,"25 - 29",null,"30 - 34",null,"35 - 39",null,"40 - 44",null,"45 - 49",null,"50 - 54",null,"55 - 59",null,"60 - 64",null,"65 - 69",null,"70 - 74",null,"75 - 79",null,"80 +++"]
[null,null,null,null,null,null,null,null,null,null,null,null,null,null,null,null,null,null,null,null,null,null,null,null,null,null,null,null,null,null,null,null,null,null,null,null,null,null,null,null,null,null,null,null,"DISTRITO",null,null,null,null,null,null,null,null,null,null,null,null,null,null,null,null,null,null,null,null,null,null,null,null,null,null,null,null,null,null,null,null,null,null,null,null,null,null,null,null,null,null,null,null,null,null,null,null,"M","F","M","F","M","F","M","F","M","F","M","F","M","F","M","F","M","F","M","F","M","F","M","F","M","F","M","F","M","F","M","F","M","F",null,null,null,"M","F","M","F","M","F","M","F","M","F","M","F","M","F","M","F","M","F","M","F","M","F","M","F","M","F","M","F","M","F","M","F","M","F"]
[null,null,null,null,null,null,null,null,null,null,null,null,null,null,null,null,null,null,null,null,null,null,null,null,null,null,null,null,null,null,null,null,null,null,null,null,null,null,null,null,null,null,null,null,"HUAURA - OYON",null,null,null,null,null,null,null,null,null,null,null,null,null,null,null,null,null,null,null,null,null,null,null,null,null,null,null,null,null,null,null,null,null,null,null,null,null,null,null,null,null,null,null,null,null,null,"HUAURA - OYON",null,{"$f":"+BE105/$BD$105","v":3.1687624180536701E-2},{"$f":"BF105/$BD$105","v":3.1273831548781363E-2},{"$f":"BG105/$BD$105","v":3.5298905330401448E-2},3.4279812733185824E-2,3.149953662064791E-2,3.1643167120926623E-2,3.4447381650177654E-2,3.6256441998926192E-2,3.1109682405605694E-2,3.4714124007838125E-2,3.3103410540426856E-2,4.3814142132639344E-2,3.3223102623992452E-2,3.9573622600601197E-2,3.4331109340428226E-2,3.6095712629566679E-2,3.358559864850539E-2,3.5852908688619338E-2,3.2398937134297937E-2,3.4816717222322914E-2,2.9468190973848989E-2,3.3459067017307477E-2,2.8284949233457698E-2,3.029577623735966E-2,2.5084040941532128E-2,2.5415759001699626E-2,1.909259721562016E-2,2.0823002766597019E-2,1.7232240259629227E-2,1.8340246976065004E-2,1.3343957430655536E-2,1.3644897526477599E-2,8.0296289203432084E-3,9.9788999955542947E-3,null,"HUAURA - OYON",null,{"$f":"+BE105/$BD$105","v":3.1687624180536701E-2},3.1273831548781363E-2,3.5298905330401448E-2,3.4279812733185824E-2,3.149953662064791E-2,3.1643167120926623E-2,3.4447381650177654E-2,3.6256441998926192E-2,3.1109682405605694E-2,3.4714124007838125E-2,3.3103410540426856E-2,4.3814142132639344E-2,3.3223102623992452E-2,3.9573622600601197E-2,3.4331109340428226E-2,3.6095712629566679E-2,3.358559864850539E-2,3.5852908688619338E-2,3.2398937134297937E-2,3.4816717222322914E-2,2.9468190973848989E-2,3.3459067017307477E-2,2.8284949233457698E-2,3.029577623735966E-2,2.5084040941532128E-2,2.5415759001699626E-2,1.909259721562016E-2,2.0823002766597019E-2,1.7232240259629227E-2,1.8340246976065004E-2,1.3343957430655536E-2,1.3644897526477599E-2,8.0296289203432084E-3,9.9788999955542947E-3]
[null,null,null,null,null,null,null,null,null,null,null,null,null,null,null,null,null,null,null,null,null,null,null,null,null,null,null,null,null,null,null,null,null,null,null,null,null,null,null,null,null,null,null,null,"PROVINCIA HUAURA",null,null,null,null,null,null,null,null,null,null,null,null,null,null,null,null,null,null,null,null,null,null,null,null,null,null,null,null,null,null,null,null,null,null,null,null,null,null,null,null,null,null,null,null,null,null,"PROVINCIA HUAURA",null,{"$f":"+BE106/$BD$106","v":3.1858929723699705E-2},{"$f":"BF14/$BD$14","v":3.1268341943033795E-2},3.5289442696580062E-2,3.4228572053532046E-2,3.1045960124387994E-2,3.1086061763815925E-2,3.3885885316602443E-2,3.5668585469353233E-2,3.1027732106466206E-2,3.4680626897992367E-2,3.3229676671418101E-2,4.4064410524128426E-2,3.3430184868557762E-2,3.9744370276664859E-2,3.4458245079346563E-2,3.623365402492864E-2,3.386036609151194E-2,3.6332085321706287E-2,3.2475036729456112E-2,3.5136327346037048E-2,2.9503869808204797E-2,3.3565072201178991E-2,2.8377378300638346E-2,3.0437144325800303E-2,2.5027068606613852E-2,2.5475477847489821E-2,1.9102962782033009E-2,2.0900245349121226E-2,1.7203603314582778E-2,1.8381133272330232E-2,1.3357491533085675E-2,1.3554354126640977E-2,7.9838718497428022E-3,9.7629263989092354E-3,null,"PROVINCIA HUAURA",null,{"$f":"+BE106/$BD$106","v":3.1858929723699705E-2},{"$f":"+BF106/$BD$106","v":3.1268341943033795E-2},3.5289442696580062E-2,3.4228572053532046E-2,3.1045960124387994E-2,3.1086061763815925E-2,3.3885885316602443E-2,3.5668585469353233E-2,3.1027732106466206E-2,3.4680626897992367E-2,3.3229676671418101E-2,4.4064410524128426E-2,3.3430184868557762E-2,3.9744370276664859E-2,3.4458245079346563E-2,3.623365402492864E-2,3.386036609151194E-2,3.6332085321706287E-2,3.2475036729456112E-2,3.5136327346037048E-2,2.9503869808204797E-2,3.3565072201178991E-2,2.8377378300638346E-2,3.0437144325800303E-2,2.5027068606613852E-2,2.5475477847489821E-2,1.9102962782033009E-2,2.0900245349121226E-2,1.7203603314582778E-2,1.8381133272330232E-2,1.3357491533085675E-2,1.3554354126640977E-2,7.9838718497428022E-3,9.7629263989092354E-3]
[null,null,null,null,null,null,null,null,null,null,null,null,null,null,null,null,null,null,null,null,null,null,null,null,null,null,null,null,null,null,null,null,null,null,null,null,null,null,null,null,null,null,null,null,"DISTRITO HUACHO",0.97,0.03,null,null,null,null,null,null,null,null,null,null,null,null,null,null,null,null,null,null,null,null,null,null,null,null,null,null,null,null,null,null,null,null,null,null,null,null,null,null,null,null,null,null,null,null,"DISTRITO HUACHO",null,{"$f":"+BE107/$BD$107","v":2.2747747747747748E-2},{"$f":"BF15/$BD$15","v":2.2541291291291291E-2},3.3314564564564567E-2,3.1062312312312313E-2,2.8828828828828829E-2,2.7552552552552553E-2,3.2770270270270269E-2,3.168168168168168E-2,2.9617117117117116E-2,3.0518018018018019E-2,3.0593093093093094E-2,4.0052552552552551E-2,3.1625375375375374E-2,3.6692942942942945E-2,3.4328078078078077E-2,3.3783783783783786E-2,3.5003753753753752E-2,3.6280030030030032E-2,3.4459459459459461E-2,3.6092342342342341E-2,3.292042042042042E-2,3.6261261261261259E-2,3.2207207207207204E-2,3.3971471471471469E-2,2.9110360360360361E-2,2.9861111111111113E-2,2.3085585585585586E-2,2.4831081081081081E-2,2.0101351351351351E-2,2.2860360360360359E-2,1.5108858858858858E-2,1.5784534534534534E-2,9.3468468468468468E-3,1.2180930930930931E-2,null,"DISTRITO HUACHO",null,{"$f":"+BE107/$BD$107","v":2.2747747747747748E-2},{"$f":"+BF107/$BD$107","v":2.2541291291291291E-2},3.3314564564564567E-2,3.1062312312312313E-2,2.8828828828828829E-2,2.7552552552552553E-2,3.2770270270270269E-2,3.168168168168168E-2,2.9617117117117116E-2,3.0518018018018019E-2,3.0593093093093094E-2,4.0052552552552551E-2,3.1625375375375374E-2,3.6692942942942945E-2,3.4328078078078077E-2,3.3783783783783786E-2,3.5003753753753752E-2,3.6280030030030032E-2,3.4459459459459461E-2,3.6092342342342341E-2,3.292042042042042E-2,3.6261261261261259E-2,3.2207207207207204E-2,3.3971471471471469E-2,2.9110360360360361E-2,2.9861111111111113E-2,2.3085585585585586E-2,2.4831081081081081E-2,2.0101351351351351E-2,{"$f":"+CH107/$BD$107","v":2.2860360360360359E-2},1.5108858858858858E-2,1.5784534534534534E-2,9.3468468468468468E-3,1.2180930930930931E-2]
[null,null,null,null,null,null,null,null,null,null,null,null,null,null,null,null,null,null,null,null,null,null,null,null,null,null,null,null,null,null,null,null,null,null,null,null,null,null,null,null,null,null,null,null,"DISTRITO AMBAR",0.16,0.84,null,null,null,null,null,null,null,null,null,null,null,null,null,null,null,null,null,null,null,null,null,null,null,null,null,null,null,null,null,null,null,null,null,null,null,null,null,null,null,null,null,null,null,null,"DISTRITO AMBAR",null,{"$f":"+BE108/$BD$108","v":3.7310806054206266E-2},3.6254839845124953E-2,3.2734952481520592E-2,2.6047166490672298E-2,2.6047166490672298E-2,3.0623020063357972E-2,2.9567053854276663E-2,3.5550862372404082E-2,3.2030975008799721E-2,3.7662794790566702E-2,2.7807110172474482E-2,4.5054558254135867E-2,2.3231256599788808E-2,3.6606828581485396E-2,2.9919042590637098E-2,4.2590637099612812E-2,2.8159098908834918E-2,2.8511087645195353E-2,3.0975008799718408E-2,3.3438929954241463E-2,2.5343189017951427E-2,3.4142907426962341E-2,3.0975008799718408E-2,2.6047166490672298E-2,2.3583245336149243E-2,2.8511087645195353E-2,2.5695177754311863E-2,2.7807110172474482E-2,2.2527279127067933E-2,1.7951425554382259E-2,2.4639211545230553E-2,1.0559662090813094E-2,9.1517071453713489E-3,1.6895459345300949E-2,null,"DISTRITO AMBAR",null,{"$f":"+BE108/$BD$108","v":3.7310806054206266E-2},{"$f":"+BF108/$BD$108","v":3.6254839845124953E-2},3.2734952481520592E-2,2.6047166490672298E-2,2.6047166490672298E-2,3.0623020063357972E-2,2.9567053854276663E-2,3.5550862372404082E-2,3.2030975008799721E-2,3.7662794790566702E-2,2.7807110172474482E-2,4.5054558254135867E-2,2.3231256599788808E-2,3.6606828581485396E-2,2.9919042590637098E-2,4.2590637099612812E-2,2.8159098908834918E-2,2.8511087645195353E-2,3.0975008799718408E-2,3.3438929954241463E-2,2.5343189017951427E-2,3.4142907426962341E-2,3.0975008799718408E-2,2.6047166490672298E-2,2.3583245336149243E-2,2.8511087645195353E-2,2.5695177754311863E-2,2.7807110172474482E-2,2.2527279127067933E-2,1.7951425554382259E-2,2.4639211545230553E-2,1.0559662090813094E-2,9.1517071453713489E-3,1.6895459345300949E-2]
[null,null,null,null,null,null,null,null,null,null,null,null,null,null,null,null,null,null,null,null,null,null,null,null,null,null,null,null,null,null,null,null,null,null,null,null,null,null,null,null,null,null,null,null,"DISTRITO CARQUIN",0.98,0.02,null,null,null,null,null,null,null,null,null,null,null,null,null,null,null,null,null,null,null,null,null,null,null,null,null,null,null,null,null,null,null,null,null,null,null,null,null,null,null,null,null,null,null,null,"DISTRITO CARQUIN",null,{"$f":"+BE109/$BD$109","v":2.4717218265605363E-2},2.4088814411395057E-2,3.3410138248847927E-2,3.1734394637620442E-2,3.4038542103058234E-2,3.466694595726854E-2,3.4352744030163383E-2,3.864683703393381E-2,3.1943862589023882E-2,3.6237955592794302E-2,3.1943862589023882E-2,4.0636782572266446E-2,3.3514872224549644E-2,4.3045664013405947E-2,3.7285295349811481E-2,3.7180561374109758E-2,3.5609551738583996E-2,4.2521994134897358E-2,3.414327607875995E-2,3.5923753665689152E-2,2.8173439463762044E-2,3.2467532467532464E-2,2.974444909928781E-2,3.2362798491830748E-2,2.5974025974025976E-2,2.3250942605781314E-2,1.6652702136573105E-2,2.1156263091746962E-2,1.8747381650607457E-2,1.8747381650607457E-2,1.2149141181399247E-2,1.2987012987012988E-2,5.131964809384164E-3,7.331378299120235E-3,null,"DISTRITO CARQUIN",null,{"$f":"+BE109/$BD$109","v":2.4717218265605363E-2},{"$f":"+BF109/$BD$109","v":2.4088814411395057E-2},3.3410138248847927E-2,3.1734394637620442E-2,3.4038542103058234E-2,3.466694595726854E-2,3.4352744030163383E-2,3.864683703393381E-2,3.1943862589023882E-2,3.6237955592794302E-2,3.1943862589023882E-2,4.0636782572266446E-2,3.3514872224549644E-2,4.3045664013405947E-2,3.7285295349811481E-2,3.7180561374109758E-2,3.5609551738583996E-2,4.2521994134897358E-2,3.414327607875995E-2,3.5923753665689152E-2,2.8173439463762044E-2,3.2467532467532464E-2,2.974444909928781E-2,3.2362798491830748E-2,2.5974025974025976E-2,2.3250942605781314E-2,1.6652702136573105E-2,2.1156263091746962E-2,1.8747381650607457E-2,1.8747381650607457E-2,1.2149141181399247E-2,1.2987012987012988E-2,5.131964809384164E-3,7.331378299120235E-3]
[null,null,null,null,null,null,null,null,null,null,null,null,null,null,null,null,null,null,null,null,null,null,null,null,null,null,null,null,null,null,null,null,null,null,null,null,null,null,null,null,null,null,null,null,"DISTRITO CHECRAS",0.68,0.32,null,null,null,null,null,null,null,null,null,null,null,null,null,null,null,null,null,null,null,null,null,null,null,null,null,null,null,null,null,null,null,null,null,null,null,null,null,null,null,null,null,null,null,null,"DISTRITO CHECRAS",null,{"$f":"+BE110/$BD$110","v":1.2720156555772993E-2},2.0547945205479451E-2,2.0547945205479451E-2,1.2720156555772993E-2,2.2504892367906065E-2,2.446183953033268E-2,4.3052837573385516E-2,3.5225048923679059E-2,1.7612524461839529E-2,2.8375733855185908E-2,2.6418786692759294E-2,2.7397260273972601E-2,1.6634050880626222E-2,2.1526418786692758E-2,1.9569471624266144E-2,2.3483365949119372E-2,2.6418786692759294E-2,1.5655577299412915E-2,2.6418786692759294E-2,1.6634050880626222E-2,2.9354207436399216E-2,3.816046966731898E-2,4.1095890410958902E-2,3.6203522504892366E-2,3.3268101761252444E-2,3.0332681017612523E-2,3.4246575342465752E-2,3.7181996086105673E-2,3.5225048923679059E-2,4.1095890410958902E-2,1.8590998043052837E-2,3.0332681017612523E-2,2.8375733855185908E-2,4.7945205479452052E-2,null,"DISTRITO CHECRAS",null,{"$f":"+BE110/$BD$110","v":1.2720156555772993E-2},{"$f":"+BF110/$BD$110","v":2.0547945205479451E-2},2.0547945205479451E-2,1.2720156555772993E-2,2.2504892367906065E-2,2.446183953033268E-2,4.3052837573385516E-2,3.5225048923679059E-2,1.7612524461839529E-2,2.8375733855185908E-2,2.6418786692759294E-2,2.7397260273972601E-2,1.6634050880626222E-2,2.1526418786692758E-2,1.9569471624266144E-2,2.3483365949119372E-2,2.6418786692759294E-2,1.5655577299412915E-2,2.6418786692759294E-2,1.6634050880626222E-2,2.9354207436399216E-2,3.816046966731898E-2,4.1095890410958902E-2,3.6203522504892366E-2,3.3268101761252444E-2,3.0332681017612523E-2,3.4246575342465752E-2,3.7181996086105673E-2,3.5225048923679059E-2,4.1095890410958902E-2,1.8590998043052837E-2,3.0332681017612523E-2,2.8375733855185908E-2,4.7945205479452052E-2]
[null,null,null,null,null,null,null,null,null,null,null,null,null,null,null,null,null,null,null,null,null,null,null,null,null,null,null,null,null,null,null,null,null,null,null,null,null,null,null,null,null,null,null,null,"DISTRITO HUALMAY",1,0,null,null,null,null,null,null,null,null,null,null,null,null,null,null,null,null,null,null,null,null,null,null,null,null,null,null,null,null,null,null,null,null,null,null,null,null,null,null,null,null,null,null,null,null,"DISTRITO HUALMAY",null,{"$f":"+BE111/$BD$111","v":2.7360740844675178E-2},2.6168093166830362E-2,3.4709555212571908E-2,3.3095973060193629E-2,3.0009120246948226E-2,2.9395257471586923E-2,3.2920583695804688E-2,3.3394134979654835E-2,3.1149151115476358E-2,3.3166128805949206E-2,3.2517188157710118E-2,4.2602076610074362E-2,3.3429212852532621E-2,3.749824610635611E-2,3.4884944576960855E-2,3.6288059492072401E-2,3.4709555212571908E-2,3.6708993966605867E-2,3.5095411814227588E-2,3.6463448856461342E-2,3.2429493475515644E-2,3.3902764136382768E-2,3.027220429353164E-2,3.1710397081520979E-2,2.6150554230391469E-2,2.6413638276974884E-2,2.0257471586922968E-2,2.2748000561245967E-2,1.7679247930405501E-2,1.9748842430195031E-2,1.3838220850287639E-2,1.5188718956082503E-2,7.8925213975024559E-3,1.0768906973481127E-2,null,"DISTRITO HUALMAY",null,{"$f":"+BE111/$BD$111","v":2.7360740844675178E-2},{"$f":"+BF111/$BD$111","v":2.6168093166830362E-2},3.4709555212571908E-2,3.3095973060193629E-2,3.0009120246948226E-2,2.9395257471586923E-2,3.2920583695804688E-2,3.3394134979654835E-2,3.1149151115476358E-2,3.3166128805949206E-2,3.2517188157710118E-2,4.2602076610074362E-2,3.3429212852532621E-2,3.749824610635611E-2,3.4884944576960855E-2,3.6288059492072401E-2,3.4709555212571908E-2,3.6708993966605867E-2,3.5095411814227588E-2,3.6463448856461342E-2,3.2429493475515644E-2,3.3902764136382768E-2,3.027220429353164E-2,3.1710397081520979E-2,2.6150554230391469E-2,2.6413638276974884E-2,2.0257471586922968E-2,2.2748000561245967E-2,1.7679247930405501E-2,1.9748842430195031E-2,1.3838220850287639E-2,1.5188718956082503E-2,7.8925213975024559E-3,1.0768906973481127E-2]
[null,null,null,null,null,null,null,null,null,null,null,null,null,null,null,null,null,null,null,null,null,null,null,null,null,null,null,null,null,null,null,null,null,null,null,null,null,null,null,null,null,null,null,null,"DISTRITO HUAURA                   ",0.86,0.14000000000000001,null,null,null,null,null,null,null,null,null,null,null,null,null,null,null,null,null,null,null,null,null,null,null,null,null,null,null,null,null,null,null,null,null,null,null,null,null,null,null,null,null,null,null,null,"DISTRITO HUAURA                   ",null,{"$f":"+BE112/$BD$112","v":3.3040125316303168E-2},3.2582238823954696E-2,3.6944210145800696E-2,3.5257259910832631E-2,3.1907458729967468E-2,3.4269189058922761E-2,3.3401614652367753E-2,3.8510663935413907E-2,3.0991685745270513E-2,3.6148933606458607E-2,3.6197132184600557E-2,4.7138209422822028E-2,3.7329798770936257E-2,4.1739968670924207E-2,3.4220990480780818E-2,3.7329798770936257E-2,3.5281359199903606E-2,3.7209302325581395E-2,3.0919387878057598E-2,3.6365827208097362E-2,2.7665983853476322E-2,3.5691047114110135E-2,2.6967104470418123E-2,3.0630196409205928E-2,2.4099289070972408E-2,2.4099289070972408E-2,1.6363417279190263E-2,1.8098566092300278E-2,1.4242679840944692E-2,1.542354500542234E-2,1.0892878660079527E-2,1.0362694300518135E-2,6.1694180021689363E-3,7.2538860103626944E-3,null,"DISTRITO HUAURA                   ",null,{"$f":"+BE112/$BD$112","v":3.3040125316303168E-2},{"$f":"+BF112/$BD$112","v":3.2582238823954696E-2},3.6944210145800696E-2,3.5257259910832631E-2,3.1907458729967468E-2,3.4269189058922761E-2,3.3401614652367753E-2,3.8510663935413907E-2,3.0991685745270513E-2,3.6148933606458607E-2,3.6197132184600557E-2,4.7138209422822028E-2,3.7329798770936257E-2,4.1739968670924207E-2,3.4220990480780818E-2,3.7329798770936257E-2,3.5281359199903606E-2,3.7209302325581395E-2,3.0919387878057598E-2,3.6365827208097362E-2,2.7665983853476322E-2,3.5691047114110135E-2,2.6967104470418123E-2,3.0630196409205928E-2,2.4099289070972408E-2,2.4099289070972408E-2,1.6363417279190263E-2,1.8098566092300278E-2,1.4242679840944692E-2,1.542354500542234E-2,1.0892878660079527E-2,1.0362694300518135E-2,6.1694180021689363E-3,7.2538860103626944E-3]
[null,null,null,null,null,null,null,null,null,null,null,null,null,null,null,null,null,null,null,null,null,null,null,null,null,null,null,null,null,null,null,null,null,null,null,null,null,null,null,null,null,null,null,null,"DISTRITO LEONCIO PRADO",0.16,0.84,null,null,null,null,null,null,null,null,null,null,null,null,null,null,null,null,null,null,null,null,null,null,null,null,null,null,null,null,null,null,null,null,null,null,null,null,null,null,null,null,null,null,null,null,"DISTRITO LEONCIO PRADO",null,{"$f":"+BE113/$BD$113","v":3.8554216867469883E-2},3.0522088353413655E-2,2.2088353413654619E-2,3.0120481927710843E-2,2.2088353413654619E-2,3.4136546184738957E-2,3.3734939759036145E-2,4.0963855421686748E-2,3.4538152610441769E-2,4.779116465863454E-2,2.1686746987951807E-2,4.0963855421686748E-2,3.2931726907630521E-2,3.7751004016064259E-2,2.9718875502008031E-2,3.6546184738955823E-2,2.9718875502008031E-2,3.2530120481927709E-2,3.1325301204819279E-2,3.614457831325301E-2,2.4497991967871485E-2,3.4939759036144581E-2,2.5301204819277109E-2,2.4899598393574297E-2,2.4497991967871485E-2,3.0522088353413655E-2,2.5301204819277109E-2,3.2128514056224897E-2,1.5261044176706828E-2,1.7269076305220885E-2,1.1646586345381526E-2,1.8072289156626505E-2,1.2048192771084338E-2,1.7269076305220885E-2,null,"DISTRITO LEONCIO PRADO",null,{"$f":"+BE113/$BD$113","v":3.8554216867469883E-2},{"$f":"+BF113/$BD$113","v":3.0522088353413655E-2},2.2088353413654619E-2,3.0120481927710843E-2,2.2088353413654619E-2,3.4136546184738957E-2,3.3734939759036145E-2,4.0963855421686748E-2,3.4538152610441769E-2,4.779116465863454E-2,2.1686746987951807E-2,4.0963855421686748E-2,3.2931726907630521E-2,3.7751004016064259E-2,2.9718875502008031E-2,3.6546184738955823E-2,2.9718875502008031E-2,3.2530120481927709E-2,3.1325301204819279E-2,3.614457831325301E-2,2.4497991967871485E-2,3.4939759036144581E-2,2.5301204819277109E-2,2.4899598393574297E-2,2.4497991967871485E-2,3.0522088353413655E-2,2.5301204819277109E-2,3.2128514056224897E-2,1.5261044176706828E-2,1.7269076305220885E-2,1.1646586345381526E-2,1.8072289156626505E-2,1.2048192771084338E-2,1.7269076305220885E-2]
[null,null,null,null,null,null,null,null,null,null,null,null,null,null,null,null,null,null,null,null,null,null,null,null,null,null,null,null,null,null,null,null,null,null,null,null,null,null,null,null,null,null,null,null,"DISTRITO PACCHO",0.63,0.37,null,null,null,null,null,null,null,null,null,null,null,null,null,null,null,null,null,null,null,null,null,null,null,null,null,null,null,null,null,null,null,null,null,null,null,null,null,null,null,null,null,null,null,null,"DISTRITO PACCHO",null,{"$f":"+BE114/$BD$114","v":1.8746338605741066E-2},2.1675454012888107E-2,2.1675454012888107E-2,1.9332161687170474E-2,2.2261277094317515E-2,2.2847100175746926E-2,2.8705330990041009E-2,2.6947861745752782E-2,2.0503807850029292E-2,2.9291154071470416E-2,1.9332161687170474E-2,2.6947861745752782E-2,2.0503807850029292E-2,2.3432923257176334E-2,2.6947861745752782E-2,1.9332161687170474E-2,2.2847100175746926E-2,2.5190392501464556E-2,3.1048623315758642E-2,3.2220269478617461E-2,3.2220269478617461E-2,4.6280023432923256E-2,3.5735207967193906E-2,3.4563561804335091E-2,3.2220269478617461E-2,3.1048623315758642E-2,2.9291154071470416E-2,2.9876977152899824E-2,2.5190392501464556E-2,3.2806092560046865E-2,3.6321031048623317E-2,3.6906854130052721E-2,2.753368482718219E-2,3.5149384885764502E-2,null,"DISTRITO PACCHO",null,{"$f":"+BE114/$BD$114","v":1.8746338605741066E-2},{"$f":"+BF114/$BD$114","v":2.1675454012888107E-2},2.1675454012888107E-2,1.9332161687170474E-2,2.2261277094317515E-2,2.2847100175746926E-2,2.8705330990041009E-2,2.6947861745752782E-2,2.0503807850029292E-2,2.9291154071470416E-2,1.9332161687170474E-2,2.6947861745752782E-2,2.0503807850029292E-2,2.3432923257176334E-2,2.6947861745752782E-2,1.9332161687170474E-2,2.2847100175746926E-2,2.5190392501464556E-2,3.1048623315758642E-2,3.2220269478617461E-2,3.2220269478617461E-2,4.6280023432923256E-2,3.5735207967193906E-2,3.4563561804335091E-2,3.2220269478617461E-2,3.1048623315758642E-2,2.9291154071470416E-2,2.9876977152899824E-2,2.5190392501464556E-2,3.2806092560046865E-2,3.6321031048623317E-2,3.6906854130052721E-2,2.753368482718219E-2,3.5149384885764502E-2]
[null,null,null,null,null,null,null,null,null,null,null,null,null,null,null,null,null,null,null,null,null,null,null,null,null,null,null,null,null,null,null,null,null,null,null,null,null,null,null,null,null,null,null,null,"DISTRITO SANTA LEONOR",0.63,0.37,null,null,null,null,null,null,null,null,null,null,null,null,null,null,null,null,null,null,null,null,null,null,null,null,null,null,null,null,null,null,null,null,null,null,null,null,null,null,null,null,null,null,null,null,"DISTRITO SANTA LEONOR",null,{"$f":"+BE115/$BD$115","v":3.2931726907630521E-2},2.5702811244979921E-2,2.1686746987951807E-2,2.2489959839357431E-2,2.3293172690763052E-2,2.9718875502008031E-2,3.2128514056224897E-2,3.0522088353413655E-2,2.1686746987951807E-2,2.2489959839357431E-2,2.3293172690763052E-2,3.4538152610441769E-2,2.3293172690763052E-2,3.7751004016064259E-2,2.891566265060241E-2,2.3293172690763052E-2,2.4096385542168676E-2,3.2128514056224897E-2,2.3293172690763052E-2,3.0522088353413655E-2,2.891566265060241E-2,3.2931726907630521E-2,3.2128514056224897E-2,3.0522088353413655E-2,3.6947791164658635E-2,3.8554216867469883E-2,3.0522088353413655E-2,3.0522088353413655E-2,2.8112449799196786E-2,2.0883534136546186E-2,2.4899598393574297E-2,3.7751004016064259E-2,1.9277108433734941E-2,2.4899598393574297E-2,null,"DISTRITO SANTA LEONOR",null,{"$f":"+BE115/$BD$115","v":3.2931726907630521E-2},{"$f":"+BF115/$BD$115","v":2.5702811244979921E-2},2.1686746987951807E-2,2.2489959839357431E-2,2.3293172690763052E-2,2.9718875502008031E-2,3.2128514056224897E-2,3.0522088353413655E-2,2.1686746987951807E-2,2.2489959839357431E-2,2.3293172690763052E-2,3.4538152610441769E-2,2.3293172690763052E-2,3.7751004016064259E-2,2.891566265060241E-2,2.3293172690763052E-2,2.4096385542168676E-2,3.2128514056224897E-2,2.3293172690763052E-2,3.0522088353413655E-2,2.891566265060241E-2,3.2931726907630521E-2,3.2128514056224897E-2,3.0522088353413655E-2,3.6947791164658635E-2,3.8554216867469883E-2,3.0522088353413655E-2,3.0522088353413655E-2,2.8112449799196786E-2,2.0883534136546186E-2,2.4899598393574297E-2,3.7751004016064259E-2,1.9277108433734941E-2,2.4899598393574297E-2]
[null,null,null,null,null,null,null,null,null,null,null,null,null,null,null,null,null,null,null,null,null,null,null,null,null,null,null,null,null,null,null,null,null,null,null,null,null,null,null,null,null,null,null,null,"DISTRITO SANTA MARIA",0.91,0.09,null,null,null,null,null,null,null,null,null,null,null,null,null,null,null,null,null,null,null,null,null,null,null,null,null,null,null,null,null,null,null,null,null,null,null,null,null,null,null,null,null,null,null,null,"DISTRITO SANTA MARIA",null,{"$f":"+BE116/$BD$116","v":3.6924633282751647E-2},3.606694376635658E-2,3.6022959688592732E-2,3.6484792505113148E-2,3.166853598997163E-2,3.1184711134569287E-2,3.3977700072573731E-2,3.5737063183127707E-2,3.4307580655802597E-2,3.5956983571946953E-2,3.4659453277913393E-2,4.5941369224340792E-2,3.296606628400519E-2,4.0531327659387301E-2,3.3801763761518333E-2,3.6616744738404698E-2,3.2768137934067867E-2,3.5187262211079588E-2,3.083283851245849E-2,3.4439532889094147E-2,2.8435706274328693E-2,3.1800488223263181E-2,2.5906621802907346E-2,2.7556024719051702E-2,2.258582393173671E-2,2.4543115392228015E-2,1.7593631105539794E-2,1.9265026060566074E-2,1.6999846055727828E-2,1.9045105671746828E-2,1.3371159640210245E-2,1.3591080029029491E-2,8.7748235138879731E-3,8.0270941919025306E-3,null,"DISTRITO SANTA MARIA",null,{"$f":"+BE116/$BD$116","v":3.6924633282751647E-2},{"$f":"+BF116/$BD$116","v":3.606694376635658E-2},3.6022959688592732E-2,3.6484792505113148E-2,3.166853598997163E-2,3.1184711134569287E-2,3.3977700072573731E-2,3.5737063183127707E-2,3.4307580655802597E-2,3.5956983571946953E-2,3.4659453277913393E-2,4.5941369224340792E-2,3.296606628400519E-2,4.0531327659387301E-2,3.3801763761518333E-2,3.6616744738404698E-2,3.2768137934067867E-2,3.5187262211079588E-2,3.083283851245849E-2,3.4439532889094147E-2,2.8435706274328693E-2,3.1800488223263181E-2,2.5906621802907346E-2,2.7556024719051702E-2,2.258582393173671E-2,2.4543115392228015E-2,1.7593631105539794E-2,1.9265026060566074E-2,1.6999846055727828E-2,1.9045105671746828E-2,1.3371159640210245E-2,1.3591080029029491E-2,8.7748235138879731E-3,8.0270941919025306E-3]
[null,null,null,null,null,null,null,null,null,null,null,null,null,null,null,null,null,null,null,null,null,null,null,null,null,null,null,null,null,null,null,null,null,null,null,null,null,null,null,null,null,null,null,null,"DISTRITO SAYAN",0.63,0.37,null,null,null,null,null,null,null,null,null,null,null,null,null,null,null,null,null,null,null,null,null,null,null,null,null,null,null,null,null,null,null,null,null,null,null,null,null,null,null,null,null,null,null,null,"DISTRITO SAYAN",null,{"$f":"+BE117/$BD$117","v":3.7213186174847514E-2},3.608771420273018E-2,3.605140865524252E-2,3.7975602672088292E-2,3.2602381643915192E-2,3.2965437118791754E-2,3.5906186465291895E-2,4.146093523090328E-2,3.0896020911995354E-2,3.9427824571594543E-2,3.4090909090909088E-2,4.6253267499273887E-2,3.2420853906476907E-2,4.1823990705779843E-2,3.5107464420563464E-2,3.6886436247458611E-2,3.3183270403717685E-2,3.7685158292187049E-2,3.2638687191402845E-2,3.3873075805983151E-2,2.6902410688353182E-2,3.1113854196921288E-2,2.6103688643624747E-2,2.8753993610223641E-2,2.3961661341853034E-2,2.1383967470229449E-2,1.7063607319198374E-2,1.8225384838803368E-2,1.6228579726982283E-2,1.383241359279698E-2,1.2126052860877142E-2,1.1254719721173395E-2,6.6076096427534125E-3,7.0795817600929423E-3,null,"DISTRITO SAYAN",null,{"$f":"+BE117/$BD$117","v":3.7213186174847514E-2},{"$f":"+BF117/$BD$117","v":3.608771420273018E-2},3.605140865524252E-2,3.7975602672088292E-2,3.2602381643915192E-2,3.2965437118791754E-2,3.5906186465291895E-2,4.146093523090328E-2,3.0896020911995354E-2,3.9427824571594543E-2,3.4090909090909088E-2,4.6253267499273887E-2,3.2420853906476907E-2,4.1823990705779843E-2,3.5107464420563464E-2,3.6886436247458611E-2,3.3183270403717685E-2,3.7685158292187049E-2,3.2638687191402845E-2,3.3873075805983151E-2,2.6902410688353182E-2,3.1113854196921288E-2,2.6103688643624747E-2,2.8753993610223641E-2,2.3961661341853034E-2,2.1383967470229449E-2,1.7063607319198374E-2,1.8225384838803368E-2,1.6228579726982283E-2,1.383241359279698E-2,1.2126052860877142E-2,1.1254719721173395E-2,6.6076096427534125E-3,7.0795817600929423E-3]
[null,null,null,null,null,null,null,null,null,null,null,null,null,null,null,null,null,null,null,null,null,null,null,null,null,null,null,null,null,null,null,null,null,null,null,null,null,null,null,null,null,null,null,null,"DISTRITO VEGUETA",0.75,0.25,null,null,null,null,null,null,null,null,null,null,null,null,null,null,null,null,null,null,null,null,null,null,null,null,null,null,null,null,null,null,null,null,null,null,null,null,null,null,null,null,null,null,null,null,"DISTRITO VEGUETA",null,{"$f":"+BE118/$BD$118","v":4.4641691685158594E-2},4.5653308967497717E-2,3.9485706826785018E-2,3.7625636339903408E-2,3.4688682939564022E-2,3.3644432841665579E-2,3.664665187312361E-2,3.7038245659835531E-2,2.930426837227516E-2,3.5765565853021798E-2,3.5471870512987863E-2,4.7970238872209893E-2,3.5537136144106515E-2,4.4511160422921289E-2,3.566766740634382E-2,3.8735152068920503E-2,3.217595614149589E-2,3.5602401775225168E-2,2.8912674585563243E-2,3.2306487403733194E-2,2.561676021407127E-2,2.9532698081190446E-2,2.440934603837619E-2,2.728103380759692E-2,2.0395509724579038E-2,2.2027150502545358E-2,1.5924813992951311E-2,1.6185876517425923E-2,1.4162641952747683E-2,1.3509985641561154E-2,1.1388852630204935E-2,1.0214071270069182E-2,6.5265631118652913E-3,8.256102336509594E-3,null,"DISTRITO VEGUETA",null,{"$f":"+BE118/$BD$118","v":4.4641691685158594E-2},{"$f":"+BF118/$BD$118","v":4.5653308967497717E-2},3.9485706826785018E-2,3.7625636339903408E-2,3.4688682939564022E-2,3.3644432841665579E-2,3.664665187312361E-2,3.7038245659835531E-2,2.930426837227516E-2,3.5765565853021798E-2,3.5471870512987863E-2,4.7970238872209893E-2,3.5537136144106515E-2,4.4511160422921289E-2,3.566766740634382E-2,3.8735152068920503E-2,3.217595614149589E-2,3.5602401775225168E-2,2.8912674585563243E-2,3.2306487403733194E-2,2.561676021407127E-2,2.9532698081190446E-2,2.440934603837619E-2,2.728103380759692E-2,2.0395509724579038E-2,2.2027150502545358E-2,1.5924813992951311E-2,1.6185876517425923E-2,1.4162641952747683E-2,1.3509985641561154E-2,1.1388852630204935E-2,1.0214071270069182E-2,6.5265631118652913E-3,8.256102336509594E-3]
[null,null,null,null,null,null,null,null,null,null,null,null,null,null,null,null,null,null,null,null,null,null,null,null,null,null,null,null,null,null,null,null,null,null,null,null,null,null,null,null,null,null,null,null,"PROVINCIA OYON",null,null,null,null,null,null,null,null,null,null,null,null,null,null,null,null,null,null,null,null,null,null,null,null,null,null,null,null,null,null,null,null,null,null,null,null,null,null,null,null,null,null,null,null,null,null,"PROVINCIA OYON",null,{"$f":"+BE119/$BD$119","v":2.9059928809009743E-2},3.162747271984595E-2,3.6179027834510123E-2,3.5770554939604363E-2,3.9271751181653734E-2,4.0672229678473476E-2,4.3823306296317907E-2,4.5632257688043416E-2,3.2677831592460758E-2,3.5362082044698602E-2,3.1394059637042657E-2,4.0380463324969362E-2,2.9643461516017974E-2,3.7112680165723291E-2,3.2327711968255818E-2,3.4136663359981327E-2,2.9876874598821265E-2,2.8184629748497402E-2,3.1160646554239366E-2,2.9701814786718794E-2,2.9059928809009743E-2,3.1802532531948417E-2,2.6609091439575187E-2,2.7892863394993288E-2,2.5617085837661202E-2,2.3808134445935696E-2,1.8789753165664936E-2,1.948999241407481E-2,1.7389274668845187E-2,1.7505981210246834E-2,1.2721013012779366E-2,1.4880084028709809E-2,8.5195775223201268E-3,1.2487599929976076E-2,null,"PROVINCIA OYON",null,{"$f":"+BE119/$BD$119","v":2.9059928809009743E-2},{"$f":"+BF119/$BD$119","v":3.162747271984595E-2},3.6179027834510123E-2,3.5770554939604363E-2,3.9271751181653734E-2,4.0672229678473476E-2,4.3823306296317907E-2,4.5632257688043416E-2,3.2677831592460758E-2,3.5362082044698602E-2,3.1394059637042657E-2,4.0380463324969362E-2,2.9643461516017974E-2,3.7112680165723291E-2,3.2327711968255818E-2,3.4136663359981327E-2,2.9876874598821265E-2,2.8184629748497402E-2,3.1160646554239366E-2,2.9701814786718794E-2,2.9059928809009743E-2,3.1802532531948417E-2,2.6609091439575187E-2,2.7892863394993288E-2,2.5617085837661202E-2,2.3808134445935696E-2,1.8789753165664936E-2,1.948999241407481E-2,1.7389274668845187E-2,1.7505981210246834E-2,1.2721013012779366E-2,1.4880084028709809E-2,8.5195775223201268E-3,1.2487599929976076E-2]
[null,null,null,null,null,null,null,null,null,null,null,null,null,null,null,null,null,null,null,null,null,null,null,null,null,null,null,null,null,null,null,null,null,null,null,null,null,null,null,null,null,null,null,null,"DISTRITO OYON",0.71,0.28999999999999998,null,null,null,null,null,null,null,null,null,null,null,null,null,null,null,null,null,null,null,null,null,null,null,null,null,null,null,null,null,null,null,null,null,null,null,null,null,null,null,null,null,null,null,null,"DISTRITO OYON",null,{"$f":"+BE120/$BD$120","v":2.199792960662526E-2},2.4327122153209108E-2,4.071773636991028E-2,4.0631469979296064E-2,4.5634920634920632E-2,4.4599723947550032E-2,4.7705314009661832E-2,4.813664596273292E-2,3.4679089026915112E-2,3.8129744651483784E-2,3.4851621808143544E-2,4.2097998619737752E-2,3.2177363699102832E-2,4.1580400276052448E-2,3.4937888198757761E-2,3.6318150448585232E-2,3.088336783988958E-2,2.8899240855762596E-2,3.0969634230503796E-2,3.0020703933747412E-2,2.9934437543133196E-2,3.2522429261559696E-2,2.4844720496894408E-2,2.5017253278122844E-2,2.2429261559696344E-2,2.1135265700483092E-2,1.7080745341614908E-2,1.7167011732229124E-2,1.4751552795031056E-2,1.4492753623188406E-2,9.6618357487922701E-3,1.1732229123533472E-2,4.7446514837819189E-3,9.834368530020704E-3,null,"DISTRITO OYON",null,{"$f":"+BE120/$BD$120","v":2.199792960662526E-2},{"$f":"+BF120/$BD$120","v":2.4327122153209108E-2},4.071773636991028E-2,4.0631469979296064E-2,4.5634920634920632E-2,4.4599723947550032E-2,4.7705314009661832E-2,4.813664596273292E-2,3.4679089026915112E-2,3.8129744651483784E-2,3.4851621808143544E-2,4.2097998619737752E-2,3.2177363699102832E-2,4.1580400276052448E-2,3.4937888198757761E-2,3.6318150448585232E-2,3.088336783988958E-2,2.8899240855762596E-2,3.0969634230503796E-2,3.0020703933747412E-2,2.9934437543133196E-2,3.2522429261559696E-2,2.4844720496894408E-2,2.5017253278122844E-2,2.2429261559696344E-2,2.1135265700483092E-2,1.7080745341614908E-2,1.7167011732229124E-2,1.4751552795031056E-2,1.4492753623188406E-2,9.6618357487922701E-3,1.1732229123533472E-2,4.7446514837819189E-3,9.834368530020704E-3]
[null,null,null,null,null,null,null,null,null,null,null,null,null,null,null,null,null,null,null,null,null,null,null,null,null,null,null,null,null,null,null,null,null,null,null,null,null,null,null,null,null,null,null,null,"DISTRITO ANDAJES",0.6,0.4,null,null,null,null,null,null,null,null,null,null,null,null,null,null,null,null,null,null,null,null,null,null,null,null,null,null,null,null,null,null,null,null,null,null,null,null,null,null,null,null,null,null,null,null,"DISTRITO ANDAJES",null,{"$f":"+BE121/$BD$121","v":2.748414376321353E-2},4.4397463002114168E-2,2.1141649048625793E-2,1.2684989429175475E-2,2.1141649048625793E-2,2.5369978858350951E-2,2.1141649048625793E-2,2.5369978858350951E-2,1.6913319238900635E-2,8.4566596194503175E-3,1.2684989429175475E-2,1.2684989429175475E-2,1.2684989429175475E-2,8.4566596194503175E-3,1.9027484143763214E-2,1.6913319238900635E-2,2.5369978858350951E-2,1.2684989429175475E-2,1.4799154334038054E-2,1.4799154334038054E-2,3.8054968287526428E-2,1.4799154334038054E-2,3.1712473572938688E-2,3.8054968287526428E-2,7.1881606765327691E-2,4.2283298097251586E-2,2.3255813953488372E-2,3.8054968287526428E-2,3.382663847780127E-2,4.0169133192389003E-2,3.382663847780127E-2,4.6511627906976744E-2,4.8625792811839326E-2,4.4397463002114168E-2,null,"DISTRITO ANDAJES",null,{"$f":"+BE121/$BD$121","v":2.748414376321353E-2},{"$f":"+BF121/$BD$121","v":4.4397463002114168E-2},2.1141649048625793E-2,1.2684989429175475E-2,2.1141649048625793E-2,2.5369978858350951E-2,2.1141649048625793E-2,2.5369978858350951E-2,1.6913319238900635E-2,8.4566596194503175E-3,1.2684989429175475E-2,1.2684989429175475E-2,1.2684989429175475E-2,8.4566596194503175E-3,1.9027484143763214E-2,1.6913319238900635E-2,2.5369978858350951E-2,1.2684989429175475E-2,1.4799154334038054E-2,1.4799154334038054E-2,3.8054968287526428E-2,1.4799154334038054E-2,3.1712473572938688E-2,3.8054968287526428E-2,7.1881606765327691E-2,4.2283298097251586E-2,2.3255813953488372E-2,3.8054968287526428E-2,3.382663847780127E-2,4.0169133192389003E-2,3.382663847780127E-2,4.6511627906976744E-2,4.8625792811839326E-2,4.4397463002114168E-2]
[null,null,null,null,null,null,null,null,null,null,null,null,null,null,null,null,null,null,null,null,null,null,null,null,null,null,null,null,null,null,null,null,null,null,null,null,null,null,null,null,null,null,null,null,"DISTRITO CAUJUL",0.45,0.55000000000000004,null,null,null,null,null,null,null,null,null,null,null,null,null,null,null,null,null,null,null,null,null,null,null,null,null,null,null,null,null,null,null,null,null,null,null,null,null,null,null,null,null,null,null,null,"DISTRITO CAUJUL",null,{"$f":"+BE122/$BD$122","v":3.8202247191011236E-2},4.9438202247191011E-2,2.0224719101123594E-2,2.4719101123595506E-2,1.7977528089887642E-2,2.4719101123595506E-2,2.9213483146067417E-2,3.3707865168539325E-2,2.6966292134831461E-2,3.1460674157303373E-2,2.247191011235955E-2,3.5955056179775284E-2,2.4719101123595506E-2,2.4719101123595506E-2,2.4719101123595506E-2,3.3707865168539325E-2,2.247191011235955E-2,2.4719101123595506E-2,4.49438202247191E-2,2.247191011235955E-2,2.0224719101123594E-2,3.1460674157303373E-2,3.1460674157303373E-2,3.8202247191011236E-2,3.5955056179775284E-2,2.9213483146067417E-2,4.0449438202247189E-2,2.0224719101123594E-2,2.6966292134831461E-2,1.5730337078651686E-2,1.7977528089887642E-2,2.247191011235955E-2,2.6966292134831461E-2,2.6966292134831461E-2,null,"DISTRITO CAUJUL",null,{"$f":"+BE122/$BD$122","v":3.8202247191011236E-2},{"$f":"+BF122/$BD$122","v":4.9438202247191011E-2},2.0224719101123594E-2,2.4719101123595506E-2,1.7977528089887642E-2,2.4719101123595506E-2,2.9213483146067417E-2,3.3707865168539325E-2,2.6966292134831461E-2,3.1460674157303373E-2,2.247191011235955E-2,3.5955056179775284E-2,2.4719101123595506E-2,2.4719101123595506E-2,2.4719101123595506E-2,3.3707865168539325E-2,2.247191011235955E-2,2.4719101123595506E-2,4.49438202247191E-2,2.247191011235955E-2,2.0224719101123594E-2,3.1460674157303373E-2,3.1460674157303373E-2,3.8202247191011236E-2,3.5955056179775284E-2,2.9213483146067417E-2,4.0449438202247189E-2,2.0224719101123594E-2,2.6966292134831461E-2,1.5730337078651686E-2,1.7977528089887642E-2,2.247191011235955E-2,2.6966292134831461E-2,2.6966292134831461E-2]
[null,null,null,null,null,null,null,null,null,null,null,null,null,null,null,null,null,null,null,null,null,null,null,null,null,null,null,null,null,null,null,null,null,null,null,null,null,null,null,null,null,null,null,null,"DISTRITO COCHAMARCA",0.28000000000000003,0.72,null,null,null,null,null,null,null,null,null,null,null,null,null,null,null,null,null,null,null,null,null,null,null,null,null,null,null,null,null,null,null,null,null,null,null,null,null,null,null,null,null,null,null,null,"DISTRITO COCHAMARCA",null,{"$f":"+BE123/$BD$123","v":4.1981528127623846E-2},5.0377833753148617E-2,2.4349286314021831E-2,3.190596137699412E-2,2.7707808564231738E-2,4.6179680940386228E-2,5.7094878253568432E-2,5.793450881612091E-2,4.1981528127623846E-2,4.7019311502938706E-2,3.1066330814441646E-2,4.2821158690176324E-2,2.938706968933669E-2,2.938706968933669E-2,2.3509655751469353E-2,2.7707808564231738E-2,2.0151133501259445E-2,2.0990764063811923E-2,3.190596137699412E-2,3.6943744752308987E-2,2.5188916876574308E-2,2.938706968933669E-2,3.190596137699412E-2,2.2670025188916875E-2,1.9311502938706968E-2,2.1830394626364401E-2,1.1754827875734676E-2,1.343408900083963E-2,1.595298068849706E-2,2.2670025188916875E-2,7.556675062972292E-3,1.343408900083963E-2,1.1754827875734676E-2,1.5113350125944584E-2,null,"DISTRITO COCHAMARCA",null,{"$f":"+BE123/$BD$123","v":4.1981528127623846E-2},{"$f":"+BF123/$BD$123","v":5.0377833753148617E-2},2.4349286314021831E-2,3.190596137699412E-2,2.7707808564231738E-2,4.6179680940386228E-2,5.7094878253568432E-2,5.793450881612091E-2,4.1981528127623846E-2,4.7019311502938706E-2,3.1066330814441646E-2,4.2821158690176324E-2,2.938706968933669E-2,2.938706968933669E-2,2.3509655751469353E-2,2.7707808564231738E-2,2.0151133501259445E-2,2.0990764063811923E-2,3.190596137699412E-2,3.6943744752308987E-2,2.5188916876574308E-2,2.938706968933669E-2,3.190596137699412E-2,2.2670025188916875E-2,1.9311502938706968E-2,2.1830394626364401E-2,1.1754827875734676E-2,1.343408900083963E-2,1.595298068849706E-2,2.2670025188916875E-2,7.556675062972292E-3,1.343408900083963E-2,1.1754827875734676E-2,1.5113350125944584E-2]
[null,null,null,null,null,null,null,null,null,null,null,null,null,null,null,null,null,null,null,null,null,null,null,null,null,null,null,null,null,null,null,null,null,null,null,null,null,null,null,null,null,null,null,null,"DISTRITO NAVAN",0.34,0.66,null,null,null,null,null,null,null,null,null,null,null,null,null,null,null,null,null,null,null,null,null,null,null,null,null,null,null,null,null,null,null,null,null,null,null,null,null,null,null,null,null,null,null,null,"DISTRITO NAVAN",null,{"$f":"+BE124/$BD$124","v":3.0712530712530713E-2},3.562653562653563E-2,2.4570024570024569E-2,1.7199017199017199E-2,2.7027027027027029E-2,3.0712530712530713E-2,2.8255528255528257E-2,4.6683046683046681E-2,2.4570024570024569E-2,2.4570024570024569E-2,1.5970515970515971E-2,2.334152334152334E-2,1.4742014742014743E-2,3.1941031941031942E-2,3.8083538083538086E-2,3.0712530712530713E-2,2.4570024570024569E-2,2.8255528255528257E-2,3.562653562653563E-2,3.562653562653563E-2,4.7911547911547912E-2,3.1941031941031942E-2,3.4398034398034398E-2,3.9312039312039311E-2,3.9312039312039311E-2,3.0712530712530713E-2,2.8255528255528257E-2,2.5798525798525797E-2,2.334152334152334E-2,2.8255528255528257E-2,1.7199017199017199E-2,2.0884520884520884E-2,1.8427518427518427E-2,2.2113022113022112E-2,null,"DISTRITO NAVAN",null,{"$f":"+BE124/$BD$124","v":3.0712530712530713E-2},{"$f":"+BF124/$BD$124","v":3.562653562653563E-2},2.4570024570024569E-2,1.7199017199017199E-2,2.7027027027027029E-2,3.0712530712530713E-2,2.8255528255528257E-2,4.6683046683046681E-2,2.4570024570024569E-2,2.4570024570024569E-2,1.5970515970515971E-2,2.334152334152334E-2,1.4742014742014743E-2,3.1941031941031942E-2,3.8083538083538086E-2,3.0712530712530713E-2,2.4570024570024569E-2,2.8255528255528257E-2,3.562653562653563E-2,3.562653562653563E-2,4.7911547911547912E-2,3.1941031941031942E-2,3.4398034398034398E-2,3.9312039312039311E-2,3.9312039312039311E-2,3.0712530712530713E-2,2.8255528255528257E-2,2.5798525798525797E-2,2.334152334152334E-2,2.8255528255528257E-2,1.7199017199017199E-2,2.0884520884520884E-2,1.8427518427518427E-2,2.2113022113022112E-2]
[null,null,null,null,null,null,null,null,null,null,null,null,null,null,null,null,null,null,null,null,null,null,null,null,null,null,null,null,null,null,null,null,null,null,null,null,null,null,null,null,null,null,null,null,"DISTRITO PACHANGARA",0.71,0.28999999999999998,null,null,null,null,null,null,null,null,null,null,null,null,null,null,null,null,null,null,null,null,null,null,null,null,null,null,null,null,null,null,null,null,null,null,null,null,null,null,null,null,null,null,null,null,"DISTRITO PACHANGARA",null,{"$f":"+BE125/$BD$125","v":5.2631578947368418E-2},4.8817696414950422E-2,3.0511060259344011E-2,2.7841342486651412E-2,2.707856598016781E-2,2.9366895499618611E-2,3.2036613272311214E-2,3.4324942791762014E-2,2.593440122044241E-2,2.6697177726926011E-2,2.593440122044241E-2,4.2715484363081618E-2,2.707856598016781E-2,2.9748283752860413E-2,2.6697177726926011E-2,3.1655225019069415E-2,3.3562166285278416E-2,3.1655225019069415E-2,3.0892448512585814E-2,2.707856598016781E-2,2.0976353928299007E-2,3.2799389778794812E-2,2.7841342486651412E-2,3.5850495804729217E-2,2.8222730739893211E-2,3.0129672006102212E-2,2.212051868802441E-2,2.707856598016781E-2,2.3264683447749811E-2,2.1357742181540809E-2,2.2501906941266209E-2,2.0594965675057208E-2,1.0297482837528604E-2,1.1823035850495805E-2,null,"DISTRITO PACHANGARA",null,{"$f":"+BE125/$BD$125","v":5.2631578947368418E-2},{"$f":"+BF125/$BD$125","v":4.8817696414950422E-2},3.0511060259344011E-2,2.7841342486651412E-2,2.707856598016781E-2,2.9366895499618611E-2,3.2036613272311214E-2,3.4324942791762014E-2,2.593440122044241E-2,2.6697177726926011E-2,2.593440122044241E-2,4.2715484363081618E-2,2.707856598016781E-2,2.9748283752860413E-2,2.6697177726926011E-2,3.1655225019069415E-2,3.3562166285278416E-2,3.1655225019069415E-2,3.0892448512585814E-2,2.707856598016781E-2,2.0976353928299007E-2,3.2799389778794812E-2,2.7841342486651412E-2,3.5850495804729217E-2,2.8222730739893211E-2,3.0129672006102212E-2,2.212051868802441E-2,2.707856598016781E-2,2.3264683447749811E-2,2.1357742181540809E-2,2.2501906941266209E-2,2.0594965675057208E-2,1.0297482837528604E-2,1.1823035850495805E-2]
[null,null,null,null,null,null,null,null,null,null,null,null,null,null,null,null,null,null,null,null,null,null,null,null,null,null,null,null,null,null,null,null,null,null,null,null,null,null,null,null,null,null,null,null,"PROVINCIA HUARAL",null,null,null,null,null,null,null,null,null,null,null,null,null,null,null,null,null,null,null,null,null,null,null,null,null,null,null,null,null,null,null,null,null,null,null,null,null,null,null,null,null,null,null,null,null,null,"PROVINCIA HUARAL",null,{"$f":"+BE126/$BD$126","v":2.9682702149437051E-2},2.6612077789150462E-2,2.2517911975435005E-2,2.2517911975435005E-2,2.2517911975435005E-2,2.9682702149437051E-2,2.7635619242579325E-2,3.6847492323439097E-2,2.6612077789150462E-2,3.2753326509723645E-2,2.7635619242579325E-2,3.3776867963152504E-2,3.7871033776867964E-2,3.4800409416581371E-2,3.3776867963152504E-2,3.1729785056294778E-2,2.1494370522006142E-2,3.5823950870010238E-2,3.2753326509723645E-2,3.4800409416581371E-2,2.6612077789150462E-2,3.2753326509723645E-2,3.1729785056294778E-2,3.2753326509723645E-2,3.1729785056294778E-2,3.6847492323439097E-2,2.1494370522006142E-2,2.2517911975435005E-2,2.2517911975435005E-2,2.1494370522006142E-2,2.0470829068577279E-2,1.7400204708290685E-2,1.2282497441146366E-2,2.6612077789150462E-2,null,"PROVINCIA HUARAL",null,{"$f":"+BE126/$BD$126","v":2.9682702149437051E-2},{"$f":"+BF126/$BD$126","v":2.6612077789150462E-2},2.2517911975435005E-2,2.2517911975435005E-2,2.2517911975435005E-2,2.9682702149437051E-2,2.7635619242579325E-2,3.6847492323439097E-2,2.6612077789150462E-2,3.2753326509723645E-2,2.7635619242579325E-2,3.3776867963152504E-2,3.7871033776867964E-2,3.4800409416581371E-2,3.3776867963152504E-2,3.1729785056294778E-2,2.1494370522006142E-2,3.5823950870010238E-2,3.2753326509723645E-2,3.4800409416581371E-2,2.6612077789150462E-2,3.2753326509723645E-2,3.1729785056294778E-2,3.2753326509723645E-2,3.1729785056294778E-2,3.6847492323439097E-2,2.1494370522006142E-2,2.2517911975435005E-2,2.2517911975435005E-2,2.1494370522006142E-2,2.0470829068577279E-2,1.7400204708290685E-2,1.2282497441146366E-2,2.6612077789150462E-2]
[null,null,null,null,null,null,null,null,null,null,null,null,null,null,null,null,null,null,null,null,null,null,null,null,null,null,null,null,null,null,null,null,null,null,null,null,null,null,null,null,null,null,null,null,"IHUARI - ACOTAMA",0.24,0.76,null,null,null,null,null,null,null,null,null,null,null,null,null,null,null,null,null,null,null,null,null,null,null,null,null,null,null,null,null,null,null,null,null,null,null,null,null,null,null,null,null,null,null,null,"IHUARI - ACOTAMA",null,{"$f":"+BE127/$BD$127","v":2.9682702149437051E-2},2.6612077789150462E-2,2.2517911975435005E-2,2.2517911975435005E-2,2.2517911975435005E-2,2.9682702149437051E-2,2.7635619242579325E-2,3.6847492323439097E-2,2.6612077789150462E-2,3.2753326509723645E-2,2.7635619242579325E-2,3.3776867963152504E-2,3.7871033776867964E-2,3.4800409416581371E-2,3.3776867963152504E-2,3.1729785056294778E-2,2.1494370522006142E-2,3.5823950870010238E-2,3.2753326509723645E-2,3.4800409416581371E-2,2.6612077789150462E-2,3.2753326509723645E-2,3.1729785056294778E-2,3.2753326509723645E-2,3.1729785056294778E-2,3.6847492323439097E-2,2.1494370522006142E-2,2.2517911975435005E-2,2.2517911975435005E-2,2.1494370522006142E-2,2.0470829068577279E-2,1.7400204708290685E-2,1.2282497441146366E-2,2.6612077789150462E-2,null,"IHUARI - ACOTAMA",null,{"$f":"+BE127/$BD$127","v":2.9682702149437051E-2},{"$f":"+BF127/$BD$127","v":2.6612077789150462E-2},2.2517911975435005E-2,2.2517911975435005E-2,2.2517911975435005E-2,2.9682702149437051E-2,2.7635619242579325E-2,3.6847492323439097E-2,2.6612077789150462E-2,3.2753326509723645E-2,2.7635619242579325E-2,3.3776867963152504E-2,3.7871033776867964E-2,3.4800409416581371E-2,3.3776867963152504E-2,3.1729785056294778E-2,2.1494370522006142E-2,3.5823950870010238E-2,3.2753326509723645E-2,3.4800409416581371E-2,2.6612077789150462E-2,3.2753326509723645E-2,3.1729785056294778E-2,3.2753326509723645E-2,3.1729785056294778E-2,3.6847492323439097E-2,2.1494370522006142E-2,2.2517911975435005E-2,2.2517911975435005E-2,2.1494370522006142E-2,2.0470829068577279E-2,1.7400204708290685E-2,1.2282497441146366E-2,2.6612077789150462E-2]

{"sheet":"Demografia","index":5,"n_rows":26,"n_cols":14,"rows_kept":26,"cut":false,"hidden":false,"merged":[]}
[]
[null,null,null,null,null,null,"DATOS DEMOGRAFICOS - 2025"]
[null,null,null,null,null,null,"DENSIDAD POBLACIONAL POR DISTRITOS "]
[]
["VINCULOS","DISTRITOS","ALTITUD\n(m.s.n.m.)","LATITUD","LONGITUD","SUPERFICIE\n(Km2)","POBLACION",null,"DENSIDAD\nPOBLACIONAL"]
[null,"HUAURA",null,null,null,4892.5199999999995,{"$f":"+SUM(G7:G18)","v":275280},null,{"$f":"G6/F6","v":56.265482818670137},null,null,null,"XXX","DDD"]
[3,"HUACHO",30,"11º 06' 22''","77º 36' 24''",717.38,{"$f":"+LOOKUP($A$7,NUMERO,TOTAL)","v":53280},null,74.270261228358748,null,null,null,"PACHANGARA",{"$f":"VLOOKUP(M7,$B$7:$I$25,8,FALSE)","v":10.402697877405275}]
[6,"AMBAR",2082,"10º 45' 10''","77º 16' 19''",919.4,{"$f":"+LOOKUP(A8,NUMERO,TOTAL)","v":2841},null,3.0900587339569285,null,null,null,"OYÓN",9.0861854139603935]
[9,"CARQUIN",14,"10º 05' 21''","77º 37' 36''",2.04,9548,null,4680.3921568627447,null,null,null,"CAUJUL",4.218009478672986]
[11,"CHECRAS",3743,"10º 55' 54''","76º 49' 52''",166.37,1022,null,6.1429344232734264,null,null,null,"COCHAMARCA",4.485031067595556]
[13,"HUALMAY",22,"11º 06' 45''","77º 35' 36''",5.81,57016,null,9813.4251290877801,null,null,null,"NAVAN",3.5833773551681634]
[17,"HUAURA",67,"11º 03' 57''","77º 35' 51''",484.43,41495,null,85.657370517928285,null,null,null,"ANDAJES",3.1920637063031445]
[23,"LEONCIO PRADO",3278,"11º 03' 19''","76º 55' 39''",300.13,2490,null,8.2964048912138075,null,"XXX","DDD"]
[28,"PACCHO",3275,"10º 57' 15''","76º 55' 48''",229.25,1707,null,7.4460196292257361,null,"HUALMAY",{"$f":"VLOOKUP(K14,$B$7:$I$25,8,FALSE)","v":9813.4251290877801}]
[33,"SANTA LEONOR",3580,"10º 56' 43''","76º 44' 33''",375.49,1245,null,3.315667527763722,null,"CARQUIN",4680.3921568627447]
[37,"SANTA MARIA",75,"11º 05' 36''","77º 35' 30''",127.51,45471,null,356.60732491569286,null,"SANTA MARIA",356.60732491569286]
[43,"SAYAN",685,"11º 07' 51''","77º 11' 28''",1310.77,{"$f":"+LOOKUP(A17,NUMERO,TOTAL)+Poblacion!F87","v":28521},null,21.758966103893133,null,"VEGUETA",120.67417500196898]
[51,"VEGUETA",12,"11º 01' 15''","77º 38' 27''",253.94,30644,null,120.67417500196898,null,"HUACHO",74.270261228358748]
[null,"OYÓN",null,null,null,1886.05,{"$f":"+SUM(G20:G25)","v":17137},null,9.0861854139603935,null,"HUAURA",85.657370517928285]
[59,"OYÓN",3620,"10º 40' 00''","76º 46' 15''",887.61,{"$f":"+LOOKUP(A20,NUMERO,TOTAL)","v":11592},null,13.059789772535234,null,"SAYAN",21.758966103893133]
[66,"ANDAJES",3487,"10º 47' 21''","76º 54' 25''",148.18,473,null,3.1920637063031445,null,"LEONCIO PRADO",8.2964048912138075]
[68,"CAUJUL",3175,"10º 48' 09''","76º 58' 35''",105.5,445,null,4.218009478672986,null,"PACCHO",7.4460196292257361]
[70,"COCHAMARCA",2350,"10º 51' 35''","77º 07' 36''",265.55,1191,null,4.485031067595556,null,"CHECRAS",6.1429344232734264]
[74,"NAVAN",3100,"10º 50' 03''","77º 00' 39''",227.16,814,null,3.5833773551681634,null,"SANTA LEONOR",3.315667527763722]
[76,"PACHANGARA",2265,"10º 48' 25''","76º 52' 30''",252.05,2622,null,10.402697877405275,null,"AMBAR",3.0900587339569285]
[null,{"$f":"'Etapas de Vida'!$C$34","v":"Elaboración: Área de Estadística - RIS Huaura Oyón."}]

{"sheet":"Pobla_EESS","index":6,"n_rows":61,"n_cols":16,"rows_kept":61,"cut":false,"hidden":false,"merged":[[32,3,32,5],[37,3,37,8],[37,10,37,15],[9,4,13,4],[9,11,11,11],[12,11,16,11],[16,3,16,5],[19,10,19,12],[52,11,55,11],[56,11,58,11],[59,10,59,12],[1,3,4,10],[7,3,7,8],[7,10,7,15],[15,3,15,4],[25,4,29,4],[25,11,30,11],[30,4,31,4],[23,3,23,8],[23,10,23,15],[31,10,31,12],[39,4,45,4],[39,11,41,11],[42,11,47,11]]}
[]
[null,null,null,"POBLACIÓN SEGÚN DISTRITOS Y EE.SS - 2025"]
[]
[]
[]
[]
[]
[null,null,null,"SIN MICRORED",null,null,null,null,null,null,"MICRORED HUALMAY"]
[null,null,null,"DISTRITO","POBLACIÓN","EE.SS","POBLACIÓN","MASCULINO","FEMENINO",null,"DISTRITO","POBLACIÓN","EE.SS","POBLACIÓN","MASCULINO","FEMENINO"]
[null,null,null,"HUACHO",{"$f":"G10","v":0},"HOSPITAL REGIONAL HUACHO",{"$f":"Poblacion!F11","v":0},{"$f":"Poblacion!H11","v":0},{"$f":"Poblacion!I11","v":0},null,"HUALMAY",{"$f":"SUM(N10:N12)","v":57016},"C.S. HUALMAY",{"$f":"VLOOKUP(M10,Poblacion!$E$5:$I$88,2,FALSE)","v":31021},{"$f":"VLOOKUP(M10,Poblacion!$E$5:$I$88,4,FALSE)","v":15027},{"$f":"VLOOKUP(M10,Poblacion!$E$5:$I$88,5,FALSE)","v":15994}]
[null,null,null,"HUACHO",null,"CLINICA SAN PEDRO",0,null,null,null,"HUALMAY",null,"P.S. DGO. MANDAMIENTO",{"$f":"VLOOKUP(M11,Poblacion!$E$5:$I$88,2,FALSE)","v":20884},{"$f":"VLOOKUP(M11,Poblacion!$E$5:$I$88,4,FALSE)","v":10127},{"$f":"VLOOKUP(M11,Poblacion!$E$5:$I$88,5,FALSE)","v":10757}]
[null,null,null,"HUACHO",null,"ESSALUD GUSTAVO LA NATA",0,null,null,null,"HUALMAY",null,"P.S. CAMPO ALEGRE",{"$f":"VLOOKUP(M12,Poblacion!$E$5:$I$88,2,FALSE)","v":5111},{"$f":"VLOOKUP(M12,Poblacion!$E$5:$I$88,4,FALSE)","v":2469},{"$f":"VLOOKUP(M12,Poblacion!$E$5:$I$88,5,FALSE)","v":2642}]
[null,null,null,"HUACHO",null,"CLINICA SAN BARTOLOME",0,null,null,null,"S.MARIA",{"$f":"SUM(N13:N17)","v":45471},"C.S. SANTA MARIA",{"$f":"VLOOKUP(M13,Poblacion!$E$5:$I$88,2,FALSE)","v":12730},{"$f":"VLOOKUP(M13,Poblacion!$E$5:$I$88,4,FALSE)","v":6109},{"$f":"VLOOKUP(M13,Poblacion!$E$5:$I$88,5,FALSE)","v":6621}]
[null,null,null,"HUACHO",null,"GOLD ESTANDAR EIRL.",0,null,null,null,"S.MARIA",null,"P.S. CHONTA",{"$f":"VLOOKUP(M14,Poblacion!$E$5:$I$88,2,FALSE)","v":6820},{"$f":"VLOOKUP(M14,Poblacion!$E$5:$I$88,4,FALSE)","v":3275},{"$f":"VLOOKUP(M14,Poblacion!$E$5:$I$88,5,FALSE)","v":3545}]
[null,null,null,"CARQUIN",null,"INSITUTO NACIONAL PENITENCIARIO CARQUIN",0,null,null,null,"S.MARIA",null,"P.S. ZAPATA",{"$f":"VLOOKUP(M15,Poblacion!$E$5:$I$88,2,FALSE)","v":4098},{"$f":"VLOOKUP(M15,Poblacion!$E$5:$I$88,4,FALSE)","v":1967},{"$f":"VLOOKUP(M15,Poblacion!$E$5:$I$88,5,FALSE)","v":2131}]
[null,null,null,null,null,"OTROS ESTABLECIMIENTOS",0,null,null,null,"S.MARIA",null,"P.S. SAN BARTOLOME",{"$f":"VLOOKUP(M16,Poblacion!$E$5:$I$88,2,FALSE)","v":8185},{"$f":"VLOOKUP(M16,Poblacion!$E$5:$I$88,4,FALSE)","v":3926},{"$f":"VLOOKUP(M16,Poblacion!$E$5:$I$88,5,FALSE)","v":4259}]
[null,null,null,"TOTAL SIN MICRORED",null,null,{"$f":"SUM(G10:G16)","v":0},{"$f":"SUM(H10:H16)","v":0},0,null,"S.MARIA",null,"P.S. 1RO DE MAYO",{"$f":"VLOOKUP(M17,Poblacion!$E$5:$I$88,2,FALSE)","v":13638},{"$f":"VLOOKUP(M17,Poblacion!$E$5:$I$88,4,FALSE)","v":6545},{"$f":"VLOOKUP(M17,Poblacion!$E$5:$I$88,5,FALSE)","v":7093}]
[null,null,null,{"$f":"Demografia!$B$26","v":"Elaboración: Área de Estadística - RIS Huaura Oyón."},null,null,null,null,null,null,"CARQUIN",{"$f":"N18","v":9548},"P.S. CARQUIN",{"$f":"VLOOKUP(M18,Poblacion!$E$5:$I$88,2,FALSE)","v":9548},{"$f":"VLOOKUP(M18,Poblacion!$E$5:$I$88,4,FALSE)","v":4567},{"$f":"VLOOKUP(M18,Poblacion!$E$5:$I$88,5,FALSE)","v":4981}]
[null,null,null,null,null,null,null,null,null,null,"HUACHO",{"$f":"N19","v":53280},"C.S. MANZANARES",{"$f":"VLOOKUP(M19,Poblacion!$E$5:$I$88,2,FALSE)","v":53280},{"$f":"VLOOKUP(M19,Poblacion!$E$5:$I$88,4,FALSE)","v":25923},{"$f":"VLOOKUP(M19,Poblacion!$E$5:$I$88,5,FALSE)","v":27357}]
[null,null,null,null,null,null,null,null,null,null,"TOTAL MCR HUALMAY",null,"TOTAL MICRORED HUALMAY",{"$f":"SUM(N10:N19)","v":165315},{"$f":"SUM(O10:O19)","v":79935},85380]
[null,null,null,null,null,null,null,null,null,null,{"$f":"D34","v":"Elaboración: Área de Estadística - RIS Huaura Oyón."}]
[]
[]
[null,null,null,"MICRORED HUAURA",null,null,null,null,null,null,"MICRORED VEGUETA"]
[null,null,null,"DISTRITO","POBLACIÓN","EE.SS","POBLACIÓN","MASCULINO","FEMENINO",null,"DISTRITO","POBLACIÓN","EE.SS","POBLACIÓN","MASCULINO","FEMENINO"]
[null,null,null,"HUAURA",{"$f":"SUM(G26:G30)","v":41495},"C.S. HUAURA",{"$f":"VLOOKUP(F26,Poblacion!$E$5:$I$88,2,FALSE)","v":18665},{"$f":"VLOOKUP(F26,Poblacion!$E$5:$I$88,4,FALSE)","v":8849},{"$f":"VLOOKUP(F26,Poblacion!$E$5:$I$88,5,FALSE)","v":9816},null,"VEGUETA",{"$f":"SUM(N26:N31)","v":30644},"C.S. VEGUETA",{"$f":"VLOOKUP(M26,Poblacion!$E$5:$I$88,2,FALSE)","v":8274},{"$f":"VLOOKUP(M26,Poblacion!$E$5:$I$88,4,FALSE)","v":3946},{"$f":"VLOOKUP(M26,Poblacion!$E$5:$I$88,5,FALSE)","v":4328}]
[null,null,null,"HUAURA",null,"P.S. EL SOCORRO",{"$f":"VLOOKUP(F27,Poblacion!$E$5:$I$88,2,FALSE)","v":15355},{"$f":"VLOOKUP(F27,Poblacion!$E$5:$I$88,4,FALSE)","v":7282},{"$f":"VLOOKUP(F27,Poblacion!$E$5:$I$88,5,FALSE)","v":8073},null,"VEGUETA",null,"P.S. MAZO",{"$f":"VLOOKUP(M27,Poblacion!$E$5:$I$88,2,FALSE)","v":1992},{"$f":"VLOOKUP(M27,Poblacion!$E$5:$I$88,4,FALSE)","v":951},{"$f":"VLOOKUP(M27,Poblacion!$E$5:$I$88,5,FALSE)","v":1041}]
[null,null,null,"HUAURA",null,"P.S. HUMAYA",{"$f":"VLOOKUP(F28,Poblacion!$E$5:$I$88,2,FALSE)","v":3738},{"$f":"VLOOKUP(F28,Poblacion!$E$5:$I$88,4,FALSE)","v":1772},{"$f":"VLOOKUP(F28,Poblacion!$E$5:$I$88,5,FALSE)","v":1966},null,"VEGUETA",null,"P.S. PRIMAVERA",{"$f":"VLOOKUP(M28,Poblacion!$E$5:$I$88,2,FALSE)","v":7354},{"$f":"VLOOKUP(M28,Poblacion!$E$5:$I$88,4,FALSE)","v":3511},{"$f":"VLOOKUP(M28,Poblacion!$E$5:$I$88,5,FALSE)","v":3843}]
[null,null,null,"HUAURA",null,"P.S. VILCAHUAURA",{"$f":"VLOOKUP(F29,Poblacion!$E$5:$I$88,2,FALSE)","v":3315},{"$f":"VLOOKUP(F29,Poblacion!$E$5:$I$88,4,FALSE)","v":1571},{"$f":"VLOOKUP(F29,Poblacion!$E$5:$I$88,5,FALSE)","v":1744},null,"VEGUETA",null,"P.S. MARIATEGUI",{"$f":"VLOOKUP(M29,Poblacion!$E$5:$I$88,2,FALSE)","v":10113},{"$f":"VLOOKUP(M29,Poblacion!$E$5:$I$88,4,FALSE)","v":4823},{"$f":"VLOOKUP(M29,Poblacion!$E$5:$I$88,5,FALSE)","v":5290}]
[null,null,null,"HUAURA",null,"P.S. PEÑICO",{"$f":"VLOOKUP(F30,Poblacion!$E$5:$I$88,2,FALSE)","v":422},{"$f":"VLOOKUP(F30,Poblacion!$E$5:$I$88,4,FALSE)","v":200},{"$f":"VLOOKUP(F30,Poblacion!$E$5:$I$88,5,FALSE)","v":222},null,"VEGUETA",null,"P.S. MEDIO MUNDO",{"$f":"VLOOKUP(M30,Poblacion!$E$5:$I$88,2,FALSE)","v":2758},{"$f":"VLOOKUP(M30,Poblacion!$E$5:$I$88,4,FALSE)","v":1317},{"$f":"VLOOKUP(M30,Poblacion!$E$5:$I$88,5,FALSE)","v":1441}]
[null,null,null,"AMBAR",{"$f":"SUM(G31:G32)","v":2841},"C.S. AMBAR",{"$f":"VLOOKUP(F31,Poblacion!$E$5:$I$88,2,FALSE)","v":1787},{"$f":"VLOOKUP(F31,Poblacion!$E$5:$I$88,4,FALSE)","v":838},{"$f":"VLOOKUP(F31,Poblacion!$E$5:$I$88,5,FALSE)","v":949},null,"VEGUETA",null,"P.S. TIROLER",{"$f":"VLOOKUP(M31,Poblacion!$E$5:$I$88,2,FALSE)","v":153},{"$f":"VLOOKUP(M31,Poblacion!$E$5:$I$88,4,FALSE)","v":74},{"$f":"VLOOKUP(M31,Poblacion!$E$5:$I$88,5,FALSE)","v":79}]
[null,null,null,"AMBAR",null,"P.S. AYNACA",{"$f":"VLOOKUP(F32,Poblacion!$E$5:$I$88,2,FALSE)","v":1054},{"$f":"VLOOKUP(F32,Poblacion!$E$5:$I$88,4,FALSE)","v":498},{"$f":"VLOOKUP(F32,Poblacion!$E$5:$I$88,5,FALSE)","v":556},null,"TOTAL MCR VEGUETA",null,"TOTAL MICRORED HUAURA ",{"$f":"SUM(N26:N31)","v":30644},{"$f":"SUM(O26:O31)","v":14622},{"$f":"SUM(P26:P31)","v":16022}]
[null,null,null,"TOTAL MCR HUAURA",null,"TOTAL MICRORED HUAURA ",{"$f":"SUM(G26:G32)","v":44336},{"$f":"SUM(H26:H32)","v":21010},{"$f":"SUM(I26:I32)","v":23326},null,{"$f":"D34","v":"Elaboración: Área de Estadística - RIS Huaura Oyón."}]
[null,null,null,{"$f":"D18","v":"Elaboración: Área de Estadística - RIS Huaura Oyón."}]
[]
[]
[]
[null,null,null,"MICRORED SAYAN",null,null,null,null,null,null,"MICRORED CHURIN OYÓN"]
[null,null,null,"DISTRITO","POBLACIÓN","EE.SS","POBLACIÓN","MASCULINO","FEMENINO",null,"DISTRITO","POBLACIÓN","EE.SS","POBLACIÓN","MASCULINO","FEMENINO"]
[null,null,null,"SAYAN",{"$f":"SUM(G40:G46)","v":27544},"C.S. SAYAN",{"$f":"VLOOKUP(F40,Poblacion!$E$5:$I$88,2,FALSE)","v":8529},{"$f":"VLOOKUP(F40,Poblacion!$E$5:$I$88,4,FALSE)","v":4069},{"$f":"VLOOKUP(F40,Poblacion!$E$5:$I$88,5,FALSE)","v":4460},null,"PACHANGARA",{"$f":"SUM(N40:N42)","v":2622},"C.S. CHURIN",{"$f":"VLOOKUP(M40,Poblacion!$E$5:$I$88,2,FALSE)","v":1750},{"$f":"VLOOKUP(M40,Poblacion!$E$5:$I$88,4,FALSE)","v":839},{"$f":"VLOOKUP(M40,Poblacion!$E$5:$I$88,5,FALSE)","v":911}]
[null,null,null,"SAYAN",null,"P.S. 9 DE OCTUBRE",{"$f":"VLOOKUP(F41,Poblacion!$E$5:$I$88,2,FALSE)","v":7434},{"$f":"VLOOKUP(F41,Poblacion!$E$5:$I$88,4,FALSE)","v":3547},{"$f":"VLOOKUP(F41,Poblacion!$E$5:$I$88,5,FALSE)","v":3887},null,"PACHANGARA",null,"P.S. PACHANGARA",{"$f":"VLOOKUP(M41,Poblacion!$E$5:$I$88,2,FALSE)","v":396},{"$f":"VLOOKUP(M41,Poblacion!$E$5:$I$88,4,FALSE)","v":190},{"$f":"VLOOKUP(M41,Poblacion!$E$5:$I$88,5,FALSE)","v":206}]
[null,null,null,"SAYAN",null,"P.S. CHAMBARA",{"$f":"VLOOKUP(F42,Poblacion!$E$5:$I$88,2,FALSE)","v":835},{"$f":"VLOOKUP(F42,Poblacion!$E$5:$I$88,4,FALSE)","v":398},{"$f":"VLOOKUP(F42,Poblacion!$E$5:$I$88,5,FALSE)","v":437},null,"PACHANGARA",null,"P.S. HUANCAHUASI",{"$f":"VLOOKUP(M42,Poblacion!$E$5:$I$88,2,FALSE)","v":476},{"$f":"VLOOKUP(M42,Poblacion!$E$5:$I$88,4,FALSE)","v":227},{"$f":"VLOOKUP(M42,Poblacion!$E$5:$I$88,5,FALSE)","v":249}]
[null,null,null,"SAYAN",null,"P.S. LA MERCED",{"$f":"VLOOKUP(F43,Poblacion!$E$5:$I$88,2,FALSE)","v":1112},{"$f":"VLOOKUP(F43,Poblacion!$E$5:$I$88,4,FALSE)","v":529},{"$f":"VLOOKUP(F43,Poblacion!$E$5:$I$88,5,FALSE)","v":583},null,"OYON",{"$f":"SUM(N43:N48)","v":11592},"C.S. OYON",{"$f":"VLOOKUP(M43,Poblacion!$E$5:$I$88,2,FALSE)","v":9712},{"$f":"VLOOKUP(M43,Poblacion!$E$5:$I$88,4,FALSE)","v":4699},{"$f":"VLOOKUP(M43,Poblacion!$E$5:$I$88,5,FALSE)","v":5013}]
[null,null,null,"SAYAN",null,"P.S. LA VILLA",{"$f":"VLOOKUP(F44,Poblacion!$E$5:$I$88,2,FALSE)","v":7974},{"$f":"VLOOKUP(F44,Poblacion!$E$5:$I$88,4,FALSE)","v":3803},{"$f":"VLOOKUP(F44,Poblacion!$E$5:$I$88,5,FALSE)","v":4171},null,"OYON",null,"P.S. MALLAY",{"$f":"VLOOKUP(M44,Poblacion!$E$5:$I$88,2,FALSE)","v":574},{"$f":"VLOOKUP(M44,Poblacion!$E$5:$I$88,4,FALSE)","v":277},{"$f":"VLOOKUP(M44,Poblacion!$E$5:$I$88,5,FALSE)","v":297}]
[null,null,null,"SAYAN",null,"P.S. EL AHORCADO",{"$f":"VLOOKUP(F45,Poblacion!$E$5:$I$88,2,FALSE)","v":833},{"$f":"VLOOKUP(F45,Poblacion!$E$5:$I$88,4,FALSE)","v":397},{"$f":"VLOOKUP(F45,Poblacion!$E$5:$I$88,5,FALSE)","v":436},null,"OYON",null,"P.S. NAVA",{"$f":"VLOOKUP(M45,Poblacion!$E$5:$I$88,2,FALSE)","v":148},{"$f":"VLOOKUP(M45,Poblacion!$E$5:$I$88,4,FALSE)","v":72},{"$f":"VLOOKUP(M45,Poblacion!$E$5:$I$88,5,FALSE)","v":76}]
[null,null,null,"SAYAN",null,"P.S. LA UNION",{"$f":"VLOOKUP(F46,Poblacion!$E$5:$I$88,2,FALSE)","v":827},{"$f":"VLOOKUP(F46,Poblacion!$E$5:$I$88,4,FALSE)","v":395},{"$f":"VLOOKUP(F46,Poblacion!$E$5:$I$88,5,FALSE)","v":432},null,"OYON",null,"P.S. TINTA",{"$f":"VLOOKUP(M46,Poblacion!$E$5:$I$88,2,FALSE)","v":309},{"$f":"VLOOKUP(M46,Poblacion!$E$5:$I$88,4,FALSE)","v":150},{"$f":"VLOOKUP(M46,Poblacion!$E$5:$I$88,5,FALSE)","v":159}]
[null,null,null,"L.PRADO",{"$f":"SUM(G47:G50)","v":2490},"P.S. AUQUIMARCA",{"$f":"VLOOKUP(F47,Poblacion!$E$5:$I$88,2,FALSE)","v":138},{"$f":"VLOOKUP(F47,Poblacion!$E$5:$I$88,4,FALSE)","v":62},{"$f":"VLOOKUP(F47,Poblacion!$E$5:$I$88,5,FALSE)","v":76},null,"OYON",null,"P.S. RAPAZ",{"$f":"VLOOKUP(M47,Poblacion!$E$5:$I$88,2,FALSE)","v":745},{"$f":"VLOOKUP(M47,Poblacion!$E$5:$I$88,4,FALSE)","v":360},{"$f":"VLOOKUP(M47,Poblacion!$E$5:$I$88,5,FALSE)","v":385}]
[null,null,null,"L.PRADO",null,"P.S. PARAN",{"$f":"VLOOKUP(F48,Poblacion!$E$5:$I$88,2,FALSE)","v":867},{"$f":"VLOOKUP(F48,Poblacion!$E$5:$I$88,4,FALSE)","v":383},{"$f":"VLOOKUP(F48,Poblacion!$E$5:$I$88,5,FALSE)","v":484},null,"OYON",null,"P.S. QUICHAS",{"$f":"VLOOKUP(M48,Poblacion!$E$5:$I$88,2,FALSE)","v":104},{"$f":"VLOOKUP(M48,Poblacion!$E$5:$I$88,4,FALSE)","v":51},{"$f":"VLOOKUP(M48,Poblacion!$E$5:$I$88,5,FALSE)","v":53}]
[null,null,null,"L.PRADO",null,"P.S. SANTA CRUZ",{"$f":"VLOOKUP(F49,Poblacion!$E$5:$I$88,2,FALSE)","v":499},{"$f":"VLOOKUP(F49,Poblacion!$E$5:$I$88,4,FALSE)","v":224},{"$f":"VLOOKUP(F49,Poblacion!$E$5:$I$88,5,FALSE)","v":275},null,"ANDAJES",{"$f":"SUM(N49)","v":473},"P.S. ANDAJES",{"$f":"VLOOKUP(M49,Poblacion!$E$5:$I$88,2,FALSE)","v":473},{"$f":"VLOOKUP(M49,Poblacion!$E$5:$I$88,4,FALSE)","v":241},{"$f":"VLOOKUP(M49,Poblacion!$E$5:$I$88,5,FALSE)","v":232}]
[null,null,null,"L.PRADO",null,"P.S. HUANANGUI",{"$f":"VLOOKUP(F50,Poblacion!$E$5:$I$88,2,FALSE)","v":986},{"$f":"VLOOKUP(F50,Poblacion!$E$5:$I$88,4,FALSE)","v":434},{"$f":"VLOOKUP(F50,Poblacion!$E$5:$I$88,5,FALSE)","v":552},null,"CAUJUL",{"$f":"SUM(N50)","v":445},"P.S. CAUJUL",{"$f":"VLOOKUP(M50,Poblacion!$E$5:$I$88,2,FALSE)","v":445},{"$f":"VLOOKUP(M50,Poblacion!$E$5:$I$88,4,FALSE)","v":215},{"$f":"VLOOKUP(M50,Poblacion!$E$5:$I$88,5,FALSE)","v":230}]
[null,null,null,"COCHAMARCA",{"$f":"SUM(G51:G53)","v":1191},"P.S. COCHAMARCA",{"$f":"VLOOKUP(F51,Poblacion!$E$5:$I$88,2,FALSE)","v":507},{"$f":"VLOOKUP(F51,Poblacion!$E$5:$I$88,4,FALSE)","v":234},{"$f":"VLOOKUP(F51,Poblacion!$E$5:$I$88,5,FALSE)","v":273},null,"NAVAN",814,"P.S. NAVAN",{"$f":"VLOOKUP(M51,Poblacion!$E$5:$I$88,2,FALSE)","v":814},{"$f":"VLOOKUP(M51,Poblacion!$E$5:$I$88,4,FALSE)","v":394},{"$f":"VLOOKUP(M51,Poblacion!$E$5:$I$88,5,FALSE)","v":420}]
[null,null,null,"COCHAMARCA",null,"P.S. COLCAPAMPA",{"$f":"VLOOKUP(F52,Poblacion!$E$5:$I$88,2,FALSE)","v":570},{"$f":"VLOOKUP(F52,Poblacion!$E$5:$I$88,4,FALSE)","v":262},{"$f":"VLOOKUP(F52,Poblacion!$E$5:$I$88,5,FALSE)","v":308},null,"CHECRAS",1022,"P.S. PUÑUN",{"$f":"VLOOKUP(M52,Poblacion!$E$5:$I$88,2,FALSE)","v":1022},{"$f":"VLOOKUP(M52,Poblacion!$E$5:$I$88,4,FALSE)","v":492},{"$f":"VLOOKUP(M52,Poblacion!$E$5:$I$88,5,FALSE)","v":530}]
[null,null,null,"COCHAMARCA",null,"P.S. YARUCAYA",{"$f":"VLOOKUP(F53,Poblacion!$E$5:$I$88,2,FALSE)","v":114},{"$f":"VLOOKUP(F53,Poblacion!$E$5:$I$88,4,FALSE)","v":54},{"$f":"VLOOKUP(F53,Poblacion!$E$5:$I$88,5,FALSE)","v":60},null,"PACCHO",{"$f":"SUM(N53:N56)","v":1707},"P.S. PACCHO",{"$f":"VLOOKUP(M53,Poblacion!$E$5:$I$88,2,FALSE)","v":671},{"$f":"VLOOKUP(M53,Poblacion!$E$5:$I$88,4,FALSE)","v":322},{"$f":"VLOOKUP(M53,Poblacion!$E$5:$I$88,5,FALSE)","v":349}]
[null,null,null,"IHUARI - ACOTAMA",{"$f":"G54","v":977},"P.S. ACOTAMA",{"$f":"Poblacion!$F$88","v":977},{"$f":"Poblacion!$H$88","v":459},{"$f":"Poblacion!$I$88","v":518},null,"PACCHO",null,"P.S. LACSANGA",{"$f":"VLOOKUP(M54,Poblacion!$E$5:$I$88,2,FALSE)","v":515},{"$f":"VLOOKUP(M54,Poblacion!$E$5:$I$88,4,FALSE)","v":248},{"$f":"VLOOKUP(M54,Poblacion!$E$5:$I$88,5,FALSE)","v":267}]
[null,null,null,"TOTAL MICRORED SAYAN",null,null,{"$f":"SUM(G40:G54)","v":32202},{"$f":"SUM(H40:H54)","v":15250},{"$f":"SUM(I40:I54)","v":16952},null,"PACCHO",null,"P.S. MUZGA",{"$f":"VLOOKUP(M55,Poblacion!$E$5:$I$88,2,FALSE)","v":260},{"$f":"VLOOKUP(M55,Poblacion!$E$5:$I$88,4,FALSE)","v":124},{"$f":"VLOOKUP(M55,Poblacion!$E$5:$I$88,5,FALSE)","v":136}]
[null,null,null,{"$f":"D34","v":"Elaboración: Área de Estadística - RIS Huaura Oyón."},null,null,null,null,null,null,"PACCHO",null,"P.S. AYARANGA",{"$f":"VLOOKUP(M56,Poblacion!$E$5:$I$88,2,FALSE)","v":261},{"$f":"VLOOKUP(M56,Poblacion!$E$5:$I$88,4,FALSE)","v":125},{"$f":"VLOOKUP(M56,Poblacion!$E$5:$I$88,5,FALSE)","v":136}]
[null,null,null,null,null,null,null,null,null,null,"S.LEONOR",{"$f":"SUM(N57:N59)","v":1245},"P.S. CHIUCHIN",{"$f":"VLOOKUP(M57,Poblacion!$E$5:$I$88,2,FALSE)","v":812},{"$f":"VLOOKUP(M57,Poblacion!$E$5:$I$88,4,FALSE)","v":384},{"$f":"VLOOKUP(M57,Poblacion!$E$5:$I$88,5,FALSE)","v":428}]
[null,null,null,null,null,null,null,null,null,null,"S.LEONOR",null,"P.S. PARQUIN",{"$f":"VLOOKUP(M58,Poblacion!$E$5:$I$88,2,FALSE)","v":249},{"$f":"VLOOKUP(M58,Poblacion!$E$5:$I$88,4,FALSE)","v":118},{"$f":"VLOOKUP(M58,Poblacion!$E$5:$I$88,5,FALSE)","v":131}]
[null,null,null,null,null,null,null,null,null,null,"S.LEONOR",null,"P.S. JUCUL",{"$f":"VLOOKUP(M59,Poblacion!$E$5:$I$88,2,FALSE)","v":184},{"$f":"VLOOKUP(M59,Poblacion!$E$5:$I$88,4,FALSE)","v":85},{"$f":"VLOOKUP(M59,Poblacion!$E$5:$I$88,5,FALSE)","v":99}]
[null,null,null,null,null,null,null,null,null,null,"TOTAL MICRORED CHURIN - OYON",null,null,{"$f":"SUM(N40:N59)","v":19920},{"$f":"SUM(O40:O59)","v":9613},{"$f":"SUM(P40:P59)","v":10307}]
[null,null,null,null,null,null,null,null,null,null,{"$f":"K33","v":"Elaboración: Área de Estadística - RIS Huaura Oyón."}]